BEGIN:VCALENDAR
VERSION:2.0
PRODID:-//Pierce County Republican Party - ECPv6.15.20//NONSGML v1.0//EN
CALSCALE:GREGORIAN
METHOD:PUBLISH
X-WR-CALNAME:Pierce County Republican Party
X-ORIGINAL-URL:https://piercegop.org
X-WR-CALDESC:Events for Pierce County Republican Party
REFRESH-INTERVAL;VALUE=DURATION:PT1H
X-Robots-Tag:noindex
X-PUBLISHED-TTL:PT1H
BEGIN:VTIMEZONE
TZID:America/Los_Angeles
BEGIN:DAYLIGHT
TZOFFSETFROM:-0800
TZOFFSETTO:-0700
TZNAME:PDT
DTSTART:20230312T100000
END:DAYLIGHT
BEGIN:STANDARD
TZOFFSETFROM:-0700
TZOFFSETTO:-0800
TZNAME:PST
DTSTART:20231105T090000
END:STANDARD
BEGIN:DAYLIGHT
TZOFFSETFROM:-0800
TZOFFSETTO:-0700
TZNAME:PDT
DTSTART:20240310T100000
END:DAYLIGHT
BEGIN:STANDARD
TZOFFSETFROM:-0700
TZOFFSETTO:-0800
TZNAME:PST
DTSTART:20241103T090000
END:STANDARD
BEGIN:DAYLIGHT
TZOFFSETFROM:-0800
TZOFFSETTO:-0700
TZNAME:PDT
DTSTART:20250309T100000
END:DAYLIGHT
BEGIN:STANDARD
TZOFFSETFROM:-0700
TZOFFSETTO:-0800
TZNAME:PST
DTSTART:20251102T090000
END:STANDARD
END:VTIMEZONE
BEGIN:VEVENT
DTSTART;TZID=America/Los_Angeles:20241026T083000
DTEND;TZID=America/Los_Angeles:20241026T110000
DTSTAMP:20260421T064052
CREATED:20240719T171955Z
LAST-MODIFIED:20250321T213205Z
UID:10000129-1729931400-1729940400@piercegop.org
SUMMARY:Gig Harbor Republican Club
DESCRIPTION:
URL:https://piercegop.org/event/gig-harbor-republican-club/2024-10-26/
LOCATION:Harbor Place at Cottesmore\, 1016 29th St. NW\, Gig Harbor\, WA\, 98335\, United States
CATEGORIES:26th District,Clubs,Gig Harbor Republican Club
ATTACH;FMTTYPE=image/png:https://piercegop.org/wp-content/uploads/2024/08/Gig-Harbor-Republicans-PCRP.png
ORGANIZER;CN="Gig Harbor Republican Club":MAILTO:gigharborrepublicans@gmail.com
END:VEVENT
BEGIN:VEVENT
DTSTART;TZID=America/Los_Angeles:20241026T173000
DTEND;TZID=America/Los_Angeles:20241026T210000
DTSTAMP:20260421T064052
CREATED:20241007T213204Z
LAST-MODIFIED:20241007T213204Z
UID:10000713-1729963800-1729976400@piercegop.org
SUMMARY:Pierce County Republican Party Dinner and Rally
DESCRIPTION:Dinner with Friends! Special Guests: Gubernatorial Candidate\, Dave Reichert\, County Executive Candidate\, Kelly Chambers\, and Undivided’s Brandi Kruse
URL:https://piercegop.org/event/pierce-county-republican-party-dinner-and-rally/
LOCATION:LeMay Car Museum Collections at Marymount\, 325 152nd St E\, Tacoma\, WA\, 98445
ATTACH;FMTTYPE=image/jpeg:https://piercegop.org/wp-content/uploads/2024/10/636dab87-9fd2-4519-b1b6-f423ee95f3a6.jpeg
ORGANIZER;CN="Pierce County Republican Party":MAILTO:PierceGOP@PierceGOP.org
END:VEVENT
BEGIN:VEVENT
DTSTART;TZID=America/Los_Angeles:20241026T173000
DTEND;TZID=America/Los_Angeles:20241026T210000
DTSTAMP:20260421T064052
CREATED:20241010T020232Z
LAST-MODIFIED:20241022T172251Z
UID:10000715-1729963800-1729976400@piercegop.org
SUMMARY:Dinner and Rally
DESCRIPTION:Bring your Ballot! \n Purchase Tickets Here!
URL:https://piercegop.org/event/dinner-and-rally/
LOCATION:LeMay Car Museum Collections at Marymount\, 325 152nd St E\, Tacoma\, WA\, 98445
CATEGORIES:25th District,26th District,27th District,28th District,29th District,2nd & 29th District Republican Club Social,2nd District,31st District,East Pierce Republican Women Club,Fundraiser,Gig Harbor Republican Club,South Puget Sound Republican Women's Club,South Sound Ronald Regan Republican Club,Virginia Taylor Club
ATTACH;FMTTYPE=image/jpeg:https://piercegop.org/wp-content/uploads/2024/10/fea261e3-f772-418b-a0a4-2acb94b11049.jpg
ORGANIZER;CN="Pierce County Republican Party":MAILTO:PierceGOP@PierceGOP.org
END:VEVENT
END:VCALENDAR