BEGIN:VCALENDAR
VERSION:2.0
PRODID:-//Pierce County Republican Party - ECPv6.15.20//NONSGML v1.0//EN
CALSCALE:GREGORIAN
METHOD:PUBLISH
X-WR-CALNAME:Pierce County Republican Party
X-ORIGINAL-URL:https://piercegop.org
X-WR-CALDESC:Events for Pierce County Republican Party
REFRESH-INTERVAL;VALUE=DURATION:PT1H
X-Robots-Tag:noindex
X-PUBLISHED-TTL:PT1H
BEGIN:VTIMEZONE
TZID:America/Los_Angeles
BEGIN:DAYLIGHT
TZOFFSETFROM:-0800
TZOFFSETTO:-0700
TZNAME:PDT
DTSTART:20250309T100000
END:DAYLIGHT
BEGIN:STANDARD
TZOFFSETFROM:-0700
TZOFFSETTO:-0800
TZNAME:PST
DTSTART:20251102T090000
END:STANDARD
BEGIN:DAYLIGHT
TZOFFSETFROM:-0800
TZOFFSETTO:-0700
TZNAME:PDT
DTSTART:20260308T100000
END:DAYLIGHT
BEGIN:STANDARD
TZOFFSETFROM:-0700
TZOFFSETTO:-0800
TZNAME:PST
DTSTART:20261101T090000
END:STANDARD
BEGIN:DAYLIGHT
TZOFFSETFROM:-0800
TZOFFSETTO:-0700
TZNAME:PDT
DTSTART:20270314T100000
END:DAYLIGHT
BEGIN:STANDARD
TZOFFSETFROM:-0700
TZOFFSETTO:-0800
TZNAME:PST
DTSTART:20271107T090000
END:STANDARD
END:VTIMEZONE
BEGIN:VEVENT
DTSTART;TZID=America/Los_Angeles:20260122T173000
DTEND;TZID=America/Los_Angeles:20260122T203000
DTSTAMP:20260421T224851
CREATED:20260128T004635Z
LAST-MODIFIED:20260128T004635Z
UID:10001319-1769103000-1769113800@piercegop.org
SUMMARY:January 2026 South Sound Ronald Reagan Republican Club Dinner Meeting
DESCRIPTION:Our featured speaker is David Boze\, Washington Policy Center \nDavid Boze is the communications and strategy director for Washington Policy Center. He has been a long-time fixture in Seattle radio\, having hosted morning and afternoon drive shows during his fifteen years on the air. \nDavid\, along with Vice President of Research Todd Myers\, recently posted the video below on YouTube explaining how WPC saved taxpayers billions of dollars! However\, the Dems are hell-bent on taxing more of our income and decreasing our pay. Come hear how we can push back on unconstitutional policies.
URL:https://piercegop.org/event/january-2026-south-sound-ronald-reagan-republican-club-dinner-meeting/
LOCATION:La Quinta\, 1425 E 27th St\, Tacoma\, 98421\, United States
CATEGORIES:South Sound Ronald Regan Republican Club
ATTACH;FMTTYPE=image/png:https://piercegop.org/wp-content/uploads/2026/01/ssrrrclubjanuary2026pic.png
ORGANIZER;CN="South Sound Ronald Reagan Republican Club":MAILTO:ssrrrc@ronaldreaganclub.com
END:VEVENT
END:VCALENDAR