BEGIN:VCALENDAR
VERSION:2.0
PRODID:-//Pierce County Republican Party - ECPv6.15.20//NONSGML v1.0//EN
CALSCALE:GREGORIAN
METHOD:PUBLISH
X-ORIGINAL-URL:https://piercegop.org
X-WR-CALDESC:Events for Pierce County Republican Party
REFRESH-INTERVAL;VALUE=DURATION:PT1H
X-Robots-Tag:noindex
X-PUBLISHED-TTL:PT1H
BEGIN:VTIMEZONE
TZID:America/Los_Angeles
BEGIN:DAYLIGHT
TZOFFSETFROM:-0800
TZOFFSETTO:-0700
TZNAME:PDT
DTSTART:20230312T100000
END:DAYLIGHT
BEGIN:STANDARD
TZOFFSETFROM:-0700
TZOFFSETTO:-0800
TZNAME:PST
DTSTART:20231105T090000
END:STANDARD
BEGIN:DAYLIGHT
TZOFFSETFROM:-0800
TZOFFSETTO:-0700
TZNAME:PDT
DTSTART:20240310T100000
END:DAYLIGHT
BEGIN:STANDARD
TZOFFSETFROM:-0700
TZOFFSETTO:-0800
TZNAME:PST
DTSTART:20241103T090000
END:STANDARD
BEGIN:DAYLIGHT
TZOFFSETFROM:-0800
TZOFFSETTO:-0700
TZNAME:PDT
DTSTART:20250309T100000
END:DAYLIGHT
BEGIN:STANDARD
TZOFFSETFROM:-0700
TZOFFSETTO:-0800
TZNAME:PST
DTSTART:20251102T090000
END:STANDARD
BEGIN:DAYLIGHT
TZOFFSETFROM:-0800
TZOFFSETTO:-0700
TZNAME:PDT
DTSTART:20260308T100000
END:DAYLIGHT
BEGIN:STANDARD
TZOFFSETFROM:-0700
TZOFFSETTO:-0800
TZNAME:PST
DTSTART:20261101T090000
END:STANDARD
END:VTIMEZONE
BEGIN:VEVENT
DTSTART;TZID=America/Los_Angeles:20250807T180000
DTEND;TZID=America/Los_Angeles:20250807T203000
DTSTAMP:20260424T085248
CREATED:20241003T201719Z
LAST-MODIFIED:20250401T234232Z
UID:10000662-1754589600-1754598600@piercegop.org
SUMMARY:25th-2/29th Republican Club
DESCRIPTION:We Meet every 1st Thursday of the month and feature various speakers and events. \nStay informed\, meet other conservatives in a relaxed atmosphere and be a part of the solution. \nThe event is potluck. Bring something if you can. Come no matter what and invite a friend!
URL:https://piercegop.org/event/25th-2-29th-republicans-clubs-monthly-meeting/2025-08-07/
LOCATION:Canyon Terrace Community Center\, 9314 Canyon Rd E\, Puyallup\, Washington\, 98371
CATEGORIES:25th District,2nd & 29th District Republican Club Social
ATTACH;FMTTYPE=image/jpeg:https://piercegop.org/wp-content/uploads/2025/02/25-2-29-Combined-Club-LOGO.jpg
ORGANIZER;CN="Brenda Milewski":MAILTO:brendam531@aol.com
END:VEVENT
BEGIN:VEVENT
DTSTART;TZID=America/Los_Angeles:20250703T180000
DTEND;TZID=America/Los_Angeles:20250703T203000
DTSTAMP:20260424T085248
CREATED:20241003T201719Z
LAST-MODIFIED:20250401T234232Z
UID:10000661-1751565600-1751574600@piercegop.org
SUMMARY:25th-2/29th Republican Club
DESCRIPTION:We Meet every 1st Thursday of the month and feature various speakers and events. \nStay informed\, meet other conservatives in a relaxed atmosphere and be a part of the solution. \nThe event is potluck. Bring something if you can. Come no matter what and invite a friend!
URL:https://piercegop.org/event/25th-2-29th-republicans-clubs-monthly-meeting/2025-07-03/
LOCATION:Canyon Terrace Community Center\, 9314 Canyon Rd E\, Puyallup\, Washington\, 98371
CATEGORIES:25th District,2nd & 29th District Republican Club Social
ATTACH;FMTTYPE=image/jpeg:https://piercegop.org/wp-content/uploads/2025/02/25-2-29-Combined-Club-LOGO.jpg
ORGANIZER;CN="Brenda Milewski":MAILTO:brendam531@aol.com
END:VEVENT
BEGIN:VEVENT
DTSTART;TZID=America/Los_Angeles:20250605T180000
DTEND;TZID=America/Los_Angeles:20250605T203000
DTSTAMP:20260424T085248
CREATED:20241003T201719Z
LAST-MODIFIED:20250401T234232Z
UID:10000660-1749146400-1749155400@piercegop.org
SUMMARY:25th-2/29th Republican Club
DESCRIPTION:We Meet every 1st Thursday of the month and feature various speakers and events. \nStay informed\, meet other conservatives in a relaxed atmosphere and be a part of the solution. \nThe event is potluck. Bring something if you can. Come no matter what and invite a friend!
URL:https://piercegop.org/event/25th-2-29th-republicans-clubs-monthly-meeting/2025-06-05/
LOCATION:Canyon Terrace Community Center\, 9314 Canyon Rd E\, Puyallup\, Washington\, 98371
CATEGORIES:25th District,2nd & 29th District Republican Club Social
ATTACH;FMTTYPE=image/jpeg:https://piercegop.org/wp-content/uploads/2025/02/25-2-29-Combined-Club-LOGO.jpg
ORGANIZER;CN="Brenda Milewski":MAILTO:brendam531@aol.com
END:VEVENT
BEGIN:VEVENT
DTSTART;TZID=America/Los_Angeles:20250517T173000
DTEND;TZID=America/Los_Angeles:20250517T200000
DTSTAMP:20260424T085248
CREATED:20250129T010252Z
LAST-MODIFIED:20250331T173753Z
UID:10000835-1747503000-1747512000@piercegop.org
SUMMARY:Lincoln Day Dinner 2025
DESCRIPTION:Join us for Pierce County Republican Party’s annual Lincoln Day Dinner featuring special guest Robby Starbuck. \n[Buy Tickets]
URL:https://piercegop.org/event/lincoln-day-dinner/
LOCATION:LeMay Car Museum Collections at Marymount\, 325 152nd St E\, Tacoma\, WA\, 98445
CATEGORIES:25th District,26th District,27th District,28th District,29th District,2nd & 29th District Republican Club Social,2nd District,31st District,East Pierce Republican Women Club,Fundraiser,Gig Harbor Republican Club,South Puget Sound Republican Women's Club,South Sound Ronald Regan Republican Club,Virginia Taylor Club
ATTACH;FMTTYPE=image/jpeg:https://piercegop.org/wp-content/uploads/2025/01/Pierce-County-Republican-Party-Annual-Lincoln-Dinner-Saturday-Evening-May-17th-2025-1.jpeg
ORGANIZER;CN="Pierce County Republican Party":MAILTO:PierceGOP@PierceGOP.org
END:VEVENT
BEGIN:VEVENT
DTSTART;TZID=America/Los_Angeles:20250501T180000
DTEND;TZID=America/Los_Angeles:20250501T203000
DTSTAMP:20260424T085248
CREATED:20241003T201719Z
LAST-MODIFIED:20250401T234232Z
UID:10000659-1746122400-1746131400@piercegop.org
SUMMARY:25th-2/29th Republican Club
DESCRIPTION:We Meet every 1st Thursday of the month and feature various speakers and events. \nStay informed\, meet other conservatives in a relaxed atmosphere and be a part of the solution. \nThe event is potluck. Bring something if you can. Come no matter what and invite a friend!
URL:https://piercegop.org/event/25th-2-29th-republicans-clubs-monthly-meeting/2025-05-01/
LOCATION:Canyon Terrace Community Center\, 9314 Canyon Rd E\, Puyallup\, Washington\, 98371
CATEGORIES:25th District,2nd & 29th District Republican Club Social
ATTACH;FMTTYPE=image/jpeg:https://piercegop.org/wp-content/uploads/2025/02/25-2-29-Combined-Club-LOGO.jpg
ORGANIZER;CN="Brenda Milewski":MAILTO:brendam531@aol.com
END:VEVENT
BEGIN:VEVENT
DTSTART;TZID=America/Los_Angeles:20250403T180000
DTEND;TZID=America/Los_Angeles:20250403T203000
DTSTAMP:20260424T085248
CREATED:20241003T201719Z
LAST-MODIFIED:20250401T234232Z
UID:10000658-1743703200-1743712200@piercegop.org
SUMMARY:25th-2/29th Republican Club
DESCRIPTION:We Meet every 1st Thursday of the month and feature various speakers and events. \nStay informed\, meet other conservatives in a relaxed atmosphere and be a part of the solution. \nThe event is potluck. Bring something if you can. Come no matter what and invite a friend!
URL:https://piercegop.org/event/25th-2-29th-republicans-clubs-monthly-meeting/2025-04-03/
LOCATION:Canyon Terrace Community Center\, 9314 Canyon Rd E\, Puyallup\, Washington\, 98371
CATEGORIES:25th District,2nd & 29th District Republican Club Social
ATTACH;FMTTYPE=image/jpeg:https://piercegop.org/wp-content/uploads/2025/02/25-2-29-Combined-Club-LOGO.jpg
ORGANIZER;CN="Brenda Milewski":MAILTO:brendam531@aol.com
END:VEVENT
BEGIN:VEVENT
DTSTART;TZID=America/Los_Angeles:20250325T183000
DTEND;TZID=America/Los_Angeles:20250325T200000
DTSTAMP:20260424T085248
CREATED:20250307T191250Z
LAST-MODIFIED:20250307T191527Z
UID:10001023-1742927400-1742932800@piercegop.org
SUMMARY:Movie - The War on Children
DESCRIPTION:Movie’s and Meals by Pierce County Republican Party Presents: \nThe War On Children\nby Landon & Robby Starbuck\nat the Blue Mouse Theater in Tacoma\n2611 N Proctor Street\, Tacoma\, WA \n“The War On Children” exposes the ongoing battle for control of the next generation and their minds. \nUntil now\, only pieces of this war have been exposed but this groundbreaking documentary puts ALL of the puzzle pieces together to reveal the full battle plan being used by the left to control the future. To win this war you have to understand the tactics your enemy is using to beat you. Then it’s time to go on offense. Are you ready to be the warrior that children need or will you let the global elite control the future and turn our kids into their soldiers? \n$35 includes movie and dinner  [Purchase Tickets]
URL:https://piercegop.org/event/movie-the-war-on-children/
LOCATION:Blue Mouse Theatre\, 2611 N Proctor St\, Tacoma\, 98407\, United States
CATEGORIES:25th District,26th District,27th District,28th District,29th District,2nd & 29th District Republican Club Social,2nd District,31st District,East Pierce Republican Women Club,Fundraiser,Gig Harbor Republican Club,South Puget Sound Republican Women's Club,South Sound Ronald Regan Republican Club,Virginia Taylor Club
ATTACH;FMTTYPE=image/png:https://piercegop.org/wp-content/uploads/2025/03/WarOnChildren-PCRP.png
ORGANIZER;CN="Pierce County Republican Party":MAILTO:PierceGOP@PierceGOP.org
END:VEVENT
BEGIN:VEVENT
DTSTART;TZID=America/Los_Angeles:20250306T180000
DTEND;TZID=America/Los_Angeles:20250306T203000
DTSTAMP:20260424T085248
CREATED:20241003T201719Z
LAST-MODIFIED:20250401T234232Z
UID:10000657-1741284000-1741293000@piercegop.org
SUMMARY:25th-2/29th Republican Club
DESCRIPTION:We Meet every 1st Thursday of the month and feature various speakers and events. \nStay informed\, meet other conservatives in a relaxed atmosphere and be a part of the solution. \nThe event is potluck. Bring something if you can. Come no matter what and invite a friend!
URL:https://piercegop.org/event/25th-2-29th-republicans-clubs-monthly-meeting/2025-03-06/
LOCATION:Canyon Terrace Community Center\, 9314 Canyon Rd E\, Puyallup\, Washington\, 98371
CATEGORIES:25th District,2nd & 29th District Republican Club Social
ATTACH;FMTTYPE=image/jpeg:https://piercegop.org/wp-content/uploads/2025/02/25-2-29-Combined-Club-LOGO.jpg
ORGANIZER;CN="Brenda Milewski":MAILTO:brendam531@aol.com
END:VEVENT
BEGIN:VEVENT
DTSTART;TZID=America/Los_Angeles:20250206T180000
DTEND;TZID=America/Los_Angeles:20250206T203000
DTSTAMP:20260424T085248
CREATED:20241003T201719Z
LAST-MODIFIED:20250401T234232Z
UID:10000656-1738864800-1738873800@piercegop.org
SUMMARY:25th-2/29th Republican Club
DESCRIPTION:We Meet every 1st Thursday of the month and feature various speakers and events. \nStay informed\, meet other conservatives in a relaxed atmosphere and be a part of the solution. \nThe event is potluck. Bring something if you can. Come no matter what and invite a friend!
URL:https://piercegop.org/event/25th-2-29th-republicans-clubs-monthly-meeting/2025-02-06/
LOCATION:Canyon Terrace Community Center\, 9314 Canyon Rd E\, Puyallup\, Washington\, 98371
CATEGORIES:25th District,2nd & 29th District Republican Club Social
ATTACH;FMTTYPE=image/jpeg:https://piercegop.org/wp-content/uploads/2025/02/25-2-29-Combined-Club-LOGO.jpg
ORGANIZER;CN="Brenda Milewski":MAILTO:brendam531@aol.com
END:VEVENT
BEGIN:VEVENT
DTSTART;TZID=America/Los_Angeles:20250102T180000
DTEND;TZID=America/Los_Angeles:20250102T203000
DTSTAMP:20260424T085248
CREATED:20241003T203049Z
LAST-MODIFIED:20250401T233350Z
UID:10000655-1735840800-1735849800@piercegop.org
SUMMARY:25th-2/29th Republican Club
DESCRIPTION:We Meet every 1st Thursday of the month and feature various speakers and events. \nStay informed\, meet other conservatives in a relaxed atmosphere and be a part of the solution. \nThe event is potluck. Bring something if you can. Come no matter what and invite a friend!
URL:https://piercegop.org/event/25th-2-29th-republicans-clubs-monthly-meeting-2/
LOCATION:Canyon Terrace Community Center\, 9314 Canyon Rd E\, Puyallup\, Washington\, 98371
CATEGORIES:25th District,25th Republican Club,2nd & 29th District Republican Club Social
ATTACH;FMTTYPE=image/jpeg:https://piercegop.org/wp-content/uploads/2025/02/25-2-29-Combined-Club-LOGO.jpg
ORGANIZER;CN="Pierce County Republican Party":MAILTO:PierceGOP@PierceGOP.org
END:VEVENT
BEGIN:VEVENT
DTSTART;TZID=America/Los_Angeles:20250102T180000
DTEND;TZID=America/Los_Angeles:20250102T203000
DTSTAMP:20260424T085248
CREATED:20241003T201719Z
LAST-MODIFIED:20250401T234232Z
UID:10000712-1735840800-1735849800@piercegop.org
SUMMARY:25th-2/29th Republican Club
DESCRIPTION:We Meet every 1st Thursday of the month and feature various speakers and events. \nStay informed\, meet other conservatives in a relaxed atmosphere and be a part of the solution. \nThe event is potluck. Bring something if you can. Come no matter what and invite a friend!
URL:https://piercegop.org/event/25th-2-29th-republicans-clubs-monthly-meeting/2025-01-02/
LOCATION:Canyon Terrace Community Center\, 9314 Canyon Rd E\, Puyallup\, Washington\, 98371
CATEGORIES:25th District,2nd & 29th District Republican Club Social
ATTACH;FMTTYPE=image/jpeg:https://piercegop.org/wp-content/uploads/2025/02/25-2-29-Combined-Club-LOGO.jpg
ORGANIZER;CN="Brenda Milewski":MAILTO:brendam531@aol.com
END:VEVENT
BEGIN:VEVENT
DTSTART;TZID=America/Los_Angeles:20241205T180000
DTEND;TZID=America/Los_Angeles:20241205T203000
DTSTAMP:20260424T085248
CREATED:20241003T201719Z
LAST-MODIFIED:20250401T234232Z
UID:10000654-1733421600-1733430600@piercegop.org
SUMMARY:25th-2/29th Republican Club
DESCRIPTION:We Meet every 1st Thursday of the month and feature various speakers and events. \nStay informed\, meet other conservatives in a relaxed atmosphere and be a part of the solution. \nThe event is potluck. Bring something if you can. Come no matter what and invite a friend!
URL:https://piercegop.org/event/25th-2-29th-republicans-clubs-monthly-meeting/2024-12-05/
LOCATION:Canyon Terrace Community Center\, 9314 Canyon Rd E\, Puyallup\, Washington\, 98371
CATEGORIES:25th District,2nd & 29th District Republican Club Social
ATTACH;FMTTYPE=image/jpeg:https://piercegop.org/wp-content/uploads/2025/02/25-2-29-Combined-Club-LOGO.jpg
ORGANIZER;CN="Brenda Milewski":MAILTO:brendam531@aol.com
END:VEVENT
BEGIN:VEVENT
DTSTART;TZID=America/Los_Angeles:20241107T180000
DTEND;TZID=America/Los_Angeles:20241107T203000
DTSTAMP:20260424T085248
CREATED:20241003T201719Z
LAST-MODIFIED:20250401T234232Z
UID:10000651-1731002400-1731011400@piercegop.org
SUMMARY:25th-2/29th Republican Club
DESCRIPTION:We Meet every 1st Thursday of the month and feature various speakers and events. \nStay informed\, meet other conservatives in a relaxed atmosphere and be a part of the solution. \nThe event is potluck. Bring something if you can. Come no matter what and invite a friend!
URL:https://piercegop.org/event/25th-2-29th-republicans-clubs-monthly-meeting/2024-11-07/
LOCATION:Canyon Terrace Community Center\, 9314 Canyon Rd E\, Puyallup\, Washington\, 98371
CATEGORIES:25th District,2nd & 29th District Republican Club Social
ATTACH;FMTTYPE=image/jpeg:https://piercegop.org/wp-content/uploads/2025/02/25-2-29-Combined-Club-LOGO.jpg
ORGANIZER;CN="Brenda Milewski":MAILTO:brendam531@aol.com
END:VEVENT
BEGIN:VEVENT
DTSTART;TZID=America/Los_Angeles:20241026T173000
DTEND;TZID=America/Los_Angeles:20241026T210000
DTSTAMP:20260424T085248
CREATED:20241010T020232Z
LAST-MODIFIED:20241022T172251Z
UID:10000715-1729963800-1729976400@piercegop.org
SUMMARY:Dinner and Rally
DESCRIPTION:Bring your Ballot! \n Purchase Tickets Here!
URL:https://piercegop.org/event/dinner-and-rally/
LOCATION:LeMay Car Museum Collections at Marymount\, 325 152nd St E\, Tacoma\, WA\, 98445
CATEGORIES:25th District,26th District,27th District,28th District,29th District,2nd & 29th District Republican Club Social,2nd District,31st District,East Pierce Republican Women Club,Fundraiser,Gig Harbor Republican Club,South Puget Sound Republican Women's Club,South Sound Ronald Regan Republican Club,Virginia Taylor Club
ATTACH;FMTTYPE=image/jpeg:https://piercegop.org/wp-content/uploads/2024/10/fea261e3-f772-418b-a0a4-2acb94b11049.jpg
ORGANIZER;CN="Pierce County Republican Party":MAILTO:PierceGOP@PierceGOP.org
END:VEVENT
BEGIN:VEVENT
DTSTART;TZID=America/Los_Angeles:20241003T180000
DTEND;TZID=America/Los_Angeles:20241003T203000
DTSTAMP:20260424T085248
CREATED:20241003T201719Z
LAST-MODIFIED:20250401T234232Z
UID:10000653-1727978400-1727987400@piercegop.org
SUMMARY:25th-2/29th Republican Club
DESCRIPTION:We Meet every 1st Thursday of the month and feature various speakers and events. \nStay informed\, meet other conservatives in a relaxed atmosphere and be a part of the solution. \nThe event is potluck. Bring something if you can. Come no matter what and invite a friend!
URL:https://piercegop.org/event/25th-2-29th-republicans-clubs-monthly-meeting/2024-10-03/
LOCATION:Canyon Terrace Community Center\, 9314 Canyon Rd E\, Puyallup\, Washington\, 98371
CATEGORIES:25th District,2nd & 29th District Republican Club Social
ATTACH;FMTTYPE=image/jpeg:https://piercegop.org/wp-content/uploads/2025/02/25-2-29-Combined-Club-LOGO.jpg
ORGANIZER;CN="Brenda Milewski":MAILTO:brendam531@aol.com
END:VEVENT
BEGIN:VEVENT
DTSTART;TZID=America/Los_Angeles:20240905T180000
DTEND;TZID=America/Los_Angeles:20240905T203000
DTSTAMP:20260424T085248
CREATED:20240830T024538Z
LAST-MODIFIED:20240830T024538Z
UID:10000573-1725559200-1725568200@piercegop.org
SUMMARY:25th\, 2nd & 29th District Republicans Club
DESCRIPTION:Monthly meeting with guest Speaker L J Rohrer at The Ram Restaurant\n103 35th Ave SE Puyallup\, WA \nNote: This is the only 2/29th Club meeting for September 5th\, another is listed but in error.
URL:https://piercegop.org/event/25th-2nd-29th-district-republicans-club/
LOCATION:Washington
CATEGORIES:25th District,29th District,2nd & 29th District Republican Club Social,2nd District
ORGANIZER;CN="2/29 Republican Club":MAILTO:terryharder@comcast.net
END:VEVENT
END:VCALENDAR