BEGIN:VCALENDAR
VERSION:2.0
PRODID:-//Pierce County Republican Party - ECPv6.15.20//NONSGML v1.0//EN
CALSCALE:GREGORIAN
METHOD:PUBLISH
X-ORIGINAL-URL:https://piercegop.org
X-WR-CALDESC:Events for Pierce County Republican Party
REFRESH-INTERVAL;VALUE=DURATION:PT1H
X-Robots-Tag:noindex
X-PUBLISHED-TTL:PT1H
BEGIN:VTIMEZONE
TZID:America/Los_Angeles
BEGIN:DAYLIGHT
TZOFFSETFROM:-0800
TZOFFSETTO:-0700
TZNAME:PDT
DTSTART:20240310T100000
END:DAYLIGHT
BEGIN:STANDARD
TZOFFSETFROM:-0700
TZOFFSETTO:-0800
TZNAME:PST
DTSTART:20241103T090000
END:STANDARD
BEGIN:DAYLIGHT
TZOFFSETFROM:-0800
TZOFFSETTO:-0700
TZNAME:PDT
DTSTART:20250309T100000
END:DAYLIGHT
BEGIN:STANDARD
TZOFFSETFROM:-0700
TZOFFSETTO:-0800
TZNAME:PST
DTSTART:20251102T090000
END:STANDARD
BEGIN:DAYLIGHT
TZOFFSETFROM:-0800
TZOFFSETTO:-0700
TZNAME:PDT
DTSTART:20260308T100000
END:DAYLIGHT
BEGIN:STANDARD
TZOFFSETFROM:-0700
TZOFFSETTO:-0800
TZNAME:PST
DTSTART:20261101T090000
END:STANDARD
END:VTIMEZONE
BEGIN:VEVENT
DTSTART;TZID=America/Los_Angeles:20251004T100000
DTEND;TZID=America/Los_Angeles:20251004T140000
DTSTAMP:20260421T165801
CREATED:20250925T212610Z
LAST-MODIFIED:20250925T212835Z
UID:10001247-1759572000-1759586400@piercegop.org
SUMMARY:Bunco for Brenda
DESCRIPTION:Join us for a fun fundraiser for Brenda Milewski\, candidate for Pierce County Charter Review. The cost is $25\, please bring food to share with the group.
URL:https://piercegop.org/event/bunco-for-brenda/
LOCATION:Canyon Terrace Community Center\, 9314 Canyon Rd E\, Puyallup\, Washington\, 98371
CATEGORIES:Fundraiser
ATTACH;FMTTYPE=image/jpeg:https://piercegop.org/wp-content/uploads/2025/09/Brenda-for-Bunco-update.jpg
ORGANIZER;CN="Brenda Milewski":MAILTO:brendam531@aol.com
END:VEVENT
END:VCALENDAR