BEGIN:VCALENDAR
VERSION:2.0
PRODID:-//Pierce County Republican Party - ECPv6.15.20//NONSGML v1.0//EN
CALSCALE:GREGORIAN
METHOD:PUBLISH
X-WR-CALNAME:Pierce County Republican Party
X-ORIGINAL-URL:https://piercegop.org
X-WR-CALDESC:Events for Pierce County Republican Party
REFRESH-INTERVAL;VALUE=DURATION:PT1H
X-Robots-Tag:noindex
X-PUBLISHED-TTL:PT1H
BEGIN:VTIMEZONE
TZID:America/Los_Angeles
BEGIN:DAYLIGHT
TZOFFSETFROM:-0800
TZOFFSETTO:-0700
TZNAME:PDT
DTSTART:20240310T100000
END:DAYLIGHT
BEGIN:STANDARD
TZOFFSETFROM:-0700
TZOFFSETTO:-0800
TZNAME:PST
DTSTART:20241103T090000
END:STANDARD
BEGIN:DAYLIGHT
TZOFFSETFROM:-0800
TZOFFSETTO:-0700
TZNAME:PDT
DTSTART:20250309T100000
END:DAYLIGHT
BEGIN:STANDARD
TZOFFSETFROM:-0700
TZOFFSETTO:-0800
TZNAME:PST
DTSTART:20251102T090000
END:STANDARD
BEGIN:DAYLIGHT
TZOFFSETFROM:-0800
TZOFFSETTO:-0700
TZNAME:PDT
DTSTART:20260308T100000
END:DAYLIGHT
BEGIN:STANDARD
TZOFFSETFROM:-0700
TZOFFSETTO:-0800
TZNAME:PST
DTSTART:20261101T090000
END:STANDARD
BEGIN:DAYLIGHT
TZOFFSETFROM:-0800
TZOFFSETTO:-0700
TZNAME:PDT
DTSTART:20270314T100000
END:DAYLIGHT
BEGIN:STANDARD
TZOFFSETFROM:-0700
TZOFFSETTO:-0800
TZNAME:PST
DTSTART:20271107T090000
END:STANDARD
END:VTIMEZONE
BEGIN:VEVENT
DTSTART;TZID=America/Los_Angeles:20251018T170000
DTEND;TZID=America/Los_Angeles:20251018T210000
DTSTAMP:20260424T184957
CREATED:20250930T220237Z
LAST-MODIFIED:20250930T220427Z
UID:10001308-1760806800-1760821200@piercegop.org
SUMMARY:PCRP Fall Gala with speaker KrisAnne Hall
DESCRIPTION:Join us for our annual gala\, where we will honor the principles that have shaped the Republic and the people who have preserved them. Together\, we will reflect on a shared heritage of liberty with an inspiring message from KrisAnne Hall\, one of America’s leading voices in defense of the individual rights and freedoms guaranteed by our Constitution. We look forward to sharing this meaningful evening with you.
URL:https://piercegop.org/event/pcrp-fall-gala/
LOCATION:Hotel Murano\, 1320 Broadway Plaza\, Tacoma\, WA
CATEGORIES:Fundraiser
ATTACH;FMTTYPE=image/jpeg:https://piercegop.org/wp-content/uploads/2025/09/2025-Gala.jpg
ORGANIZER;CN="Pierce County Republican Party":MAILTO:PierceGOP@PierceGOP.org
END:VEVENT
BEGIN:VEVENT
DTSTART;TZID=America/Los_Angeles:20260523T170000
DTEND;TZID=America/Los_Angeles:20260523T210000
DTSTAMP:20260424T184957
CREATED:20260204T005615Z
LAST-MODIFIED:20260217T020019Z
UID:10001590-1779555600-1779570000@piercegop.org
SUMMARY:2026 Lincoln Day Dinner
DESCRIPTION:Buy Tickets Here
URL:https://piercegop.org/event/2026-lincoln-day-dinner/
LOCATION:Pioneer Park Pavilion\, Puyallup\, 330 S Meridian\, Puyallup\, 98371\, United States
CATEGORIES:25th District,26th District,27th District,28th District,29th District,2nd District,31st District,Fundraiser,PCO Meeting
ATTACH;FMTTYPE=image/jpeg:https://piercegop.org/wp-content/uploads/2026/02/2026LincolnDayDinner.jpg
ORGANIZER;CN="Pierce County Republican Party":MAILTO:PierceGOP@PierceGOP.org
END:VEVENT
END:VCALENDAR