BEGIN:VCALENDAR
VERSION:2.0
PRODID:-//Pierce County Republican Party - ECPv6.15.20//NONSGML v1.0//EN
CALSCALE:GREGORIAN
METHOD:PUBLISH
X-ORIGINAL-URL:https://piercegop.org
X-WR-CALDESC:Events for Pierce County Republican Party
REFRESH-INTERVAL;VALUE=DURATION:PT1H
X-Robots-Tag:noindex
X-PUBLISHED-TTL:PT1H
BEGIN:VTIMEZONE
TZID:America/Los_Angeles
BEGIN:DAYLIGHT
TZOFFSETFROM:-0800
TZOFFSETTO:-0700
TZNAME:PDT
DTSTART:20240310T100000
END:DAYLIGHT
BEGIN:STANDARD
TZOFFSETFROM:-0700
TZOFFSETTO:-0800
TZNAME:PST
DTSTART:20241103T090000
END:STANDARD
BEGIN:DAYLIGHT
TZOFFSETFROM:-0800
TZOFFSETTO:-0700
TZNAME:PDT
DTSTART:20250309T100000
END:DAYLIGHT
BEGIN:STANDARD
TZOFFSETFROM:-0700
TZOFFSETTO:-0800
TZNAME:PST
DTSTART:20251102T090000
END:STANDARD
BEGIN:DAYLIGHT
TZOFFSETFROM:-0800
TZOFFSETTO:-0700
TZNAME:PDT
DTSTART:20260308T100000
END:DAYLIGHT
BEGIN:STANDARD
TZOFFSETFROM:-0700
TZOFFSETTO:-0800
TZNAME:PST
DTSTART:20261101T090000
END:STANDARD
END:VTIMEZONE
BEGIN:VEVENT
DTSTART;TZID=America/Los_Angeles:20250123T173000
DTEND;TZID=America/Los_Angeles:20250123T203000
DTSTAMP:20260421T041046
CREATED:20250122T005327Z
LAST-MODIFIED:20250122T005327Z
UID:10000834-1737653400-1737664200@piercegop.org
SUMMARY:January 2025 South Sound Ronald Reagan Republican Club Dinner Meeting
DESCRIPTION:Our featured speaker is Vicki Murray\, Paul W. Locke Research at Washington Policy Center \nVicki Murray (Alger) is the Paul W. Locke Research Fellow for Education at Washington Policy Center. She is the author of Failure: The Federal ‘Misedukation’ of America’s Children\, an in-depth history of the U.S. Department of Education and federal education policy. Vicki is a co-author of eight additional books\, as well as nearly 80 policy studies. She has advised the U.S. Department of Education\, policymakers in 45 states\, and provided expert testimony before state legislative education committees. Her research has also been used in educational choice program litigation\, including the successful defense of country’s first tax-credit scholarship program in the U.S. Supreme Court. Vicki’s research and commentary on education policy have been widely published and cited in leading public policy outlets such as Harvard University’s Program on Education Policy and Governance\, Stanford University’s Hoover Digest\, Education Week\, and the Chronicle of Higher Education\, as well as national news media outlets\, including The Wall Street Journal\, USA Today\, The Washington Post\, Investor’s Business Daily\, the Los Angeles Times\, and US News & World Report. She has also appeared on the Fox News Channel\, Global News\, local ABC\, CBS\, NBC\, PBS affiliates\, in addition to news radio programs across the country. Prior to her career in education policy\, Vicki taught college-level courses in American politics\, English composition and rhetoric\, and early British literature. She received her Ph.D. in political philosophy from the University of Dallas\, where she was an Earhart Foundation Fellow. Vicki lives in Seattle and hails from Scottsdale\, Arizona. She is dedicated to expanding educational opportunities for all families\, regardless of their income or address. These include public district and charter school choices\, as well as private\, home\, virtual\, and parent-tailored options made possible through education savings accounts.
URL:https://piercegop.org/event/january-2025-south-sound-ronald-reagan-republican-club-dinner-meeting/
LOCATION:La Quinta\, 1425 E 27th St\, Tacoma\, 98421\, United States
CATEGORIES:25th District,26th District,27th District,28th District,29th District,2nd District,31st District,South Sound Ronald Regan Republican Club
ATTACH;FMTTYPE=image/jpeg:https://piercegop.org/wp-content/uploads/2025/01/january25dinnersocialmedia-.jpg
ORGANIZER;CN="South Sound Ronald Regan Republican Club":MAILTO:SSRRRC@RonaldReaganClub.com
END:VEVENT
END:VCALENDAR