BEGIN:VCALENDAR
VERSION:2.0
PRODID:-//Pierce County Republican Party - ECPv6.15.20//NONSGML v1.0//EN
CALSCALE:GREGORIAN
METHOD:PUBLISH
X-WR-CALNAME:Pierce County Republican Party
X-ORIGINAL-URL:https://piercegop.org
X-WR-CALDESC:Events for Pierce County Republican Party
REFRESH-INTERVAL;VALUE=DURATION:PT1H
X-Robots-Tag:noindex
X-PUBLISHED-TTL:PT1H
BEGIN:VTIMEZONE
TZID:America/Los_Angeles
BEGIN:DAYLIGHT
TZOFFSETFROM:-0800
TZOFFSETTO:-0700
TZNAME:PDT
DTSTART:20250309T100000
END:DAYLIGHT
BEGIN:STANDARD
TZOFFSETFROM:-0700
TZOFFSETTO:-0800
TZNAME:PST
DTSTART:20251102T090000
END:STANDARD
BEGIN:DAYLIGHT
TZOFFSETFROM:-0800
TZOFFSETTO:-0700
TZNAME:PDT
DTSTART:20260308T100000
END:DAYLIGHT
BEGIN:STANDARD
TZOFFSETFROM:-0700
TZOFFSETTO:-0800
TZNAME:PST
DTSTART:20261101T090000
END:STANDARD
BEGIN:DAYLIGHT
TZOFFSETFROM:-0800
TZOFFSETTO:-0700
TZNAME:PDT
DTSTART:20270314T100000
END:DAYLIGHT
BEGIN:STANDARD
TZOFFSETFROM:-0700
TZOFFSETTO:-0800
TZNAME:PST
DTSTART:20271107T090000
END:STANDARD
BEGIN:DAYLIGHT
TZOFFSETFROM:-0800
TZOFFSETTO:-0700
TZNAME:PDT
DTSTART:20280312T100000
END:DAYLIGHT
BEGIN:STANDARD
TZOFFSETFROM:-0700
TZOFFSETTO:-0800
TZNAME:PST
DTSTART:20281105T090000
END:STANDARD
BEGIN:DAYLIGHT
TZOFFSETFROM:-0800
TZOFFSETTO:-0700
TZNAME:PDT
DTSTART:20290311T100000
END:DAYLIGHT
BEGIN:STANDARD
TZOFFSETFROM:-0700
TZOFFSETTO:-0800
TZNAME:PST
DTSTART:20291104T090000
END:STANDARD
END:VTIMEZONE
BEGIN:VEVENT
DTSTART;TZID=America/Los_Angeles:20260610T183000
DTEND;TZID=America/Los_Angeles:20260610T200000
DTSTAMP:20260420T115011
CREATED:20250303T164352Z
LAST-MODIFIED:20250715T232352Z
UID:10001017-1781116200-1781121600@piercegop.org
SUMMARY:25th LD PCO Meeting
DESCRIPTION:Monthly 25th LDRC PCO Meeting
URL:https://piercegop.org/event/25th-pco-meeting/2026-06-10/
LOCATION:Canyon Terrace Community Center\, 9314 Canyon Rd E\, Puyallup\, Washington\, 98371
CATEGORIES:25th District
ATTACH;FMTTYPE=image/jpeg:https://piercegop.org/wp-content/uploads/2024/11/25th-District-Logo-3-1.jpg
END:VEVENT
BEGIN:VEVENT
DTSTART;TZID=America/Los_Angeles:20260702T180000
DTEND;TZID=America/Los_Angeles:20260702T203000
DTSTAMP:20260420T115011
CREATED:20241003T201719Z
LAST-MODIFIED:20250401T234232Z
UID:10000673-1783015200-1783024200@piercegop.org
SUMMARY:25th-2/29th Republican Club
DESCRIPTION:We Meet every 1st Thursday of the month and feature various speakers and events. \nStay informed\, meet other conservatives in a relaxed atmosphere and be a part of the solution. \nThe event is potluck. Bring something if you can. Come no matter what and invite a friend!
URL:https://piercegop.org/event/25th-2-29th-republicans-clubs-monthly-meeting/2026-07-02/
LOCATION:Canyon Terrace Community Center\, 9314 Canyon Rd E\, Puyallup\, Washington\, 98371
CATEGORIES:25th District,2nd & 29th District Republican Club Social
ATTACH;FMTTYPE=image/jpeg:https://piercegop.org/wp-content/uploads/2025/02/25-2-29-Combined-Club-LOGO.jpg
ORGANIZER;CN="Brenda Milewski":MAILTO:brendam531@aol.com
END:VEVENT
BEGIN:VEVENT
DTSTART;TZID=America/Los_Angeles:20260708T183000
DTEND;TZID=America/Los_Angeles:20260708T200000
DTSTAMP:20260420T115011
CREATED:20250303T164352Z
LAST-MODIFIED:20250715T232352Z
UID:10001018-1783535400-1783540800@piercegop.org
SUMMARY:25th LD PCO Meeting
DESCRIPTION:Monthly 25th LDRC PCO Meeting
URL:https://piercegop.org/event/25th-pco-meeting/2026-07-08/
LOCATION:Canyon Terrace Community Center\, 9314 Canyon Rd E\, Puyallup\, Washington\, 98371
CATEGORIES:25th District
ATTACH;FMTTYPE=image/jpeg:https://piercegop.org/wp-content/uploads/2024/11/25th-District-Logo-3-1.jpg
END:VEVENT
BEGIN:VEVENT
DTSTART;TZID=America/Los_Angeles:20260806T180000
DTEND;TZID=America/Los_Angeles:20260806T203000
DTSTAMP:20260420T115011
CREATED:20241003T201719Z
LAST-MODIFIED:20250401T234232Z
UID:10000674-1786039200-1786048200@piercegop.org
SUMMARY:25th-2/29th Republican Club
DESCRIPTION:We Meet every 1st Thursday of the month and feature various speakers and events. \nStay informed\, meet other conservatives in a relaxed atmosphere and be a part of the solution. \nThe event is potluck. Bring something if you can. Come no matter what and invite a friend!
URL:https://piercegop.org/event/25th-2-29th-republicans-clubs-monthly-meeting/2026-08-06/
LOCATION:Canyon Terrace Community Center\, 9314 Canyon Rd E\, Puyallup\, Washington\, 98371
CATEGORIES:25th District,2nd & 29th District Republican Club Social
ATTACH;FMTTYPE=image/jpeg:https://piercegop.org/wp-content/uploads/2025/02/25-2-29-Combined-Club-LOGO.jpg
ORGANIZER;CN="Brenda Milewski":MAILTO:brendam531@aol.com
END:VEVENT
BEGIN:VEVENT
DTSTART;TZID=America/Los_Angeles:20260812T183000
DTEND;TZID=America/Los_Angeles:20260812T200000
DTSTAMP:20260420T115011
CREATED:20250303T164352Z
LAST-MODIFIED:20250715T232352Z
UID:10001019-1786559400-1786564800@piercegop.org
SUMMARY:25th LD PCO Meeting
DESCRIPTION:Monthly 25th LDRC PCO Meeting
URL:https://piercegop.org/event/25th-pco-meeting/2026-08-12/
LOCATION:Canyon Terrace Community Center\, 9314 Canyon Rd E\, Puyallup\, Washington\, 98371
CATEGORIES:25th District
ATTACH;FMTTYPE=image/jpeg:https://piercegop.org/wp-content/uploads/2024/11/25th-District-Logo-3-1.jpg
END:VEVENT
BEGIN:VEVENT
DTSTART;TZID=America/Los_Angeles:20260903T180000
DTEND;TZID=America/Los_Angeles:20260903T203000
DTSTAMP:20260420T115011
CREATED:20241003T201719Z
LAST-MODIFIED:20250401T234232Z
UID:10000675-1788458400-1788467400@piercegop.org
SUMMARY:25th-2/29th Republican Club
DESCRIPTION:We Meet every 1st Thursday of the month and feature various speakers and events. \nStay informed\, meet other conservatives in a relaxed atmosphere and be a part of the solution. \nThe event is potluck. Bring something if you can. Come no matter what and invite a friend!
URL:https://piercegop.org/event/25th-2-29th-republicans-clubs-monthly-meeting/2026-09-03/
LOCATION:Canyon Terrace Community Center\, 9314 Canyon Rd E\, Puyallup\, Washington\, 98371
CATEGORIES:25th District,2nd & 29th District Republican Club Social
ATTACH;FMTTYPE=image/jpeg:https://piercegop.org/wp-content/uploads/2025/02/25-2-29-Combined-Club-LOGO.jpg
ORGANIZER;CN="Brenda Milewski":MAILTO:brendam531@aol.com
END:VEVENT
BEGIN:VEVENT
DTSTART;TZID=America/Los_Angeles:20260909T183000
DTEND;TZID=America/Los_Angeles:20260909T200000
DTSTAMP:20260420T115011
CREATED:20250303T164352Z
LAST-MODIFIED:20250715T232352Z
UID:10001020-1788978600-1788984000@piercegop.org
SUMMARY:25th LD PCO Meeting
DESCRIPTION:Monthly 25th LDRC PCO Meeting
URL:https://piercegop.org/event/25th-pco-meeting/2026-09-09/
LOCATION:Canyon Terrace Community Center\, 9314 Canyon Rd E\, Puyallup\, Washington\, 98371
CATEGORIES:25th District
ATTACH;FMTTYPE=image/jpeg:https://piercegop.org/wp-content/uploads/2024/11/25th-District-Logo-3-1.jpg
END:VEVENT
BEGIN:VEVENT
DTSTART;TZID=America/Los_Angeles:20261001T180000
DTEND;TZID=America/Los_Angeles:20261001T203000
DTSTAMP:20260420T115011
CREATED:20241003T201719Z
LAST-MODIFIED:20250401T234232Z
UID:10000676-1790877600-1790886600@piercegop.org
SUMMARY:25th-2/29th Republican Club
DESCRIPTION:We Meet every 1st Thursday of the month and feature various speakers and events. \nStay informed\, meet other conservatives in a relaxed atmosphere and be a part of the solution. \nThe event is potluck. Bring something if you can. Come no matter what and invite a friend!
URL:https://piercegop.org/event/25th-2-29th-republicans-clubs-monthly-meeting/2026-10-01/
LOCATION:Canyon Terrace Community Center\, 9314 Canyon Rd E\, Puyallup\, Washington\, 98371
CATEGORIES:25th District,2nd & 29th District Republican Club Social
ATTACH;FMTTYPE=image/jpeg:https://piercegop.org/wp-content/uploads/2025/02/25-2-29-Combined-Club-LOGO.jpg
ORGANIZER;CN="Brenda Milewski":MAILTO:brendam531@aol.com
END:VEVENT
BEGIN:VEVENT
DTSTART;TZID=America/Los_Angeles:20261014T183000
DTEND;TZID=America/Los_Angeles:20261014T200000
DTSTAMP:20260420T115011
CREATED:20250303T164352Z
LAST-MODIFIED:20250715T232352Z
UID:10001021-1792002600-1792008000@piercegop.org
SUMMARY:25th LD PCO Meeting
DESCRIPTION:Monthly 25th LDRC PCO Meeting
URL:https://piercegop.org/event/25th-pco-meeting/2026-10-14/
LOCATION:Canyon Terrace Community Center\, 9314 Canyon Rd E\, Puyallup\, Washington\, 98371
CATEGORIES:25th District
ATTACH;FMTTYPE=image/jpeg:https://piercegop.org/wp-content/uploads/2024/11/25th-District-Logo-3-1.jpg
END:VEVENT
BEGIN:VEVENT
DTSTART;TZID=America/Los_Angeles:20261105T180000
DTEND;TZID=America/Los_Angeles:20261105T203000
DTSTAMP:20260420T115011
CREATED:20241003T201719Z
LAST-MODIFIED:20250401T234232Z
UID:10000677-1793901600-1793910600@piercegop.org
SUMMARY:25th-2/29th Republican Club
DESCRIPTION:We Meet every 1st Thursday of the month and feature various speakers and events. \nStay informed\, meet other conservatives in a relaxed atmosphere and be a part of the solution. \nThe event is potluck. Bring something if you can. Come no matter what and invite a friend!
URL:https://piercegop.org/event/25th-2-29th-republicans-clubs-monthly-meeting/2026-11-05/
LOCATION:Canyon Terrace Community Center\, 9314 Canyon Rd E\, Puyallup\, Washington\, 98371
CATEGORIES:25th District,2nd & 29th District Republican Club Social
ATTACH;FMTTYPE=image/jpeg:https://piercegop.org/wp-content/uploads/2025/02/25-2-29-Combined-Club-LOGO.jpg
ORGANIZER;CN="Brenda Milewski":MAILTO:brendam531@aol.com
END:VEVENT
BEGIN:VEVENT
DTSTART;TZID=America/Los_Angeles:20261111T183000
DTEND;TZID=America/Los_Angeles:20261111T200000
DTSTAMP:20260420T115011
CREATED:20250303T164352Z
LAST-MODIFIED:20250715T232352Z
UID:10001022-1794421800-1794427200@piercegop.org
SUMMARY:25th LD PCO Meeting
DESCRIPTION:Monthly 25th LDRC PCO Meeting
URL:https://piercegop.org/event/25th-pco-meeting/2026-11-11/
LOCATION:Canyon Terrace Community Center\, 9314 Canyon Rd E\, Puyallup\, Washington\, 98371
CATEGORIES:25th District
ATTACH;FMTTYPE=image/jpeg:https://piercegop.org/wp-content/uploads/2024/11/25th-District-Logo-3-1.jpg
END:VEVENT
BEGIN:VEVENT
DTSTART;TZID=America/Los_Angeles:20261203T180000
DTEND;TZID=America/Los_Angeles:20261203T203000
DTSTAMP:20260420T115011
CREATED:20241003T201719Z
LAST-MODIFIED:20250401T234232Z
UID:10000678-1796320800-1796329800@piercegop.org
SUMMARY:25th-2/29th Republican Club
DESCRIPTION:We Meet every 1st Thursday of the month and feature various speakers and events. \nStay informed\, meet other conservatives in a relaxed atmosphere and be a part of the solution. \nThe event is potluck. Bring something if you can. Come no matter what and invite a friend!
URL:https://piercegop.org/event/25th-2-29th-republicans-clubs-monthly-meeting/2026-12-03/
LOCATION:Canyon Terrace Community Center\, 9314 Canyon Rd E\, Puyallup\, Washington\, 98371
CATEGORIES:25th District,2nd & 29th District Republican Club Social
ATTACH;FMTTYPE=image/jpeg:https://piercegop.org/wp-content/uploads/2025/02/25-2-29-Combined-Club-LOGO.jpg
ORGANIZER;CN="Brenda Milewski":MAILTO:brendam531@aol.com
END:VEVENT
BEGIN:VEVENT
DTSTART;TZID=America/Los_Angeles:20270107T180000
DTEND;TZID=America/Los_Angeles:20270107T203000
DTSTAMP:20260420T115011
CREATED:20241003T201719Z
LAST-MODIFIED:20250401T234232Z
UID:10000679-1799344800-1799353800@piercegop.org
SUMMARY:25th-2/29th Republican Club
DESCRIPTION:We Meet every 1st Thursday of the month and feature various speakers and events. \nStay informed\, meet other conservatives in a relaxed atmosphere and be a part of the solution. \nThe event is potluck. Bring something if you can. Come no matter what and invite a friend!
URL:https://piercegop.org/event/25th-2-29th-republicans-clubs-monthly-meeting/2027-01-07/
LOCATION:Canyon Terrace Community Center\, 9314 Canyon Rd E\, Puyallup\, Washington\, 98371
CATEGORIES:25th District,2nd & 29th District Republican Club Social
ATTACH;FMTTYPE=image/jpeg:https://piercegop.org/wp-content/uploads/2025/02/25-2-29-Combined-Club-LOGO.jpg
ORGANIZER;CN="Brenda Milewski":MAILTO:brendam531@aol.com
END:VEVENT
BEGIN:VEVENT
DTSTART;TZID=America/Los_Angeles:20270204T180000
DTEND;TZID=America/Los_Angeles:20270204T203000
DTSTAMP:20260420T115011
CREATED:20241003T201719Z
LAST-MODIFIED:20250401T234232Z
UID:10000680-1801764000-1801773000@piercegop.org
SUMMARY:25th-2/29th Republican Club
DESCRIPTION:We Meet every 1st Thursday of the month and feature various speakers and events. \nStay informed\, meet other conservatives in a relaxed atmosphere and be a part of the solution. \nThe event is potluck. Bring something if you can. Come no matter what and invite a friend!
URL:https://piercegop.org/event/25th-2-29th-republicans-clubs-monthly-meeting/2027-02-04/
LOCATION:Canyon Terrace Community Center\, 9314 Canyon Rd E\, Puyallup\, Washington\, 98371
CATEGORIES:25th District,2nd & 29th District Republican Club Social
ATTACH;FMTTYPE=image/jpeg:https://piercegop.org/wp-content/uploads/2025/02/25-2-29-Combined-Club-LOGO.jpg
ORGANIZER;CN="Brenda Milewski":MAILTO:brendam531@aol.com
END:VEVENT
BEGIN:VEVENT
DTSTART;TZID=America/Los_Angeles:20270304T180000
DTEND;TZID=America/Los_Angeles:20270304T203000
DTSTAMP:20260420T115011
CREATED:20241003T201719Z
LAST-MODIFIED:20250401T234232Z
UID:10000681-1804183200-1804192200@piercegop.org
SUMMARY:25th-2/29th Republican Club
DESCRIPTION:We Meet every 1st Thursday of the month and feature various speakers and events. \nStay informed\, meet other conservatives in a relaxed atmosphere and be a part of the solution. \nThe event is potluck. Bring something if you can. Come no matter what and invite a friend!
URL:https://piercegop.org/event/25th-2-29th-republicans-clubs-monthly-meeting/2027-03-04/
LOCATION:Canyon Terrace Community Center\, 9314 Canyon Rd E\, Puyallup\, Washington\, 98371
CATEGORIES:25th District,2nd & 29th District Republican Club Social
ATTACH;FMTTYPE=image/jpeg:https://piercegop.org/wp-content/uploads/2025/02/25-2-29-Combined-Club-LOGO.jpg
ORGANIZER;CN="Brenda Milewski":MAILTO:brendam531@aol.com
END:VEVENT
BEGIN:VEVENT
DTSTART;TZID=America/Los_Angeles:20270401T180000
DTEND;TZID=America/Los_Angeles:20270401T203000
DTSTAMP:20260420T115011
CREATED:20241003T201719Z
LAST-MODIFIED:20250401T234232Z
UID:10000682-1806602400-1806611400@piercegop.org
SUMMARY:25th-2/29th Republican Club
DESCRIPTION:We Meet every 1st Thursday of the month and feature various speakers and events. \nStay informed\, meet other conservatives in a relaxed atmosphere and be a part of the solution. \nThe event is potluck. Bring something if you can. Come no matter what and invite a friend!
URL:https://piercegop.org/event/25th-2-29th-republicans-clubs-monthly-meeting/2027-04-01/
LOCATION:Canyon Terrace Community Center\, 9314 Canyon Rd E\, Puyallup\, Washington\, 98371
CATEGORIES:25th District,2nd & 29th District Republican Club Social
ATTACH;FMTTYPE=image/jpeg:https://piercegop.org/wp-content/uploads/2025/02/25-2-29-Combined-Club-LOGO.jpg
ORGANIZER;CN="Brenda Milewski":MAILTO:brendam531@aol.com
END:VEVENT
BEGIN:VEVENT
DTSTART;TZID=America/Los_Angeles:20270506T180000
DTEND;TZID=America/Los_Angeles:20270506T203000
DTSTAMP:20260420T115011
CREATED:20241003T201719Z
LAST-MODIFIED:20250401T234232Z
UID:10000683-1809626400-1809635400@piercegop.org
SUMMARY:25th-2/29th Republican Club
DESCRIPTION:We Meet every 1st Thursday of the month and feature various speakers and events. \nStay informed\, meet other conservatives in a relaxed atmosphere and be a part of the solution. \nThe event is potluck. Bring something if you can. Come no matter what and invite a friend!
URL:https://piercegop.org/event/25th-2-29th-republicans-clubs-monthly-meeting/2027-05-06/
LOCATION:Canyon Terrace Community Center\, 9314 Canyon Rd E\, Puyallup\, Washington\, 98371
CATEGORIES:25th District,2nd & 29th District Republican Club Social
ATTACH;FMTTYPE=image/jpeg:https://piercegop.org/wp-content/uploads/2025/02/25-2-29-Combined-Club-LOGO.jpg
ORGANIZER;CN="Brenda Milewski":MAILTO:brendam531@aol.com
END:VEVENT
BEGIN:VEVENT
DTSTART;TZID=America/Los_Angeles:20270603T180000
DTEND;TZID=America/Los_Angeles:20270603T203000
DTSTAMP:20260420T115011
CREATED:20241003T201719Z
LAST-MODIFIED:20250401T234232Z
UID:10000684-1812045600-1812054600@piercegop.org
SUMMARY:25th-2/29th Republican Club
DESCRIPTION:We Meet every 1st Thursday of the month and feature various speakers and events. \nStay informed\, meet other conservatives in a relaxed atmosphere and be a part of the solution. \nThe event is potluck. Bring something if you can. Come no matter what and invite a friend!
URL:https://piercegop.org/event/25th-2-29th-republicans-clubs-monthly-meeting/2027-06-03/
LOCATION:Canyon Terrace Community Center\, 9314 Canyon Rd E\, Puyallup\, Washington\, 98371
CATEGORIES:25th District,2nd & 29th District Republican Club Social
ATTACH;FMTTYPE=image/jpeg:https://piercegop.org/wp-content/uploads/2025/02/25-2-29-Combined-Club-LOGO.jpg
ORGANIZER;CN="Brenda Milewski":MAILTO:brendam531@aol.com
END:VEVENT
BEGIN:VEVENT
DTSTART;TZID=America/Los_Angeles:20270701T180000
DTEND;TZID=America/Los_Angeles:20270701T203000
DTSTAMP:20260420T115011
CREATED:20241003T201719Z
LAST-MODIFIED:20250401T234232Z
UID:10000685-1814464800-1814473800@piercegop.org
SUMMARY:25th-2/29th Republican Club
DESCRIPTION:We Meet every 1st Thursday of the month and feature various speakers and events. \nStay informed\, meet other conservatives in a relaxed atmosphere and be a part of the solution. \nThe event is potluck. Bring something if you can. Come no matter what and invite a friend!
URL:https://piercegop.org/event/25th-2-29th-republicans-clubs-monthly-meeting/2027-07-01/
LOCATION:Canyon Terrace Community Center\, 9314 Canyon Rd E\, Puyallup\, Washington\, 98371
CATEGORIES:25th District,2nd & 29th District Republican Club Social
ATTACH;FMTTYPE=image/jpeg:https://piercegop.org/wp-content/uploads/2025/02/25-2-29-Combined-Club-LOGO.jpg
ORGANIZER;CN="Brenda Milewski":MAILTO:brendam531@aol.com
END:VEVENT
BEGIN:VEVENT
DTSTART;TZID=America/Los_Angeles:20270805T180000
DTEND;TZID=America/Los_Angeles:20270805T203000
DTSTAMP:20260420T115011
CREATED:20241003T201719Z
LAST-MODIFIED:20250401T234232Z
UID:10000686-1817488800-1817497800@piercegop.org
SUMMARY:25th-2/29th Republican Club
DESCRIPTION:We Meet every 1st Thursday of the month and feature various speakers and events. \nStay informed\, meet other conservatives in a relaxed atmosphere and be a part of the solution. \nThe event is potluck. Bring something if you can. Come no matter what and invite a friend!
URL:https://piercegop.org/event/25th-2-29th-republicans-clubs-monthly-meeting/2027-08-05/
LOCATION:Canyon Terrace Community Center\, 9314 Canyon Rd E\, Puyallup\, Washington\, 98371
CATEGORIES:25th District,2nd & 29th District Republican Club Social
ATTACH;FMTTYPE=image/jpeg:https://piercegop.org/wp-content/uploads/2025/02/25-2-29-Combined-Club-LOGO.jpg
ORGANIZER;CN="Brenda Milewski":MAILTO:brendam531@aol.com
END:VEVENT
BEGIN:VEVENT
DTSTART;TZID=America/Los_Angeles:20270902T180000
DTEND;TZID=America/Los_Angeles:20270902T203000
DTSTAMP:20260420T115011
CREATED:20241003T201719Z
LAST-MODIFIED:20250401T234232Z
UID:10000687-1819908000-1819917000@piercegop.org
SUMMARY:25th-2/29th Republican Club
DESCRIPTION:We Meet every 1st Thursday of the month and feature various speakers and events. \nStay informed\, meet other conservatives in a relaxed atmosphere and be a part of the solution. \nThe event is potluck. Bring something if you can. Come no matter what and invite a friend!
URL:https://piercegop.org/event/25th-2-29th-republicans-clubs-monthly-meeting/2027-09-02/
LOCATION:Canyon Terrace Community Center\, 9314 Canyon Rd E\, Puyallup\, Washington\, 98371
CATEGORIES:25th District,2nd & 29th District Republican Club Social
ATTACH;FMTTYPE=image/jpeg:https://piercegop.org/wp-content/uploads/2025/02/25-2-29-Combined-Club-LOGO.jpg
ORGANIZER;CN="Brenda Milewski":MAILTO:brendam531@aol.com
END:VEVENT
BEGIN:VEVENT
DTSTART;TZID=America/Los_Angeles:20271007T180000
DTEND;TZID=America/Los_Angeles:20271007T203000
DTSTAMP:20260420T115011
CREATED:20241003T201719Z
LAST-MODIFIED:20250401T234232Z
UID:10000688-1822932000-1822941000@piercegop.org
SUMMARY:25th-2/29th Republican Club
DESCRIPTION:We Meet every 1st Thursday of the month and feature various speakers and events. \nStay informed\, meet other conservatives in a relaxed atmosphere and be a part of the solution. \nThe event is potluck. Bring something if you can. Come no matter what and invite a friend!
URL:https://piercegop.org/event/25th-2-29th-republicans-clubs-monthly-meeting/2027-10-07/
LOCATION:Canyon Terrace Community Center\, 9314 Canyon Rd E\, Puyallup\, Washington\, 98371
CATEGORIES:25th District,2nd & 29th District Republican Club Social
ATTACH;FMTTYPE=image/jpeg:https://piercegop.org/wp-content/uploads/2025/02/25-2-29-Combined-Club-LOGO.jpg
ORGANIZER;CN="Brenda Milewski":MAILTO:brendam531@aol.com
END:VEVENT
BEGIN:VEVENT
DTSTART;TZID=America/Los_Angeles:20271104T180000
DTEND;TZID=America/Los_Angeles:20271104T203000
DTSTAMP:20260420T115011
CREATED:20241003T201719Z
LAST-MODIFIED:20250401T234232Z
UID:10000689-1825351200-1825360200@piercegop.org
SUMMARY:25th-2/29th Republican Club
DESCRIPTION:We Meet every 1st Thursday of the month and feature various speakers and events. \nStay informed\, meet other conservatives in a relaxed atmosphere and be a part of the solution. \nThe event is potluck. Bring something if you can. Come no matter what and invite a friend!
URL:https://piercegop.org/event/25th-2-29th-republicans-clubs-monthly-meeting/2027-11-04/
LOCATION:Canyon Terrace Community Center\, 9314 Canyon Rd E\, Puyallup\, Washington\, 98371
CATEGORIES:25th District,2nd & 29th District Republican Club Social
ATTACH;FMTTYPE=image/jpeg:https://piercegop.org/wp-content/uploads/2025/02/25-2-29-Combined-Club-LOGO.jpg
ORGANIZER;CN="Brenda Milewski":MAILTO:brendam531@aol.com
END:VEVENT
BEGIN:VEVENT
DTSTART;TZID=America/Los_Angeles:20271202T180000
DTEND;TZID=America/Los_Angeles:20271202T203000
DTSTAMP:20260420T115011
CREATED:20241003T201719Z
LAST-MODIFIED:20250401T234232Z
UID:10000690-1827770400-1827779400@piercegop.org
SUMMARY:25th-2/29th Republican Club
DESCRIPTION:We Meet every 1st Thursday of the month and feature various speakers and events. \nStay informed\, meet other conservatives in a relaxed atmosphere and be a part of the solution. \nThe event is potluck. Bring something if you can. Come no matter what and invite a friend!
URL:https://piercegop.org/event/25th-2-29th-republicans-clubs-monthly-meeting/2027-12-02/
LOCATION:Canyon Terrace Community Center\, 9314 Canyon Rd E\, Puyallup\, Washington\, 98371
CATEGORIES:25th District,2nd & 29th District Republican Club Social
ATTACH;FMTTYPE=image/jpeg:https://piercegop.org/wp-content/uploads/2025/02/25-2-29-Combined-Club-LOGO.jpg
ORGANIZER;CN="Brenda Milewski":MAILTO:brendam531@aol.com
END:VEVENT
BEGIN:VEVENT
DTSTART;TZID=America/Los_Angeles:20280106T180000
DTEND;TZID=America/Los_Angeles:20280106T203000
DTSTAMP:20260420T115011
CREATED:20241003T201719Z
LAST-MODIFIED:20250401T234232Z
UID:10000691-1830794400-1830803400@piercegop.org
SUMMARY:25th-2/29th Republican Club
DESCRIPTION:We Meet every 1st Thursday of the month and feature various speakers and events. \nStay informed\, meet other conservatives in a relaxed atmosphere and be a part of the solution. \nThe event is potluck. Bring something if you can. Come no matter what and invite a friend!
URL:https://piercegop.org/event/25th-2-29th-republicans-clubs-monthly-meeting/2028-01-06/
LOCATION:Canyon Terrace Community Center\, 9314 Canyon Rd E\, Puyallup\, Washington\, 98371
CATEGORIES:25th District,2nd & 29th District Republican Club Social
ATTACH;FMTTYPE=image/jpeg:https://piercegop.org/wp-content/uploads/2025/02/25-2-29-Combined-Club-LOGO.jpg
ORGANIZER;CN="Brenda Milewski":MAILTO:brendam531@aol.com
END:VEVENT
BEGIN:VEVENT
DTSTART;TZID=America/Los_Angeles:20280203T180000
DTEND;TZID=America/Los_Angeles:20280203T203000
DTSTAMP:20260420T115011
CREATED:20241003T201719Z
LAST-MODIFIED:20250401T234232Z
UID:10000692-1833213600-1833222600@piercegop.org
SUMMARY:25th-2/29th Republican Club
DESCRIPTION:We Meet every 1st Thursday of the month and feature various speakers and events. \nStay informed\, meet other conservatives in a relaxed atmosphere and be a part of the solution. \nThe event is potluck. Bring something if you can. Come no matter what and invite a friend!
URL:https://piercegop.org/event/25th-2-29th-republicans-clubs-monthly-meeting/2028-02-03/
LOCATION:Canyon Terrace Community Center\, 9314 Canyon Rd E\, Puyallup\, Washington\, 98371
CATEGORIES:25th District,2nd & 29th District Republican Club Social
ATTACH;FMTTYPE=image/jpeg:https://piercegop.org/wp-content/uploads/2025/02/25-2-29-Combined-Club-LOGO.jpg
ORGANIZER;CN="Brenda Milewski":MAILTO:brendam531@aol.com
END:VEVENT
BEGIN:VEVENT
DTSTART;TZID=America/Los_Angeles:20280302T180000
DTEND;TZID=America/Los_Angeles:20280302T203000
DTSTAMP:20260420T115011
CREATED:20241003T201719Z
LAST-MODIFIED:20250401T234232Z
UID:10000693-1835632800-1835641800@piercegop.org
SUMMARY:25th-2/29th Republican Club
DESCRIPTION:We Meet every 1st Thursday of the month and feature various speakers and events. \nStay informed\, meet other conservatives in a relaxed atmosphere and be a part of the solution. \nThe event is potluck. Bring something if you can. Come no matter what and invite a friend!
URL:https://piercegop.org/event/25th-2-29th-republicans-clubs-monthly-meeting/2028-03-02/
LOCATION:Canyon Terrace Community Center\, 9314 Canyon Rd E\, Puyallup\, Washington\, 98371
CATEGORIES:25th District,2nd & 29th District Republican Club Social
ATTACH;FMTTYPE=image/jpeg:https://piercegop.org/wp-content/uploads/2025/02/25-2-29-Combined-Club-LOGO.jpg
ORGANIZER;CN="Brenda Milewski":MAILTO:brendam531@aol.com
END:VEVENT
BEGIN:VEVENT
DTSTART;TZID=America/Los_Angeles:20280406T180000
DTEND;TZID=America/Los_Angeles:20280406T203000
DTSTAMP:20260420T115011
CREATED:20241003T201719Z
LAST-MODIFIED:20250401T234232Z
UID:10000694-1838656800-1838665800@piercegop.org
SUMMARY:25th-2/29th Republican Club
DESCRIPTION:We Meet every 1st Thursday of the month and feature various speakers and events. \nStay informed\, meet other conservatives in a relaxed atmosphere and be a part of the solution. \nThe event is potluck. Bring something if you can. Come no matter what and invite a friend!
URL:https://piercegop.org/event/25th-2-29th-republicans-clubs-monthly-meeting/2028-04-06/
LOCATION:Canyon Terrace Community Center\, 9314 Canyon Rd E\, Puyallup\, Washington\, 98371
CATEGORIES:25th District,2nd & 29th District Republican Club Social
ATTACH;FMTTYPE=image/jpeg:https://piercegop.org/wp-content/uploads/2025/02/25-2-29-Combined-Club-LOGO.jpg
ORGANIZER;CN="Brenda Milewski":MAILTO:brendam531@aol.com
END:VEVENT
BEGIN:VEVENT
DTSTART;TZID=America/Los_Angeles:20280504T180000
DTEND;TZID=America/Los_Angeles:20280504T203000
DTSTAMP:20260420T115011
CREATED:20241003T201719Z
LAST-MODIFIED:20250401T234232Z
UID:10000695-1841076000-1841085000@piercegop.org
SUMMARY:25th-2/29th Republican Club
DESCRIPTION:We Meet every 1st Thursday of the month and feature various speakers and events. \nStay informed\, meet other conservatives in a relaxed atmosphere and be a part of the solution. \nThe event is potluck. Bring something if you can. Come no matter what and invite a friend!
URL:https://piercegop.org/event/25th-2-29th-republicans-clubs-monthly-meeting/2028-05-04/
LOCATION:Canyon Terrace Community Center\, 9314 Canyon Rd E\, Puyallup\, Washington\, 98371
CATEGORIES:25th District,2nd & 29th District Republican Club Social
ATTACH;FMTTYPE=image/jpeg:https://piercegop.org/wp-content/uploads/2025/02/25-2-29-Combined-Club-LOGO.jpg
ORGANIZER;CN="Brenda Milewski":MAILTO:brendam531@aol.com
END:VEVENT
BEGIN:VEVENT
DTSTART;TZID=America/Los_Angeles:20280601T180000
DTEND;TZID=America/Los_Angeles:20280601T203000
DTSTAMP:20260420T115011
CREATED:20241003T201719Z
LAST-MODIFIED:20250401T234232Z
UID:10000696-1843495200-1843504200@piercegop.org
SUMMARY:25th-2/29th Republican Club
DESCRIPTION:We Meet every 1st Thursday of the month and feature various speakers and events. \nStay informed\, meet other conservatives in a relaxed atmosphere and be a part of the solution. \nThe event is potluck. Bring something if you can. Come no matter what and invite a friend!
URL:https://piercegop.org/event/25th-2-29th-republicans-clubs-monthly-meeting/2028-06-01/
LOCATION:Canyon Terrace Community Center\, 9314 Canyon Rd E\, Puyallup\, Washington\, 98371
CATEGORIES:25th District,2nd & 29th District Republican Club Social
ATTACH;FMTTYPE=image/jpeg:https://piercegop.org/wp-content/uploads/2025/02/25-2-29-Combined-Club-LOGO.jpg
ORGANIZER;CN="Brenda Milewski":MAILTO:brendam531@aol.com
END:VEVENT
END:VCALENDAR