BEGIN:VCALENDAR
VERSION:2.0
PRODID:-//Pierce County Republican Party - ECPv6.15.20//NONSGML v1.0//EN
CALSCALE:GREGORIAN
METHOD:PUBLISH
X-ORIGINAL-URL:https://piercegop.org
X-WR-CALDESC:Events for Pierce County Republican Party
REFRESH-INTERVAL;VALUE=DURATION:PT1H
X-Robots-Tag:noindex
X-PUBLISHED-TTL:PT1H
BEGIN:VTIMEZONE
TZID:America/Los_Angeles
BEGIN:DAYLIGHT
TZOFFSETFROM:-0800
TZOFFSETTO:-0700
TZNAME:PDT
DTSTART:20250309T100000
END:DAYLIGHT
BEGIN:STANDARD
TZOFFSETFROM:-0700
TZOFFSETTO:-0800
TZNAME:PST
DTSTART:20251102T090000
END:STANDARD
BEGIN:DAYLIGHT
TZOFFSETFROM:-0800
TZOFFSETTO:-0700
TZNAME:PDT
DTSTART:20260308T100000
END:DAYLIGHT
BEGIN:STANDARD
TZOFFSETFROM:-0700
TZOFFSETTO:-0800
TZNAME:PST
DTSTART:20261101T090000
END:STANDARD
BEGIN:DAYLIGHT
TZOFFSETFROM:-0800
TZOFFSETTO:-0700
TZNAME:PDT
DTSTART:20270314T100000
END:DAYLIGHT
BEGIN:STANDARD
TZOFFSETFROM:-0700
TZOFFSETTO:-0800
TZNAME:PST
DTSTART:20271107T090000
END:STANDARD
BEGIN:DAYLIGHT
TZOFFSETFROM:-0800
TZOFFSETTO:-0700
TZNAME:PDT
DTSTART:20280312T100000
END:DAYLIGHT
BEGIN:STANDARD
TZOFFSETFROM:-0700
TZOFFSETTO:-0800
TZNAME:PST
DTSTART:20281105T090000
END:STANDARD
END:VTIMEZONE
BEGIN:VEVENT
DTSTART;TZID=America/Los_Angeles:20261109T173000
DTEND;TZID=America/Los_Angeles:20261109T190000
DTSTAMP:20260421T230308
CREATED:20260204T003150Z
LAST-MODIFIED:20260204T003150Z
UID:10001368-1794245400-1794250800@piercegop.org
SUMMARY:Gig Harbor City Council
DESCRIPTION:Gig Harbor’s weekly public meeting. Check website for agenda: https://gigharborwa.portal.civicclerk.com/
URL:https://piercegop.org/event/gig-harbor-city-council/2026-11-09/
LOCATION:3510 Grandview St\, 3510 Grandview St\, Gig Harbor\, 98335\, United States
CATEGORIES:26th District
ORGANIZER;CN="Pierce County Republican Party":MAILTO:PierceGOP@PierceGOP.org
END:VEVENT
BEGIN:VEVENT
DTSTART;TZID=America/Los_Angeles:20261116T173000
DTEND;TZID=America/Los_Angeles:20261116T190000
DTSTAMP:20260421T230308
CREATED:20260204T003150Z
LAST-MODIFIED:20260204T003150Z
UID:10001369-1794850200-1794855600@piercegop.org
SUMMARY:Gig Harbor City Council
DESCRIPTION:Gig Harbor’s weekly public meeting. Check website for agenda: https://gigharborwa.portal.civicclerk.com/
URL:https://piercegop.org/event/gig-harbor-city-council/2026-11-16/
LOCATION:3510 Grandview St\, 3510 Grandview St\, Gig Harbor\, 98335\, United States
CATEGORIES:26th District
ORGANIZER;CN="Pierce County Republican Party":MAILTO:PierceGOP@PierceGOP.org
END:VEVENT
BEGIN:VEVENT
DTSTART;TZID=America/Los_Angeles:20261123T173000
DTEND;TZID=America/Los_Angeles:20261123T190000
DTSTAMP:20260421T230308
CREATED:20260204T003150Z
LAST-MODIFIED:20260204T003150Z
UID:10001370-1795455000-1795460400@piercegop.org
SUMMARY:Gig Harbor City Council
DESCRIPTION:Gig Harbor’s weekly public meeting. Check website for agenda: https://gigharborwa.portal.civicclerk.com/
URL:https://piercegop.org/event/gig-harbor-city-council/2026-11-23/
LOCATION:3510 Grandview St\, 3510 Grandview St\, Gig Harbor\, 98335\, United States
CATEGORIES:26th District
ORGANIZER;CN="Pierce County Republican Party":MAILTO:PierceGOP@PierceGOP.org
END:VEVENT
BEGIN:VEVENT
DTSTART;TZID=America/Los_Angeles:20261128T083000
DTEND;TZID=America/Los_Angeles:20261128T110000
DTSTAMP:20260421T230308
CREATED:20240719T171955Z
LAST-MODIFIED:20250321T213205Z
UID:10000154-1795854600-1795863600@piercegop.org
SUMMARY:Gig Harbor Republican Club
DESCRIPTION:
URL:https://piercegop.org/event/gig-harbor-republican-club/2026-11-28/
LOCATION:Harbor Place at Cottesmore\, 1016 29th St. NW\, Gig Harbor\, WA\, 98335\, United States
CATEGORIES:26th District,Clubs,Gig Harbor Republican Club
ATTACH;FMTTYPE=image/png:https://piercegop.org/wp-content/uploads/2024/08/Gig-Harbor-Republicans-PCRP.png
ORGANIZER;CN="Gig Harbor Republican Club":MAILTO:gigharborrepublicans@gmail.com
END:VEVENT
BEGIN:VEVENT
DTSTART;TZID=America/Los_Angeles:20261130T173000
DTEND;TZID=America/Los_Angeles:20261130T190000
DTSTAMP:20260421T230308
CREATED:20260204T003150Z
LAST-MODIFIED:20260204T003150Z
UID:10001371-1796059800-1796065200@piercegop.org
SUMMARY:Gig Harbor City Council
DESCRIPTION:Gig Harbor’s weekly public meeting. Check website for agenda: https://gigharborwa.portal.civicclerk.com/
URL:https://piercegop.org/event/gig-harbor-city-council/2026-11-30/
LOCATION:3510 Grandview St\, 3510 Grandview St\, Gig Harbor\, 98335\, United States
CATEGORIES:26th District
ORGANIZER;CN="Pierce County Republican Party":MAILTO:PierceGOP@PierceGOP.org
END:VEVENT
BEGIN:VEVENT
DTSTART;TZID=America/Los_Angeles:20261207T173000
DTEND;TZID=America/Los_Angeles:20261207T190000
DTSTAMP:20260421T230308
CREATED:20260204T003150Z
LAST-MODIFIED:20260204T003150Z
UID:10001372-1796664600-1796670000@piercegop.org
SUMMARY:Gig Harbor City Council
DESCRIPTION:Gig Harbor’s weekly public meeting. Check website for agenda: https://gigharborwa.portal.civicclerk.com/
URL:https://piercegop.org/event/gig-harbor-city-council/2026-12-07/
LOCATION:3510 Grandview St\, 3510 Grandview St\, Gig Harbor\, 98335\, United States
CATEGORIES:26th District
ORGANIZER;CN="Pierce County Republican Party":MAILTO:PierceGOP@PierceGOP.org
END:VEVENT
BEGIN:VEVENT
DTSTART;TZID=America/Los_Angeles:20261214T173000
DTEND;TZID=America/Los_Angeles:20261214T190000
DTSTAMP:20260421T230308
CREATED:20260204T003150Z
LAST-MODIFIED:20260204T003150Z
UID:10001373-1797269400-1797274800@piercegop.org
SUMMARY:Gig Harbor City Council
DESCRIPTION:Gig Harbor’s weekly public meeting. Check website for agenda: https://gigharborwa.portal.civicclerk.com/
URL:https://piercegop.org/event/gig-harbor-city-council/2026-12-14/
LOCATION:3510 Grandview St\, 3510 Grandview St\, Gig Harbor\, 98335\, United States
CATEGORIES:26th District
ORGANIZER;CN="Pierce County Republican Party":MAILTO:PierceGOP@PierceGOP.org
END:VEVENT
BEGIN:VEVENT
DTSTART;TZID=America/Los_Angeles:20261221T173000
DTEND;TZID=America/Los_Angeles:20261221T190000
DTSTAMP:20260421T230308
CREATED:20260204T003150Z
LAST-MODIFIED:20260204T003150Z
UID:10001374-1797874200-1797879600@piercegop.org
SUMMARY:Gig Harbor City Council
DESCRIPTION:Gig Harbor’s weekly public meeting. Check website for agenda: https://gigharborwa.portal.civicclerk.com/
URL:https://piercegop.org/event/gig-harbor-city-council/2026-12-21/
LOCATION:3510 Grandview St\, 3510 Grandview St\, Gig Harbor\, 98335\, United States
CATEGORIES:26th District
ORGANIZER;CN="Pierce County Republican Party":MAILTO:PierceGOP@PierceGOP.org
END:VEVENT
BEGIN:VEVENT
DTSTART;TZID=America/Los_Angeles:20261226T083000
DTEND;TZID=America/Los_Angeles:20261226T110000
DTSTAMP:20260421T230308
CREATED:20240719T171955Z
LAST-MODIFIED:20250321T213205Z
UID:10000155-1798273800-1798282800@piercegop.org
SUMMARY:Gig Harbor Republican Club
DESCRIPTION:
URL:https://piercegop.org/event/gig-harbor-republican-club/2026-12-26/
LOCATION:Harbor Place at Cottesmore\, 1016 29th St. NW\, Gig Harbor\, WA\, 98335\, United States
CATEGORIES:26th District,Clubs,Gig Harbor Republican Club
ATTACH;FMTTYPE=image/png:https://piercegop.org/wp-content/uploads/2024/08/Gig-Harbor-Republicans-PCRP.png
ORGANIZER;CN="Gig Harbor Republican Club":MAILTO:gigharborrepublicans@gmail.com
END:VEVENT
BEGIN:VEVENT
DTSTART;TZID=America/Los_Angeles:20261228T173000
DTEND;TZID=America/Los_Angeles:20261228T190000
DTSTAMP:20260421T230308
CREATED:20260204T003150Z
LAST-MODIFIED:20260204T003150Z
UID:10001375-1798479000-1798484400@piercegop.org
SUMMARY:Gig Harbor City Council
DESCRIPTION:Gig Harbor’s weekly public meeting. Check website for agenda: https://gigharborwa.portal.civicclerk.com/
URL:https://piercegop.org/event/gig-harbor-city-council/2026-12-28/
LOCATION:3510 Grandview St\, 3510 Grandview St\, Gig Harbor\, 98335\, United States
CATEGORIES:26th District
ORGANIZER;CN="Pierce County Republican Party":MAILTO:PierceGOP@PierceGOP.org
END:VEVENT
BEGIN:VEVENT
DTSTART;TZID=America/Los_Angeles:20270104T173000
DTEND;TZID=America/Los_Angeles:20270104T190000
DTSTAMP:20260421T230308
CREATED:20260204T003150Z
LAST-MODIFIED:20260204T003150Z
UID:10001376-1799083800-1799089200@piercegop.org
SUMMARY:Gig Harbor City Council
DESCRIPTION:Gig Harbor’s weekly public meeting. Check website for agenda: https://gigharborwa.portal.civicclerk.com/
URL:https://piercegop.org/event/gig-harbor-city-council/2027-01-04/
LOCATION:3510 Grandview St\, 3510 Grandview St\, Gig Harbor\, 98335\, United States
CATEGORIES:26th District
ORGANIZER;CN="Pierce County Republican Party":MAILTO:PierceGOP@PierceGOP.org
END:VEVENT
BEGIN:VEVENT
DTSTART;TZID=America/Los_Angeles:20270111T173000
DTEND;TZID=America/Los_Angeles:20270111T190000
DTSTAMP:20260421T230308
CREATED:20260204T003150Z
LAST-MODIFIED:20260204T003150Z
UID:10001377-1799688600-1799694000@piercegop.org
SUMMARY:Gig Harbor City Council
DESCRIPTION:Gig Harbor’s weekly public meeting. Check website for agenda: https://gigharborwa.portal.civicclerk.com/
URL:https://piercegop.org/event/gig-harbor-city-council/2027-01-11/
LOCATION:3510 Grandview St\, 3510 Grandview St\, Gig Harbor\, 98335\, United States
CATEGORIES:26th District
ORGANIZER;CN="Pierce County Republican Party":MAILTO:PierceGOP@PierceGOP.org
END:VEVENT
BEGIN:VEVENT
DTSTART;TZID=America/Los_Angeles:20270118T173000
DTEND;TZID=America/Los_Angeles:20270118T190000
DTSTAMP:20260421T230308
CREATED:20260204T003150Z
LAST-MODIFIED:20260204T003150Z
UID:10001378-1800293400-1800298800@piercegop.org
SUMMARY:Gig Harbor City Council
DESCRIPTION:Gig Harbor’s weekly public meeting. Check website for agenda: https://gigharborwa.portal.civicclerk.com/
URL:https://piercegop.org/event/gig-harbor-city-council/2027-01-18/
LOCATION:3510 Grandview St\, 3510 Grandview St\, Gig Harbor\, 98335\, United States
CATEGORIES:26th District
ORGANIZER;CN="Pierce County Republican Party":MAILTO:PierceGOP@PierceGOP.org
END:VEVENT
BEGIN:VEVENT
DTSTART;TZID=America/Los_Angeles:20270123T083000
DTEND;TZID=America/Los_Angeles:20270123T110000
DTSTAMP:20260421T230308
CREATED:20240719T171955Z
LAST-MODIFIED:20250321T213205Z
UID:10000156-1800693000-1800702000@piercegop.org
SUMMARY:Gig Harbor Republican Club
DESCRIPTION:
URL:https://piercegop.org/event/gig-harbor-republican-club/2027-01-23/
LOCATION:Harbor Place at Cottesmore\, 1016 29th St. NW\, Gig Harbor\, WA\, 98335\, United States
CATEGORIES:26th District,Clubs,Gig Harbor Republican Club
ATTACH;FMTTYPE=image/png:https://piercegop.org/wp-content/uploads/2024/08/Gig-Harbor-Republicans-PCRP.png
ORGANIZER;CN="Gig Harbor Republican Club":MAILTO:gigharborrepublicans@gmail.com
END:VEVENT
BEGIN:VEVENT
DTSTART;TZID=America/Los_Angeles:20270125T173000
DTEND;TZID=America/Los_Angeles:20270125T190000
DTSTAMP:20260421T230308
CREATED:20260204T003150Z
LAST-MODIFIED:20260204T003150Z
UID:10001379-1800898200-1800903600@piercegop.org
SUMMARY:Gig Harbor City Council
DESCRIPTION:Gig Harbor’s weekly public meeting. Check website for agenda: https://gigharborwa.portal.civicclerk.com/
URL:https://piercegop.org/event/gig-harbor-city-council/2027-01-25/
LOCATION:3510 Grandview St\, 3510 Grandview St\, Gig Harbor\, 98335\, United States
CATEGORIES:26th District
ORGANIZER;CN="Pierce County Republican Party":MAILTO:PierceGOP@PierceGOP.org
END:VEVENT
BEGIN:VEVENT
DTSTART;TZID=America/Los_Angeles:20270201T173000
DTEND;TZID=America/Los_Angeles:20270201T190000
DTSTAMP:20260421T230308
CREATED:20260204T003150Z
LAST-MODIFIED:20260204T003150Z
UID:10001380-1801503000-1801508400@piercegop.org
SUMMARY:Gig Harbor City Council
DESCRIPTION:Gig Harbor’s weekly public meeting. Check website for agenda: https://gigharborwa.portal.civicclerk.com/
URL:https://piercegop.org/event/gig-harbor-city-council/2027-02-01/
LOCATION:3510 Grandview St\, 3510 Grandview St\, Gig Harbor\, 98335\, United States
CATEGORIES:26th District
ORGANIZER;CN="Pierce County Republican Party":MAILTO:PierceGOP@PierceGOP.org
END:VEVENT
BEGIN:VEVENT
DTSTART;TZID=America/Los_Angeles:20270208T173000
DTEND;TZID=America/Los_Angeles:20270208T190000
DTSTAMP:20260421T230308
CREATED:20260204T003150Z
LAST-MODIFIED:20260204T003150Z
UID:10001381-1802107800-1802113200@piercegop.org
SUMMARY:Gig Harbor City Council
DESCRIPTION:Gig Harbor’s weekly public meeting. Check website for agenda: https://gigharborwa.portal.civicclerk.com/
URL:https://piercegop.org/event/gig-harbor-city-council/2027-02-08/
LOCATION:3510 Grandview St\, 3510 Grandview St\, Gig Harbor\, 98335\, United States
CATEGORIES:26th District
ORGANIZER;CN="Pierce County Republican Party":MAILTO:PierceGOP@PierceGOP.org
END:VEVENT
BEGIN:VEVENT
DTSTART;TZID=America/Los_Angeles:20270215T173000
DTEND;TZID=America/Los_Angeles:20270215T190000
DTSTAMP:20260421T230308
CREATED:20260204T003150Z
LAST-MODIFIED:20260204T003150Z
UID:10001382-1802712600-1802718000@piercegop.org
SUMMARY:Gig Harbor City Council
DESCRIPTION:Gig Harbor’s weekly public meeting. Check website for agenda: https://gigharborwa.portal.civicclerk.com/
URL:https://piercegop.org/event/gig-harbor-city-council/2027-02-15/
LOCATION:3510 Grandview St\, 3510 Grandview St\, Gig Harbor\, 98335\, United States
CATEGORIES:26th District
ORGANIZER;CN="Pierce County Republican Party":MAILTO:PierceGOP@PierceGOP.org
END:VEVENT
BEGIN:VEVENT
DTSTART;TZID=America/Los_Angeles:20270222T173000
DTEND;TZID=America/Los_Angeles:20270222T190000
DTSTAMP:20260421T230308
CREATED:20260204T003150Z
LAST-MODIFIED:20260204T003150Z
UID:10001383-1803317400-1803322800@piercegop.org
SUMMARY:Gig Harbor City Council
DESCRIPTION:Gig Harbor’s weekly public meeting. Check website for agenda: https://gigharborwa.portal.civicclerk.com/
URL:https://piercegop.org/event/gig-harbor-city-council/2027-02-22/
LOCATION:3510 Grandview St\, 3510 Grandview St\, Gig Harbor\, 98335\, United States
CATEGORIES:26th District
ORGANIZER;CN="Pierce County Republican Party":MAILTO:PierceGOP@PierceGOP.org
END:VEVENT
BEGIN:VEVENT
DTSTART;TZID=America/Los_Angeles:20270227T083000
DTEND;TZID=America/Los_Angeles:20270227T110000
DTSTAMP:20260421T230308
CREATED:20240719T171955Z
LAST-MODIFIED:20250321T213205Z
UID:10000157-1803717000-1803726000@piercegop.org
SUMMARY:Gig Harbor Republican Club
DESCRIPTION:
URL:https://piercegop.org/event/gig-harbor-republican-club/2027-02-27/
LOCATION:Harbor Place at Cottesmore\, 1016 29th St. NW\, Gig Harbor\, WA\, 98335\, United States
CATEGORIES:26th District,Clubs,Gig Harbor Republican Club
ATTACH;FMTTYPE=image/png:https://piercegop.org/wp-content/uploads/2024/08/Gig-Harbor-Republicans-PCRP.png
ORGANIZER;CN="Gig Harbor Republican Club":MAILTO:gigharborrepublicans@gmail.com
END:VEVENT
BEGIN:VEVENT
DTSTART;TZID=America/Los_Angeles:20270301T173000
DTEND;TZID=America/Los_Angeles:20270301T190000
DTSTAMP:20260421T230308
CREATED:20260204T003150Z
LAST-MODIFIED:20260204T003150Z
UID:10001384-1803922200-1803927600@piercegop.org
SUMMARY:Gig Harbor City Council
DESCRIPTION:Gig Harbor’s weekly public meeting. Check website for agenda: https://gigharborwa.portal.civicclerk.com/
URL:https://piercegop.org/event/gig-harbor-city-council/2027-03-01/
LOCATION:3510 Grandview St\, 3510 Grandview St\, Gig Harbor\, 98335\, United States
CATEGORIES:26th District
ORGANIZER;CN="Pierce County Republican Party":MAILTO:PierceGOP@PierceGOP.org
END:VEVENT
BEGIN:VEVENT
DTSTART;TZID=America/Los_Angeles:20270308T173000
DTEND;TZID=America/Los_Angeles:20270308T190000
DTSTAMP:20260421T230308
CREATED:20260204T003150Z
LAST-MODIFIED:20260204T003150Z
UID:10001385-1804527000-1804532400@piercegop.org
SUMMARY:Gig Harbor City Council
DESCRIPTION:Gig Harbor’s weekly public meeting. Check website for agenda: https://gigharborwa.portal.civicclerk.com/
URL:https://piercegop.org/event/gig-harbor-city-council/2027-03-08/
LOCATION:3510 Grandview St\, 3510 Grandview St\, Gig Harbor\, 98335\, United States
CATEGORIES:26th District
ORGANIZER;CN="Pierce County Republican Party":MAILTO:PierceGOP@PierceGOP.org
END:VEVENT
BEGIN:VEVENT
DTSTART;TZID=America/Los_Angeles:20270315T173000
DTEND;TZID=America/Los_Angeles:20270315T190000
DTSTAMP:20260421T230308
CREATED:20260204T003150Z
LAST-MODIFIED:20260204T003150Z
UID:10001386-1805131800-1805137200@piercegop.org
SUMMARY:Gig Harbor City Council
DESCRIPTION:Gig Harbor’s weekly public meeting. Check website for agenda: https://gigharborwa.portal.civicclerk.com/
URL:https://piercegop.org/event/gig-harbor-city-council/2027-03-15/
LOCATION:3510 Grandview St\, 3510 Grandview St\, Gig Harbor\, 98335\, United States
CATEGORIES:26th District
ORGANIZER;CN="Pierce County Republican Party":MAILTO:PierceGOP@PierceGOP.org
END:VEVENT
BEGIN:VEVENT
DTSTART;TZID=America/Los_Angeles:20270322T173000
DTEND;TZID=America/Los_Angeles:20270322T190000
DTSTAMP:20260421T230308
CREATED:20260204T003150Z
LAST-MODIFIED:20260204T003150Z
UID:10001387-1805736600-1805742000@piercegop.org
SUMMARY:Gig Harbor City Council
DESCRIPTION:Gig Harbor’s weekly public meeting. Check website for agenda: https://gigharborwa.portal.civicclerk.com/
URL:https://piercegop.org/event/gig-harbor-city-council/2027-03-22/
LOCATION:3510 Grandview St\, 3510 Grandview St\, Gig Harbor\, 98335\, United States
CATEGORIES:26th District
ORGANIZER;CN="Pierce County Republican Party":MAILTO:PierceGOP@PierceGOP.org
END:VEVENT
BEGIN:VEVENT
DTSTART;TZID=America/Los_Angeles:20270327T083000
DTEND;TZID=America/Los_Angeles:20270327T110000
DTSTAMP:20260421T230308
CREATED:20240719T171955Z
LAST-MODIFIED:20250321T213205Z
UID:10000158-1806136200-1806145200@piercegop.org
SUMMARY:Gig Harbor Republican Club
DESCRIPTION:
URL:https://piercegop.org/event/gig-harbor-republican-club/2027-03-27/
LOCATION:Harbor Place at Cottesmore\, 1016 29th St. NW\, Gig Harbor\, WA\, 98335\, United States
CATEGORIES:26th District,Clubs,Gig Harbor Republican Club
ATTACH;FMTTYPE=image/png:https://piercegop.org/wp-content/uploads/2024/08/Gig-Harbor-Republicans-PCRP.png
ORGANIZER;CN="Gig Harbor Republican Club":MAILTO:gigharborrepublicans@gmail.com
END:VEVENT
BEGIN:VEVENT
DTSTART;TZID=America/Los_Angeles:20270329T173000
DTEND;TZID=America/Los_Angeles:20270329T190000
DTSTAMP:20260421T230308
CREATED:20260204T003150Z
LAST-MODIFIED:20260204T003150Z
UID:10001388-1806341400-1806346800@piercegop.org
SUMMARY:Gig Harbor City Council
DESCRIPTION:Gig Harbor’s weekly public meeting. Check website for agenda: https://gigharborwa.portal.civicclerk.com/
URL:https://piercegop.org/event/gig-harbor-city-council/2027-03-29/
LOCATION:3510 Grandview St\, 3510 Grandview St\, Gig Harbor\, 98335\, United States
CATEGORIES:26th District
ORGANIZER;CN="Pierce County Republican Party":MAILTO:PierceGOP@PierceGOP.org
END:VEVENT
BEGIN:VEVENT
DTSTART;TZID=America/Los_Angeles:20270405T173000
DTEND;TZID=America/Los_Angeles:20270405T190000
DTSTAMP:20260421T230308
CREATED:20260204T003150Z
LAST-MODIFIED:20260204T003150Z
UID:10001389-1806946200-1806951600@piercegop.org
SUMMARY:Gig Harbor City Council
DESCRIPTION:Gig Harbor’s weekly public meeting. Check website for agenda: https://gigharborwa.portal.civicclerk.com/
URL:https://piercegop.org/event/gig-harbor-city-council/2027-04-05/
LOCATION:3510 Grandview St\, 3510 Grandview St\, Gig Harbor\, 98335\, United States
CATEGORIES:26th District
ORGANIZER;CN="Pierce County Republican Party":MAILTO:PierceGOP@PierceGOP.org
END:VEVENT
BEGIN:VEVENT
DTSTART;TZID=America/Los_Angeles:20270412T173000
DTEND;TZID=America/Los_Angeles:20270412T190000
DTSTAMP:20260421T230308
CREATED:20260204T003150Z
LAST-MODIFIED:20260204T003150Z
UID:10001390-1807551000-1807556400@piercegop.org
SUMMARY:Gig Harbor City Council
DESCRIPTION:Gig Harbor’s weekly public meeting. Check website for agenda: https://gigharborwa.portal.civicclerk.com/
URL:https://piercegop.org/event/gig-harbor-city-council/2027-04-12/
LOCATION:3510 Grandview St\, 3510 Grandview St\, Gig Harbor\, 98335\, United States
CATEGORIES:26th District
ORGANIZER;CN="Pierce County Republican Party":MAILTO:PierceGOP@PierceGOP.org
END:VEVENT
BEGIN:VEVENT
DTSTART;TZID=America/Los_Angeles:20270419T173000
DTEND;TZID=America/Los_Angeles:20270419T190000
DTSTAMP:20260421T230308
CREATED:20260204T003150Z
LAST-MODIFIED:20260204T003150Z
UID:10001391-1808155800-1808161200@piercegop.org
SUMMARY:Gig Harbor City Council
DESCRIPTION:Gig Harbor’s weekly public meeting. Check website for agenda: https://gigharborwa.portal.civicclerk.com/
URL:https://piercegop.org/event/gig-harbor-city-council/2027-04-19/
LOCATION:3510 Grandview St\, 3510 Grandview St\, Gig Harbor\, 98335\, United States
CATEGORIES:26th District
ORGANIZER;CN="Pierce County Republican Party":MAILTO:PierceGOP@PierceGOP.org
END:VEVENT
BEGIN:VEVENT
DTSTART;TZID=America/Los_Angeles:20270424T083000
DTEND;TZID=America/Los_Angeles:20270424T110000
DTSTAMP:20260421T230308
CREATED:20240719T171955Z
LAST-MODIFIED:20250321T213205Z
UID:10000159-1808555400-1808564400@piercegop.org
SUMMARY:Gig Harbor Republican Club
DESCRIPTION:
URL:https://piercegop.org/event/gig-harbor-republican-club/2027-04-24/
LOCATION:Harbor Place at Cottesmore\, 1016 29th St. NW\, Gig Harbor\, WA\, 98335\, United States
CATEGORIES:26th District,Clubs,Gig Harbor Republican Club
ATTACH;FMTTYPE=image/png:https://piercegop.org/wp-content/uploads/2024/08/Gig-Harbor-Republicans-PCRP.png
ORGANIZER;CN="Gig Harbor Republican Club":MAILTO:gigharborrepublicans@gmail.com
END:VEVENT
END:VCALENDAR