BEGIN:VCALENDAR
VERSION:2.0
PRODID:-//Pierce County Republican Party - ECPv6.15.20//NONSGML v1.0//EN
CALSCALE:GREGORIAN
METHOD:PUBLISH
X-ORIGINAL-URL:https://piercegop.org
X-WR-CALDESC:Events for Pierce County Republican Party
REFRESH-INTERVAL;VALUE=DURATION:PT1H
X-Robots-Tag:noindex
X-PUBLISHED-TTL:PT1H
BEGIN:VTIMEZONE
TZID:America/Los_Angeles
BEGIN:DAYLIGHT
TZOFFSETFROM:-0800
TZOFFSETTO:-0700
TZNAME:PDT
DTSTART:20260308T100000
END:DAYLIGHT
BEGIN:STANDARD
TZOFFSETFROM:-0700
TZOFFSETTO:-0800
TZNAME:PST
DTSTART:20261101T090000
END:STANDARD
BEGIN:DAYLIGHT
TZOFFSETFROM:-0800
TZOFFSETTO:-0700
TZNAME:PDT
DTSTART:20270314T100000
END:DAYLIGHT
BEGIN:STANDARD
TZOFFSETFROM:-0700
TZOFFSETTO:-0800
TZNAME:PST
DTSTART:20271107T090000
END:STANDARD
BEGIN:DAYLIGHT
TZOFFSETFROM:-0800
TZOFFSETTO:-0700
TZNAME:PDT
DTSTART:20280312T100000
END:DAYLIGHT
BEGIN:STANDARD
TZOFFSETFROM:-0700
TZOFFSETTO:-0800
TZNAME:PST
DTSTART:20281105T090000
END:STANDARD
END:VTIMEZONE
BEGIN:VEVENT
DTSTART;TZID=America/Los_Angeles:20270308T173000
DTEND;TZID=America/Los_Angeles:20270308T190000
DTSTAMP:20260425T213236
CREATED:20260204T003150Z
LAST-MODIFIED:20260204T003150Z
UID:10001385-1804527000-1804532400@piercegop.org
SUMMARY:Gig Harbor City Council
DESCRIPTION:Gig Harbor’s weekly public meeting. Check website for agenda: https://gigharborwa.portal.civicclerk.com/
URL:https://piercegop.org/event/gig-harbor-city-council/2027-03-08/
LOCATION:3510 Grandview St\, 3510 Grandview St\, Gig Harbor\, 98335\, United States
CATEGORIES:26th District
ORGANIZER;CN="Pierce County Republican Party":MAILTO:PierceGOP@PierceGOP.org
END:VEVENT
BEGIN:VEVENT
DTSTART;TZID=America/Los_Angeles:20270315T173000
DTEND;TZID=America/Los_Angeles:20270315T190000
DTSTAMP:20260425T213236
CREATED:20260204T003150Z
LAST-MODIFIED:20260204T003150Z
UID:10001386-1805131800-1805137200@piercegop.org
SUMMARY:Gig Harbor City Council
DESCRIPTION:Gig Harbor’s weekly public meeting. Check website for agenda: https://gigharborwa.portal.civicclerk.com/
URL:https://piercegop.org/event/gig-harbor-city-council/2027-03-15/
LOCATION:3510 Grandview St\, 3510 Grandview St\, Gig Harbor\, 98335\, United States
CATEGORIES:26th District
ORGANIZER;CN="Pierce County Republican Party":MAILTO:PierceGOP@PierceGOP.org
END:VEVENT
BEGIN:VEVENT
DTSTART;TZID=America/Los_Angeles:20270322T173000
DTEND;TZID=America/Los_Angeles:20270322T190000
DTSTAMP:20260425T213236
CREATED:20260204T003150Z
LAST-MODIFIED:20260204T003150Z
UID:10001387-1805736600-1805742000@piercegop.org
SUMMARY:Gig Harbor City Council
DESCRIPTION:Gig Harbor’s weekly public meeting. Check website for agenda: https://gigharborwa.portal.civicclerk.com/
URL:https://piercegop.org/event/gig-harbor-city-council/2027-03-22/
LOCATION:3510 Grandview St\, 3510 Grandview St\, Gig Harbor\, 98335\, United States
CATEGORIES:26th District
ORGANIZER;CN="Pierce County Republican Party":MAILTO:PierceGOP@PierceGOP.org
END:VEVENT
BEGIN:VEVENT
DTSTART;TZID=America/Los_Angeles:20270327T083000
DTEND;TZID=America/Los_Angeles:20270327T110000
DTSTAMP:20260425T213236
CREATED:20240719T171955Z
LAST-MODIFIED:20250321T213205Z
UID:10000158-1806136200-1806145200@piercegop.org
SUMMARY:Gig Harbor Republican Club
DESCRIPTION:
URL:https://piercegop.org/event/gig-harbor-republican-club/2027-03-27/
LOCATION:Harbor Place at Cottesmore\, 1016 29th St. NW\, Gig Harbor\, WA\, 98335\, United States
CATEGORIES:26th District,Clubs,Gig Harbor Republican Club
ATTACH;FMTTYPE=image/png:https://piercegop.org/wp-content/uploads/2024/08/Gig-Harbor-Republicans-PCRP.png
ORGANIZER;CN="Gig Harbor Republican Club":MAILTO:gigharborrepublicans@gmail.com
END:VEVENT
BEGIN:VEVENT
DTSTART;TZID=America/Los_Angeles:20270329T173000
DTEND;TZID=America/Los_Angeles:20270329T190000
DTSTAMP:20260425T213236
CREATED:20260204T003150Z
LAST-MODIFIED:20260204T003150Z
UID:10001388-1806341400-1806346800@piercegop.org
SUMMARY:Gig Harbor City Council
DESCRIPTION:Gig Harbor’s weekly public meeting. Check website for agenda: https://gigharborwa.portal.civicclerk.com/
URL:https://piercegop.org/event/gig-harbor-city-council/2027-03-29/
LOCATION:3510 Grandview St\, 3510 Grandview St\, Gig Harbor\, 98335\, United States
CATEGORIES:26th District
ORGANIZER;CN="Pierce County Republican Party":MAILTO:PierceGOP@PierceGOP.org
END:VEVENT
BEGIN:VEVENT
DTSTART;TZID=America/Los_Angeles:20270405T173000
DTEND;TZID=America/Los_Angeles:20270405T190000
DTSTAMP:20260425T213236
CREATED:20260204T003150Z
LAST-MODIFIED:20260204T003150Z
UID:10001389-1806946200-1806951600@piercegop.org
SUMMARY:Gig Harbor City Council
DESCRIPTION:Gig Harbor’s weekly public meeting. Check website for agenda: https://gigharborwa.portal.civicclerk.com/
URL:https://piercegop.org/event/gig-harbor-city-council/2027-04-05/
LOCATION:3510 Grandview St\, 3510 Grandview St\, Gig Harbor\, 98335\, United States
CATEGORIES:26th District
ORGANIZER;CN="Pierce County Republican Party":MAILTO:PierceGOP@PierceGOP.org
END:VEVENT
BEGIN:VEVENT
DTSTART;TZID=America/Los_Angeles:20270412T173000
DTEND;TZID=America/Los_Angeles:20270412T190000
DTSTAMP:20260425T213236
CREATED:20260204T003150Z
LAST-MODIFIED:20260204T003150Z
UID:10001390-1807551000-1807556400@piercegop.org
SUMMARY:Gig Harbor City Council
DESCRIPTION:Gig Harbor’s weekly public meeting. Check website for agenda: https://gigharborwa.portal.civicclerk.com/
URL:https://piercegop.org/event/gig-harbor-city-council/2027-04-12/
LOCATION:3510 Grandview St\, 3510 Grandview St\, Gig Harbor\, 98335\, United States
CATEGORIES:26th District
ORGANIZER;CN="Pierce County Republican Party":MAILTO:PierceGOP@PierceGOP.org
END:VEVENT
BEGIN:VEVENT
DTSTART;TZID=America/Los_Angeles:20270419T173000
DTEND;TZID=America/Los_Angeles:20270419T190000
DTSTAMP:20260425T213236
CREATED:20260204T003150Z
LAST-MODIFIED:20260204T003150Z
UID:10001391-1808155800-1808161200@piercegop.org
SUMMARY:Gig Harbor City Council
DESCRIPTION:Gig Harbor’s weekly public meeting. Check website for agenda: https://gigharborwa.portal.civicclerk.com/
URL:https://piercegop.org/event/gig-harbor-city-council/2027-04-19/
LOCATION:3510 Grandview St\, 3510 Grandview St\, Gig Harbor\, 98335\, United States
CATEGORIES:26th District
ORGANIZER;CN="Pierce County Republican Party":MAILTO:PierceGOP@PierceGOP.org
END:VEVENT
BEGIN:VEVENT
DTSTART;TZID=America/Los_Angeles:20270424T083000
DTEND;TZID=America/Los_Angeles:20270424T110000
DTSTAMP:20260425T213236
CREATED:20240719T171955Z
LAST-MODIFIED:20250321T213205Z
UID:10000159-1808555400-1808564400@piercegop.org
SUMMARY:Gig Harbor Republican Club
DESCRIPTION:
URL:https://piercegop.org/event/gig-harbor-republican-club/2027-04-24/
LOCATION:Harbor Place at Cottesmore\, 1016 29th St. NW\, Gig Harbor\, WA\, 98335\, United States
CATEGORIES:26th District,Clubs,Gig Harbor Republican Club
ATTACH;FMTTYPE=image/png:https://piercegop.org/wp-content/uploads/2024/08/Gig-Harbor-Republicans-PCRP.png
ORGANIZER;CN="Gig Harbor Republican Club":MAILTO:gigharborrepublicans@gmail.com
END:VEVENT
BEGIN:VEVENT
DTSTART;TZID=America/Los_Angeles:20270426T173000
DTEND;TZID=America/Los_Angeles:20270426T190000
DTSTAMP:20260425T213236
CREATED:20260204T003150Z
LAST-MODIFIED:20260204T003150Z
UID:10001392-1808760600-1808766000@piercegop.org
SUMMARY:Gig Harbor City Council
DESCRIPTION:Gig Harbor’s weekly public meeting. Check website for agenda: https://gigharborwa.portal.civicclerk.com/
URL:https://piercegop.org/event/gig-harbor-city-council/2027-04-26/
LOCATION:3510 Grandview St\, 3510 Grandview St\, Gig Harbor\, 98335\, United States
CATEGORIES:26th District
ORGANIZER;CN="Pierce County Republican Party":MAILTO:PierceGOP@PierceGOP.org
END:VEVENT
BEGIN:VEVENT
DTSTART;TZID=America/Los_Angeles:20270503T173000
DTEND;TZID=America/Los_Angeles:20270503T190000
DTSTAMP:20260425T213236
CREATED:20260204T003150Z
LAST-MODIFIED:20260204T003150Z
UID:10001393-1809365400-1809370800@piercegop.org
SUMMARY:Gig Harbor City Council
DESCRIPTION:Gig Harbor’s weekly public meeting. Check website for agenda: https://gigharborwa.portal.civicclerk.com/
URL:https://piercegop.org/event/gig-harbor-city-council/2027-05-03/
LOCATION:3510 Grandview St\, 3510 Grandview St\, Gig Harbor\, 98335\, United States
CATEGORIES:26th District
ORGANIZER;CN="Pierce County Republican Party":MAILTO:PierceGOP@PierceGOP.org
END:VEVENT
BEGIN:VEVENT
DTSTART;TZID=America/Los_Angeles:20270510T173000
DTEND;TZID=America/Los_Angeles:20270510T190000
DTSTAMP:20260425T213236
CREATED:20260204T003150Z
LAST-MODIFIED:20260204T003150Z
UID:10001394-1809970200-1809975600@piercegop.org
SUMMARY:Gig Harbor City Council
DESCRIPTION:Gig Harbor’s weekly public meeting. Check website for agenda: https://gigharborwa.portal.civicclerk.com/
URL:https://piercegop.org/event/gig-harbor-city-council/2027-05-10/
LOCATION:3510 Grandview St\, 3510 Grandview St\, Gig Harbor\, 98335\, United States
CATEGORIES:26th District
ORGANIZER;CN="Pierce County Republican Party":MAILTO:PierceGOP@PierceGOP.org
END:VEVENT
BEGIN:VEVENT
DTSTART;TZID=America/Los_Angeles:20270517T173000
DTEND;TZID=America/Los_Angeles:20270517T190000
DTSTAMP:20260425T213236
CREATED:20260204T003150Z
LAST-MODIFIED:20260204T003150Z
UID:10001395-1810575000-1810580400@piercegop.org
SUMMARY:Gig Harbor City Council
DESCRIPTION:Gig Harbor’s weekly public meeting. Check website for agenda: https://gigharborwa.portal.civicclerk.com/
URL:https://piercegop.org/event/gig-harbor-city-council/2027-05-17/
LOCATION:3510 Grandview St\, 3510 Grandview St\, Gig Harbor\, 98335\, United States
CATEGORIES:26th District
ORGANIZER;CN="Pierce County Republican Party":MAILTO:PierceGOP@PierceGOP.org
END:VEVENT
BEGIN:VEVENT
DTSTART;TZID=America/Los_Angeles:20270522T083000
DTEND;TZID=America/Los_Angeles:20270522T110000
DTSTAMP:20260425T213236
CREATED:20240719T171955Z
LAST-MODIFIED:20250321T213205Z
UID:10000160-1810974600-1810983600@piercegop.org
SUMMARY:Gig Harbor Republican Club
DESCRIPTION:
URL:https://piercegop.org/event/gig-harbor-republican-club/2027-05-22/
LOCATION:Harbor Place at Cottesmore\, 1016 29th St. NW\, Gig Harbor\, WA\, 98335\, United States
CATEGORIES:26th District,Clubs,Gig Harbor Republican Club
ATTACH;FMTTYPE=image/png:https://piercegop.org/wp-content/uploads/2024/08/Gig-Harbor-Republicans-PCRP.png
ORGANIZER;CN="Gig Harbor Republican Club":MAILTO:gigharborrepublicans@gmail.com
END:VEVENT
BEGIN:VEVENT
DTSTART;TZID=America/Los_Angeles:20270524T173000
DTEND;TZID=America/Los_Angeles:20270524T190000
DTSTAMP:20260425T213236
CREATED:20260204T003150Z
LAST-MODIFIED:20260204T003150Z
UID:10001396-1811179800-1811185200@piercegop.org
SUMMARY:Gig Harbor City Council
DESCRIPTION:Gig Harbor’s weekly public meeting. Check website for agenda: https://gigharborwa.portal.civicclerk.com/
URL:https://piercegop.org/event/gig-harbor-city-council/2027-05-24/
LOCATION:3510 Grandview St\, 3510 Grandview St\, Gig Harbor\, 98335\, United States
CATEGORIES:26th District
ORGANIZER;CN="Pierce County Republican Party":MAILTO:PierceGOP@PierceGOP.org
END:VEVENT
BEGIN:VEVENT
DTSTART;TZID=America/Los_Angeles:20270531T173000
DTEND;TZID=America/Los_Angeles:20270531T190000
DTSTAMP:20260425T213236
CREATED:20260204T003150Z
LAST-MODIFIED:20260204T003150Z
UID:10001397-1811784600-1811790000@piercegop.org
SUMMARY:Gig Harbor City Council
DESCRIPTION:Gig Harbor’s weekly public meeting. Check website for agenda: https://gigharborwa.portal.civicclerk.com/
URL:https://piercegop.org/event/gig-harbor-city-council/2027-05-31/
LOCATION:3510 Grandview St\, 3510 Grandview St\, Gig Harbor\, 98335\, United States
CATEGORIES:26th District
ORGANIZER;CN="Pierce County Republican Party":MAILTO:PierceGOP@PierceGOP.org
END:VEVENT
BEGIN:VEVENT
DTSTART;TZID=America/Los_Angeles:20270607T173000
DTEND;TZID=America/Los_Angeles:20270607T190000
DTSTAMP:20260425T213236
CREATED:20260204T003150Z
LAST-MODIFIED:20260204T003150Z
UID:10001398-1812389400-1812394800@piercegop.org
SUMMARY:Gig Harbor City Council
DESCRIPTION:Gig Harbor’s weekly public meeting. Check website for agenda: https://gigharborwa.portal.civicclerk.com/
URL:https://piercegop.org/event/gig-harbor-city-council/2027-06-07/
LOCATION:3510 Grandview St\, 3510 Grandview St\, Gig Harbor\, 98335\, United States
CATEGORIES:26th District
ORGANIZER;CN="Pierce County Republican Party":MAILTO:PierceGOP@PierceGOP.org
END:VEVENT
BEGIN:VEVENT
DTSTART;TZID=America/Los_Angeles:20270614T173000
DTEND;TZID=America/Los_Angeles:20270614T190000
DTSTAMP:20260425T213236
CREATED:20260204T003150Z
LAST-MODIFIED:20260204T003150Z
UID:10001399-1812994200-1812999600@piercegop.org
SUMMARY:Gig Harbor City Council
DESCRIPTION:Gig Harbor’s weekly public meeting. Check website for agenda: https://gigharborwa.portal.civicclerk.com/
URL:https://piercegop.org/event/gig-harbor-city-council/2027-06-14/
LOCATION:3510 Grandview St\, 3510 Grandview St\, Gig Harbor\, 98335\, United States
CATEGORIES:26th District
ORGANIZER;CN="Pierce County Republican Party":MAILTO:PierceGOP@PierceGOP.org
END:VEVENT
BEGIN:VEVENT
DTSTART;TZID=America/Los_Angeles:20270621T173000
DTEND;TZID=America/Los_Angeles:20270621T190000
DTSTAMP:20260425T213236
CREATED:20260204T003150Z
LAST-MODIFIED:20260204T003150Z
UID:10001400-1813599000-1813604400@piercegop.org
SUMMARY:Gig Harbor City Council
DESCRIPTION:Gig Harbor’s weekly public meeting. Check website for agenda: https://gigharborwa.portal.civicclerk.com/
URL:https://piercegop.org/event/gig-harbor-city-council/2027-06-21/
LOCATION:3510 Grandview St\, 3510 Grandview St\, Gig Harbor\, 98335\, United States
CATEGORIES:26th District
ORGANIZER;CN="Pierce County Republican Party":MAILTO:PierceGOP@PierceGOP.org
END:VEVENT
BEGIN:VEVENT
DTSTART;TZID=America/Los_Angeles:20270626T083000
DTEND;TZID=America/Los_Angeles:20270626T110000
DTSTAMP:20260425T213236
CREATED:20240719T171955Z
LAST-MODIFIED:20250321T213205Z
UID:10000161-1813998600-1814007600@piercegop.org
SUMMARY:Gig Harbor Republican Club
DESCRIPTION:
URL:https://piercegop.org/event/gig-harbor-republican-club/2027-06-26/
LOCATION:Harbor Place at Cottesmore\, 1016 29th St. NW\, Gig Harbor\, WA\, 98335\, United States
CATEGORIES:26th District,Clubs,Gig Harbor Republican Club
ATTACH;FMTTYPE=image/png:https://piercegop.org/wp-content/uploads/2024/08/Gig-Harbor-Republicans-PCRP.png
ORGANIZER;CN="Gig Harbor Republican Club":MAILTO:gigharborrepublicans@gmail.com
END:VEVENT
BEGIN:VEVENT
DTSTART;TZID=America/Los_Angeles:20270628T173000
DTEND;TZID=America/Los_Angeles:20270628T190000
DTSTAMP:20260425T213236
CREATED:20260204T003150Z
LAST-MODIFIED:20260204T003150Z
UID:10001401-1814203800-1814209200@piercegop.org
SUMMARY:Gig Harbor City Council
DESCRIPTION:Gig Harbor’s weekly public meeting. Check website for agenda: https://gigharborwa.portal.civicclerk.com/
URL:https://piercegop.org/event/gig-harbor-city-council/2027-06-28/
LOCATION:3510 Grandview St\, 3510 Grandview St\, Gig Harbor\, 98335\, United States
CATEGORIES:26th District
ORGANIZER;CN="Pierce County Republican Party":MAILTO:PierceGOP@PierceGOP.org
END:VEVENT
BEGIN:VEVENT
DTSTART;TZID=America/Los_Angeles:20270705T173000
DTEND;TZID=America/Los_Angeles:20270705T190000
DTSTAMP:20260425T213236
CREATED:20260204T003150Z
LAST-MODIFIED:20260204T003150Z
UID:10001402-1814808600-1814814000@piercegop.org
SUMMARY:Gig Harbor City Council
DESCRIPTION:Gig Harbor’s weekly public meeting. Check website for agenda: https://gigharborwa.portal.civicclerk.com/
URL:https://piercegop.org/event/gig-harbor-city-council/2027-07-05/
LOCATION:3510 Grandview St\, 3510 Grandview St\, Gig Harbor\, 98335\, United States
CATEGORIES:26th District
ORGANIZER;CN="Pierce County Republican Party":MAILTO:PierceGOP@PierceGOP.org
END:VEVENT
BEGIN:VEVENT
DTSTART;TZID=America/Los_Angeles:20270712T173000
DTEND;TZID=America/Los_Angeles:20270712T190000
DTSTAMP:20260425T213236
CREATED:20260204T003150Z
LAST-MODIFIED:20260204T003150Z
UID:10001403-1815413400-1815418800@piercegop.org
SUMMARY:Gig Harbor City Council
DESCRIPTION:Gig Harbor’s weekly public meeting. Check website for agenda: https://gigharborwa.portal.civicclerk.com/
URL:https://piercegop.org/event/gig-harbor-city-council/2027-07-12/
LOCATION:3510 Grandview St\, 3510 Grandview St\, Gig Harbor\, 98335\, United States
CATEGORIES:26th District
ORGANIZER;CN="Pierce County Republican Party":MAILTO:PierceGOP@PierceGOP.org
END:VEVENT
BEGIN:VEVENT
DTSTART;TZID=America/Los_Angeles:20270719T173000
DTEND;TZID=America/Los_Angeles:20270719T190000
DTSTAMP:20260425T213236
CREATED:20260204T003150Z
LAST-MODIFIED:20260204T003150Z
UID:10001404-1816018200-1816023600@piercegop.org
SUMMARY:Gig Harbor City Council
DESCRIPTION:Gig Harbor’s weekly public meeting. Check website for agenda: https://gigharborwa.portal.civicclerk.com/
URL:https://piercegop.org/event/gig-harbor-city-council/2027-07-19/
LOCATION:3510 Grandview St\, 3510 Grandview St\, Gig Harbor\, 98335\, United States
CATEGORIES:26th District
ORGANIZER;CN="Pierce County Republican Party":MAILTO:PierceGOP@PierceGOP.org
END:VEVENT
BEGIN:VEVENT
DTSTART;TZID=America/Los_Angeles:20270724T083000
DTEND;TZID=America/Los_Angeles:20270724T110000
DTSTAMP:20260425T213236
CREATED:20240719T171955Z
LAST-MODIFIED:20250321T213205Z
UID:10000162-1816417800-1816426800@piercegop.org
SUMMARY:Gig Harbor Republican Club
DESCRIPTION:
URL:https://piercegop.org/event/gig-harbor-republican-club/2027-07-24/
LOCATION:Harbor Place at Cottesmore\, 1016 29th St. NW\, Gig Harbor\, WA\, 98335\, United States
CATEGORIES:26th District,Clubs,Gig Harbor Republican Club
ATTACH;FMTTYPE=image/png:https://piercegop.org/wp-content/uploads/2024/08/Gig-Harbor-Republicans-PCRP.png
ORGANIZER;CN="Gig Harbor Republican Club":MAILTO:gigharborrepublicans@gmail.com
END:VEVENT
BEGIN:VEVENT
DTSTART;TZID=America/Los_Angeles:20270726T173000
DTEND;TZID=America/Los_Angeles:20270726T190000
DTSTAMP:20260425T213236
CREATED:20260204T003150Z
LAST-MODIFIED:20260204T003150Z
UID:10001405-1816623000-1816628400@piercegop.org
SUMMARY:Gig Harbor City Council
DESCRIPTION:Gig Harbor’s weekly public meeting. Check website for agenda: https://gigharborwa.portal.civicclerk.com/
URL:https://piercegop.org/event/gig-harbor-city-council/2027-07-26/
LOCATION:3510 Grandview St\, 3510 Grandview St\, Gig Harbor\, 98335\, United States
CATEGORIES:26th District
ORGANIZER;CN="Pierce County Republican Party":MAILTO:PierceGOP@PierceGOP.org
END:VEVENT
BEGIN:VEVENT
DTSTART;TZID=America/Los_Angeles:20270802T173000
DTEND;TZID=America/Los_Angeles:20270802T190000
DTSTAMP:20260425T213236
CREATED:20260204T003150Z
LAST-MODIFIED:20260204T003150Z
UID:10001406-1817227800-1817233200@piercegop.org
SUMMARY:Gig Harbor City Council
DESCRIPTION:Gig Harbor’s weekly public meeting. Check website for agenda: https://gigharborwa.portal.civicclerk.com/
URL:https://piercegop.org/event/gig-harbor-city-council/2027-08-02/
LOCATION:3510 Grandview St\, 3510 Grandview St\, Gig Harbor\, 98335\, United States
CATEGORIES:26th District
ORGANIZER;CN="Pierce County Republican Party":MAILTO:PierceGOP@PierceGOP.org
END:VEVENT
BEGIN:VEVENT
DTSTART;TZID=America/Los_Angeles:20270809T173000
DTEND;TZID=America/Los_Angeles:20270809T190000
DTSTAMP:20260425T213236
CREATED:20260204T003150Z
LAST-MODIFIED:20260204T003150Z
UID:10001407-1817832600-1817838000@piercegop.org
SUMMARY:Gig Harbor City Council
DESCRIPTION:Gig Harbor’s weekly public meeting. Check website for agenda: https://gigharborwa.portal.civicclerk.com/
URL:https://piercegop.org/event/gig-harbor-city-council/2027-08-09/
LOCATION:3510 Grandview St\, 3510 Grandview St\, Gig Harbor\, 98335\, United States
CATEGORIES:26th District
ORGANIZER;CN="Pierce County Republican Party":MAILTO:PierceGOP@PierceGOP.org
END:VEVENT
BEGIN:VEVENT
DTSTART;TZID=America/Los_Angeles:20270816T173000
DTEND;TZID=America/Los_Angeles:20270816T190000
DTSTAMP:20260425T213236
CREATED:20260204T003150Z
LAST-MODIFIED:20260204T003150Z
UID:10001408-1818437400-1818442800@piercegop.org
SUMMARY:Gig Harbor City Council
DESCRIPTION:Gig Harbor’s weekly public meeting. Check website for agenda: https://gigharborwa.portal.civicclerk.com/
URL:https://piercegop.org/event/gig-harbor-city-council/2027-08-16/
LOCATION:3510 Grandview St\, 3510 Grandview St\, Gig Harbor\, 98335\, United States
CATEGORIES:26th District
ORGANIZER;CN="Pierce County Republican Party":MAILTO:PierceGOP@PierceGOP.org
END:VEVENT
BEGIN:VEVENT
DTSTART;TZID=America/Los_Angeles:20270823T173000
DTEND;TZID=America/Los_Angeles:20270823T190000
DTSTAMP:20260425T213236
CREATED:20260204T003150Z
LAST-MODIFIED:20260204T003150Z
UID:10001409-1819042200-1819047600@piercegop.org
SUMMARY:Gig Harbor City Council
DESCRIPTION:Gig Harbor’s weekly public meeting. Check website for agenda: https://gigharborwa.portal.civicclerk.com/
URL:https://piercegop.org/event/gig-harbor-city-council/2027-08-23/
LOCATION:3510 Grandview St\, 3510 Grandview St\, Gig Harbor\, 98335\, United States
CATEGORIES:26th District
ORGANIZER;CN="Pierce County Republican Party":MAILTO:PierceGOP@PierceGOP.org
END:VEVENT
END:VCALENDAR