BEGIN:VCALENDAR
VERSION:2.0
PRODID:-//Pierce County Republican Party - ECPv6.15.20//NONSGML v1.0//EN
CALSCALE:GREGORIAN
METHOD:PUBLISH
X-ORIGINAL-URL:https://piercegop.org
X-WR-CALDESC:Events for Pierce County Republican Party
REFRESH-INTERVAL;VALUE=DURATION:PT1H
X-Robots-Tag:noindex
X-PUBLISHED-TTL:PT1H
BEGIN:VTIMEZONE
TZID:America/Los_Angeles
BEGIN:DAYLIGHT
TZOFFSETFROM:-0800
TZOFFSETTO:-0700
TZNAME:PDT
DTSTART:20280312T100000
END:DAYLIGHT
BEGIN:STANDARD
TZOFFSETFROM:-0700
TZOFFSETTO:-0800
TZNAME:PST
DTSTART:20281105T090000
END:STANDARD
BEGIN:DAYLIGHT
TZOFFSETFROM:-0800
TZOFFSETTO:-0700
TZNAME:PDT
DTSTART:20290311T100000
END:DAYLIGHT
BEGIN:STANDARD
TZOFFSETFROM:-0700
TZOFFSETTO:-0800
TZNAME:PST
DTSTART:20291104T090000
END:STANDARD
BEGIN:DAYLIGHT
TZOFFSETFROM:-0800
TZOFFSETTO:-0700
TZNAME:PDT
DTSTART:20300310T100000
END:DAYLIGHT
BEGIN:STANDARD
TZOFFSETFROM:-0700
TZOFFSETTO:-0800
TZNAME:PST
DTSTART:20301103T090000
END:STANDARD
BEGIN:DAYLIGHT
TZOFFSETFROM:-0800
TZOFFSETTO:-0700
TZNAME:PDT
DTSTART:20310309T100000
END:DAYLIGHT
BEGIN:STANDARD
TZOFFSETFROM:-0700
TZOFFSETTO:-0800
TZNAME:PST
DTSTART:20311102T090000
END:STANDARD
END:VTIMEZONE
BEGIN:VEVENT
DTSTART;TZID=America/Los_Angeles:20291219T183000
DTEND;TZID=America/Los_Angeles:20291219T200000
DTSTAMP:20260424T085440
CREATED:20250925T213343Z
LAST-MODIFIED:20250925T213732Z
UID:10001297-1892399400-1892404800@piercegop.org
SUMMARY:29th LD PCO Meeting
DESCRIPTION:Join us for our meetings every third Wednesday of each month from 6:30PM to 8:00PM at Mazatlan in Lakewood on South Tacoma Way! \nContact us at 29thPCLD@gmail.com \nReach out and follow us on FaceBook:\nhttps://www.facebook.com/29thDistrictRepublicansofPierceCounty
URL:https://piercegop.org/event/29th-ld-pco-meeting-2/2029-12-19/
LOCATION:Mazatlan in Lakewood South Tacoma Way\, 10518 S Tacoma Way\, Lakewood\, 98499\, United States
CATEGORIES:29th District
ATTACH;FMTTYPE=image/png:https://piercegop.org/wp-content/uploads/2025/02/logo.png
END:VEVENT
BEGIN:VEVENT
DTSTART;TZID=America/Los_Angeles:20300116T183000
DTEND;TZID=America/Los_Angeles:20300116T200000
DTSTAMP:20260424T085440
CREATED:20250925T213343Z
LAST-MODIFIED:20250925T213732Z
UID:10001298-1894818600-1894824000@piercegop.org
SUMMARY:29th LD PCO Meeting
DESCRIPTION:Join us for our meetings every third Wednesday of each month from 6:30PM to 8:00PM at Mazatlan in Lakewood on South Tacoma Way! \nContact us at 29thPCLD@gmail.com \nReach out and follow us on FaceBook:\nhttps://www.facebook.com/29thDistrictRepublicansofPierceCounty
URL:https://piercegop.org/event/29th-ld-pco-meeting-2/2030-01-16/
LOCATION:Mazatlan in Lakewood South Tacoma Way\, 10518 S Tacoma Way\, Lakewood\, 98499\, United States
CATEGORIES:29th District
ATTACH;FMTTYPE=image/png:https://piercegop.org/wp-content/uploads/2025/02/logo.png
END:VEVENT
BEGIN:VEVENT
DTSTART;TZID=America/Los_Angeles:20300220T183000
DTEND;TZID=America/Los_Angeles:20300220T200000
DTSTAMP:20260424T085440
CREATED:20250925T213343Z
LAST-MODIFIED:20250925T213732Z
UID:10001299-1897842600-1897848000@piercegop.org
SUMMARY:29th LD PCO Meeting
DESCRIPTION:Join us for our meetings every third Wednesday of each month from 6:30PM to 8:00PM at Mazatlan in Lakewood on South Tacoma Way! \nContact us at 29thPCLD@gmail.com \nReach out and follow us on FaceBook:\nhttps://www.facebook.com/29thDistrictRepublicansofPierceCounty
URL:https://piercegop.org/event/29th-ld-pco-meeting-2/2030-02-20/
LOCATION:Mazatlan in Lakewood South Tacoma Way\, 10518 S Tacoma Way\, Lakewood\, 98499\, United States
CATEGORIES:29th District
ATTACH;FMTTYPE=image/png:https://piercegop.org/wp-content/uploads/2025/02/logo.png
END:VEVENT
BEGIN:VEVENT
DTSTART;TZID=America/Los_Angeles:20300320T183000
DTEND;TZID=America/Los_Angeles:20300320T200000
DTSTAMP:20260424T085440
CREATED:20250925T213343Z
LAST-MODIFIED:20250925T213732Z
UID:10001300-1900261800-1900267200@piercegop.org
SUMMARY:29th LD PCO Meeting
DESCRIPTION:Join us for our meetings every third Wednesday of each month from 6:30PM to 8:00PM at Mazatlan in Lakewood on South Tacoma Way! \nContact us at 29thPCLD@gmail.com \nReach out and follow us on FaceBook:\nhttps://www.facebook.com/29thDistrictRepublicansofPierceCounty
URL:https://piercegop.org/event/29th-ld-pco-meeting-2/2030-03-20/
LOCATION:Mazatlan in Lakewood South Tacoma Way\, 10518 S Tacoma Way\, Lakewood\, 98499\, United States
CATEGORIES:29th District
ATTACH;FMTTYPE=image/png:https://piercegop.org/wp-content/uploads/2025/02/logo.png
END:VEVENT
BEGIN:VEVENT
DTSTART;TZID=America/Los_Angeles:20300417T183000
DTEND;TZID=America/Los_Angeles:20300417T200000
DTSTAMP:20260424T085440
CREATED:20250925T213343Z
LAST-MODIFIED:20250925T213732Z
UID:10001301-1902681000-1902686400@piercegop.org
SUMMARY:29th LD PCO Meeting
DESCRIPTION:Join us for our meetings every third Wednesday of each month from 6:30PM to 8:00PM at Mazatlan in Lakewood on South Tacoma Way! \nContact us at 29thPCLD@gmail.com \nReach out and follow us on FaceBook:\nhttps://www.facebook.com/29thDistrictRepublicansofPierceCounty
URL:https://piercegop.org/event/29th-ld-pco-meeting-2/2030-04-17/
LOCATION:Mazatlan in Lakewood South Tacoma Way\, 10518 S Tacoma Way\, Lakewood\, 98499\, United States
CATEGORIES:29th District
ATTACH;FMTTYPE=image/png:https://piercegop.org/wp-content/uploads/2025/02/logo.png
END:VEVENT
BEGIN:VEVENT
DTSTART;TZID=America/Los_Angeles:20300515T183000
DTEND;TZID=America/Los_Angeles:20300515T200000
DTSTAMP:20260424T085440
CREATED:20250925T213343Z
LAST-MODIFIED:20250925T213732Z
UID:10001302-1905100200-1905105600@piercegop.org
SUMMARY:29th LD PCO Meeting
DESCRIPTION:Join us for our meetings every third Wednesday of each month from 6:30PM to 8:00PM at Mazatlan in Lakewood on South Tacoma Way! \nContact us at 29thPCLD@gmail.com \nReach out and follow us on FaceBook:\nhttps://www.facebook.com/29thDistrictRepublicansofPierceCounty
URL:https://piercegop.org/event/29th-ld-pco-meeting-2/2030-05-15/
LOCATION:Mazatlan in Lakewood South Tacoma Way\, 10518 S Tacoma Way\, Lakewood\, 98499\, United States
CATEGORIES:29th District
ATTACH;FMTTYPE=image/png:https://piercegop.org/wp-content/uploads/2025/02/logo.png
END:VEVENT
BEGIN:VEVENT
DTSTART;TZID=America/Los_Angeles:20300619T183000
DTEND;TZID=America/Los_Angeles:20300619T200000
DTSTAMP:20260424T085440
CREATED:20250925T213343Z
LAST-MODIFIED:20250925T213732Z
UID:10001303-1908124200-1908129600@piercegop.org
SUMMARY:29th LD PCO Meeting
DESCRIPTION:Join us for our meetings every third Wednesday of each month from 6:30PM to 8:00PM at Mazatlan in Lakewood on South Tacoma Way! \nContact us at 29thPCLD@gmail.com \nReach out and follow us on FaceBook:\nhttps://www.facebook.com/29thDistrictRepublicansofPierceCounty
URL:https://piercegop.org/event/29th-ld-pco-meeting-2/2030-06-19/
LOCATION:Mazatlan in Lakewood South Tacoma Way\, 10518 S Tacoma Way\, Lakewood\, 98499\, United States
CATEGORIES:29th District
ATTACH;FMTTYPE=image/png:https://piercegop.org/wp-content/uploads/2025/02/logo.png
END:VEVENT
BEGIN:VEVENT
DTSTART;TZID=America/Los_Angeles:20300717T183000
DTEND;TZID=America/Los_Angeles:20300717T200000
DTSTAMP:20260424T085440
CREATED:20250925T213343Z
LAST-MODIFIED:20250925T213732Z
UID:10001304-1910543400-1910548800@piercegop.org
SUMMARY:29th LD PCO Meeting
DESCRIPTION:Join us for our meetings every third Wednesday of each month from 6:30PM to 8:00PM at Mazatlan in Lakewood on South Tacoma Way! \nContact us at 29thPCLD@gmail.com \nReach out and follow us on FaceBook:\nhttps://www.facebook.com/29thDistrictRepublicansofPierceCounty
URL:https://piercegop.org/event/29th-ld-pco-meeting-2/2030-07-17/
LOCATION:Mazatlan in Lakewood South Tacoma Way\, 10518 S Tacoma Way\, Lakewood\, 98499\, United States
CATEGORIES:29th District
ATTACH;FMTTYPE=image/png:https://piercegop.org/wp-content/uploads/2025/02/logo.png
END:VEVENT
BEGIN:VEVENT
DTSTART;TZID=America/Los_Angeles:20300821T183000
DTEND;TZID=America/Los_Angeles:20300821T200000
DTSTAMP:20260424T085440
CREATED:20250925T213343Z
LAST-MODIFIED:20250925T213732Z
UID:10001305-1913567400-1913572800@piercegop.org
SUMMARY:29th LD PCO Meeting
DESCRIPTION:Join us for our meetings every third Wednesday of each month from 6:30PM to 8:00PM at Mazatlan in Lakewood on South Tacoma Way! \nContact us at 29thPCLD@gmail.com \nReach out and follow us on FaceBook:\nhttps://www.facebook.com/29thDistrictRepublicansofPierceCounty
URL:https://piercegop.org/event/29th-ld-pco-meeting-2/2030-08-21/
LOCATION:Mazatlan in Lakewood South Tacoma Way\, 10518 S Tacoma Way\, Lakewood\, 98499\, United States
CATEGORIES:29th District
ATTACH;FMTTYPE=image/png:https://piercegop.org/wp-content/uploads/2025/02/logo.png
END:VEVENT
BEGIN:VEVENT
DTSTART;TZID=America/Los_Angeles:20300918T183000
DTEND;TZID=America/Los_Angeles:20300918T200000
DTSTAMP:20260424T085440
CREATED:20250925T213343Z
LAST-MODIFIED:20250925T213732Z
UID:10001306-1915986600-1915992000@piercegop.org
SUMMARY:29th LD PCO Meeting
DESCRIPTION:Join us for our meetings every third Wednesday of each month from 6:30PM to 8:00PM at Mazatlan in Lakewood on South Tacoma Way! \nContact us at 29thPCLD@gmail.com \nReach out and follow us on FaceBook:\nhttps://www.facebook.com/29thDistrictRepublicansofPierceCounty
URL:https://piercegop.org/event/29th-ld-pco-meeting-2/2030-09-18/
LOCATION:Mazatlan in Lakewood South Tacoma Way\, 10518 S Tacoma Way\, Lakewood\, 98499\, United States
CATEGORIES:29th District
ATTACH;FMTTYPE=image/png:https://piercegop.org/wp-content/uploads/2025/02/logo.png
END:VEVENT
END:VCALENDAR