BEGIN:VCALENDAR
VERSION:2.0
PRODID:-//Pierce County Republican Party - ECPv6.15.20//NONSGML v1.0//EN
CALSCALE:GREGORIAN
METHOD:PUBLISH
X-ORIGINAL-URL:https://piercegop.org
X-WR-CALDESC:Events for Pierce County Republican Party
REFRESH-INTERVAL;VALUE=DURATION:PT1H
X-Robots-Tag:noindex
X-PUBLISHED-TTL:PT1H
BEGIN:VTIMEZONE
TZID:America/Los_Angeles
BEGIN:DAYLIGHT
TZOFFSETFROM:-0800
TZOFFSETTO:-0700
TZNAME:PDT
DTSTART:20260308T100000
END:DAYLIGHT
BEGIN:STANDARD
TZOFFSETFROM:-0700
TZOFFSETTO:-0800
TZNAME:PST
DTSTART:20261101T090000
END:STANDARD
BEGIN:DAYLIGHT
TZOFFSETFROM:-0800
TZOFFSETTO:-0700
TZNAME:PDT
DTSTART:20270314T100000
END:DAYLIGHT
BEGIN:STANDARD
TZOFFSETFROM:-0700
TZOFFSETTO:-0800
TZNAME:PST
DTSTART:20271107T090000
END:STANDARD
BEGIN:DAYLIGHT
TZOFFSETFROM:-0800
TZOFFSETTO:-0700
TZNAME:PDT
DTSTART:20280312T100000
END:DAYLIGHT
BEGIN:STANDARD
TZOFFSETFROM:-0700
TZOFFSETTO:-0800
TZNAME:PST
DTSTART:20281105T090000
END:STANDARD
BEGIN:DAYLIGHT
TZOFFSETFROM:-0800
TZOFFSETTO:-0700
TZNAME:PDT
DTSTART:20290311T100000
END:DAYLIGHT
BEGIN:STANDARD
TZOFFSETFROM:-0700
TZOFFSETTO:-0800
TZNAME:PST
DTSTART:20291104T090000
END:STANDARD
BEGIN:DAYLIGHT
TZOFFSETFROM:-0800
TZOFFSETTO:-0700
TZNAME:PDT
DTSTART:20300310T100000
END:DAYLIGHT
BEGIN:STANDARD
TZOFFSETFROM:-0700
TZOFFSETTO:-0800
TZNAME:PST
DTSTART:20301103T090000
END:STANDARD
END:VTIMEZONE
BEGIN:VEVENT
DTSTART;TZID=America/Los_Angeles:20270421T183000
DTEND;TZID=America/Los_Angeles:20270421T200000
DTSTAMP:20260419T173602
CREATED:20250925T213343Z
LAST-MODIFIED:20250925T213732Z
UID:10001265-1808332200-1808337600@piercegop.org
SUMMARY:29th LD PCO Meeting
DESCRIPTION:Join us for our meetings every third Wednesday of each month from 6:30PM to 8:00PM at Mazatlan in Lakewood on South Tacoma Way! \nContact us at 29thPCLD@gmail.com \nReach out and follow us on FaceBook:\nhttps://www.facebook.com/29thDistrictRepublicansofPierceCounty
URL:https://piercegop.org/event/29th-ld-pco-meeting-2/2027-04-21/
LOCATION:Mazatlan in Lakewood South Tacoma Way\, 10518 S Tacoma Way\, Lakewood\, 98499\, United States
CATEGORIES:29th District
ATTACH;FMTTYPE=image/png:https://piercegop.org/wp-content/uploads/2025/02/logo.png
END:VEVENT
BEGIN:VEVENT
DTSTART;TZID=America/Los_Angeles:20270519T183000
DTEND;TZID=America/Los_Angeles:20270519T200000
DTSTAMP:20260419T173602
CREATED:20250925T213343Z
LAST-MODIFIED:20250925T213732Z
UID:10001266-1810751400-1810756800@piercegop.org
SUMMARY:29th LD PCO Meeting
DESCRIPTION:Join us for our meetings every third Wednesday of each month from 6:30PM to 8:00PM at Mazatlan in Lakewood on South Tacoma Way! \nContact us at 29thPCLD@gmail.com \nReach out and follow us on FaceBook:\nhttps://www.facebook.com/29thDistrictRepublicansofPierceCounty
URL:https://piercegop.org/event/29th-ld-pco-meeting-2/2027-05-19/
LOCATION:Mazatlan in Lakewood South Tacoma Way\, 10518 S Tacoma Way\, Lakewood\, 98499\, United States
CATEGORIES:29th District
ATTACH;FMTTYPE=image/png:https://piercegop.org/wp-content/uploads/2025/02/logo.png
END:VEVENT
BEGIN:VEVENT
DTSTART;TZID=America/Los_Angeles:20270616T183000
DTEND;TZID=America/Los_Angeles:20270616T200000
DTSTAMP:20260419T173602
CREATED:20250925T213343Z
LAST-MODIFIED:20250925T213732Z
UID:10001267-1813170600-1813176000@piercegop.org
SUMMARY:29th LD PCO Meeting
DESCRIPTION:Join us for our meetings every third Wednesday of each month from 6:30PM to 8:00PM at Mazatlan in Lakewood on South Tacoma Way! \nContact us at 29thPCLD@gmail.com \nReach out and follow us on FaceBook:\nhttps://www.facebook.com/29thDistrictRepublicansofPierceCounty
URL:https://piercegop.org/event/29th-ld-pco-meeting-2/2027-06-16/
LOCATION:Mazatlan in Lakewood South Tacoma Way\, 10518 S Tacoma Way\, Lakewood\, 98499\, United States
CATEGORIES:29th District
ATTACH;FMTTYPE=image/png:https://piercegop.org/wp-content/uploads/2025/02/logo.png
END:VEVENT
BEGIN:VEVENT
DTSTART;TZID=America/Los_Angeles:20270721T183000
DTEND;TZID=America/Los_Angeles:20270721T200000
DTSTAMP:20260419T173602
CREATED:20250925T213343Z
LAST-MODIFIED:20250925T213732Z
UID:10001268-1816194600-1816200000@piercegop.org
SUMMARY:29th LD PCO Meeting
DESCRIPTION:Join us for our meetings every third Wednesday of each month from 6:30PM to 8:00PM at Mazatlan in Lakewood on South Tacoma Way! \nContact us at 29thPCLD@gmail.com \nReach out and follow us on FaceBook:\nhttps://www.facebook.com/29thDistrictRepublicansofPierceCounty
URL:https://piercegop.org/event/29th-ld-pco-meeting-2/2027-07-21/
LOCATION:Mazatlan in Lakewood South Tacoma Way\, 10518 S Tacoma Way\, Lakewood\, 98499\, United States
CATEGORIES:29th District
ATTACH;FMTTYPE=image/png:https://piercegop.org/wp-content/uploads/2025/02/logo.png
END:VEVENT
BEGIN:VEVENT
DTSTART;TZID=America/Los_Angeles:20270818T183000
DTEND;TZID=America/Los_Angeles:20270818T200000
DTSTAMP:20260419T173602
CREATED:20250925T213343Z
LAST-MODIFIED:20250925T213732Z
UID:10001269-1818613800-1818619200@piercegop.org
SUMMARY:29th LD PCO Meeting
DESCRIPTION:Join us for our meetings every third Wednesday of each month from 6:30PM to 8:00PM at Mazatlan in Lakewood on South Tacoma Way! \nContact us at 29thPCLD@gmail.com \nReach out and follow us on FaceBook:\nhttps://www.facebook.com/29thDistrictRepublicansofPierceCounty
URL:https://piercegop.org/event/29th-ld-pco-meeting-2/2027-08-18/
LOCATION:Mazatlan in Lakewood South Tacoma Way\, 10518 S Tacoma Way\, Lakewood\, 98499\, United States
CATEGORIES:29th District
ATTACH;FMTTYPE=image/png:https://piercegop.org/wp-content/uploads/2025/02/logo.png
END:VEVENT
BEGIN:VEVENT
DTSTART;TZID=America/Los_Angeles:20270915T183000
DTEND;TZID=America/Los_Angeles:20270915T200000
DTSTAMP:20260419T173602
CREATED:20250925T213343Z
LAST-MODIFIED:20250925T213732Z
UID:10001270-1821033000-1821038400@piercegop.org
SUMMARY:29th LD PCO Meeting
DESCRIPTION:Join us for our meetings every third Wednesday of each month from 6:30PM to 8:00PM at Mazatlan in Lakewood on South Tacoma Way! \nContact us at 29thPCLD@gmail.com \nReach out and follow us on FaceBook:\nhttps://www.facebook.com/29thDistrictRepublicansofPierceCounty
URL:https://piercegop.org/event/29th-ld-pco-meeting-2/2027-09-15/
LOCATION:Mazatlan in Lakewood South Tacoma Way\, 10518 S Tacoma Way\, Lakewood\, 98499\, United States
CATEGORIES:29th District
ATTACH;FMTTYPE=image/png:https://piercegop.org/wp-content/uploads/2025/02/logo.png
END:VEVENT
BEGIN:VEVENT
DTSTART;TZID=America/Los_Angeles:20271020T183000
DTEND;TZID=America/Los_Angeles:20271020T200000
DTSTAMP:20260419T173602
CREATED:20250925T213343Z
LAST-MODIFIED:20250925T213732Z
UID:10001271-1824057000-1824062400@piercegop.org
SUMMARY:29th LD PCO Meeting
DESCRIPTION:Join us for our meetings every third Wednesday of each month from 6:30PM to 8:00PM at Mazatlan in Lakewood on South Tacoma Way! \nContact us at 29thPCLD@gmail.com \nReach out and follow us on FaceBook:\nhttps://www.facebook.com/29thDistrictRepublicansofPierceCounty
URL:https://piercegop.org/event/29th-ld-pco-meeting-2/2027-10-20/
LOCATION:Mazatlan in Lakewood South Tacoma Way\, 10518 S Tacoma Way\, Lakewood\, 98499\, United States
CATEGORIES:29th District
ATTACH;FMTTYPE=image/png:https://piercegop.org/wp-content/uploads/2025/02/logo.png
END:VEVENT
BEGIN:VEVENT
DTSTART;TZID=America/Los_Angeles:20271117T183000
DTEND;TZID=America/Los_Angeles:20271117T200000
DTSTAMP:20260419T173602
CREATED:20250925T213343Z
LAST-MODIFIED:20250925T213732Z
UID:10001272-1826476200-1826481600@piercegop.org
SUMMARY:29th LD PCO Meeting
DESCRIPTION:Join us for our meetings every third Wednesday of each month from 6:30PM to 8:00PM at Mazatlan in Lakewood on South Tacoma Way! \nContact us at 29thPCLD@gmail.com \nReach out and follow us on FaceBook:\nhttps://www.facebook.com/29thDistrictRepublicansofPierceCounty
URL:https://piercegop.org/event/29th-ld-pco-meeting-2/2027-11-17/
LOCATION:Mazatlan in Lakewood South Tacoma Way\, 10518 S Tacoma Way\, Lakewood\, 98499\, United States
CATEGORIES:29th District
ATTACH;FMTTYPE=image/png:https://piercegop.org/wp-content/uploads/2025/02/logo.png
END:VEVENT
BEGIN:VEVENT
DTSTART;TZID=America/Los_Angeles:20271215T183000
DTEND;TZID=America/Los_Angeles:20271215T200000
DTSTAMP:20260419T173602
CREATED:20250925T213343Z
LAST-MODIFIED:20250925T213732Z
UID:10001273-1828895400-1828900800@piercegop.org
SUMMARY:29th LD PCO Meeting
DESCRIPTION:Join us for our meetings every third Wednesday of each month from 6:30PM to 8:00PM at Mazatlan in Lakewood on South Tacoma Way! \nContact us at 29thPCLD@gmail.com \nReach out and follow us on FaceBook:\nhttps://www.facebook.com/29thDistrictRepublicansofPierceCounty
URL:https://piercegop.org/event/29th-ld-pco-meeting-2/2027-12-15/
LOCATION:Mazatlan in Lakewood South Tacoma Way\, 10518 S Tacoma Way\, Lakewood\, 98499\, United States
CATEGORIES:29th District
ATTACH;FMTTYPE=image/png:https://piercegop.org/wp-content/uploads/2025/02/logo.png
END:VEVENT
BEGIN:VEVENT
DTSTART;TZID=America/Los_Angeles:20280119T183000
DTEND;TZID=America/Los_Angeles:20280119T200000
DTSTAMP:20260419T173602
CREATED:20250925T213343Z
LAST-MODIFIED:20250925T213732Z
UID:10001274-1831919400-1831924800@piercegop.org
SUMMARY:29th LD PCO Meeting
DESCRIPTION:Join us for our meetings every third Wednesday of each month from 6:30PM to 8:00PM at Mazatlan in Lakewood on South Tacoma Way! \nContact us at 29thPCLD@gmail.com \nReach out and follow us on FaceBook:\nhttps://www.facebook.com/29thDistrictRepublicansofPierceCounty
URL:https://piercegop.org/event/29th-ld-pco-meeting-2/2028-01-19/
LOCATION:Mazatlan in Lakewood South Tacoma Way\, 10518 S Tacoma Way\, Lakewood\, 98499\, United States
CATEGORIES:29th District
ATTACH;FMTTYPE=image/png:https://piercegop.org/wp-content/uploads/2025/02/logo.png
END:VEVENT
BEGIN:VEVENT
DTSTART;TZID=America/Los_Angeles:20280216T183000
DTEND;TZID=America/Los_Angeles:20280216T200000
DTSTAMP:20260419T173602
CREATED:20250925T213343Z
LAST-MODIFIED:20250925T213732Z
UID:10001275-1834338600-1834344000@piercegop.org
SUMMARY:29th LD PCO Meeting
DESCRIPTION:Join us for our meetings every third Wednesday of each month from 6:30PM to 8:00PM at Mazatlan in Lakewood on South Tacoma Way! \nContact us at 29thPCLD@gmail.com \nReach out and follow us on FaceBook:\nhttps://www.facebook.com/29thDistrictRepublicansofPierceCounty
URL:https://piercegop.org/event/29th-ld-pco-meeting-2/2028-02-16/
LOCATION:Mazatlan in Lakewood South Tacoma Way\, 10518 S Tacoma Way\, Lakewood\, 98499\, United States
CATEGORIES:29th District
ATTACH;FMTTYPE=image/png:https://piercegop.org/wp-content/uploads/2025/02/logo.png
END:VEVENT
BEGIN:VEVENT
DTSTART;TZID=America/Los_Angeles:20280315T183000
DTEND;TZID=America/Los_Angeles:20280315T200000
DTSTAMP:20260419T173602
CREATED:20250925T213343Z
LAST-MODIFIED:20250925T213732Z
UID:10001276-1836757800-1836763200@piercegop.org
SUMMARY:29th LD PCO Meeting
DESCRIPTION:Join us for our meetings every third Wednesday of each month from 6:30PM to 8:00PM at Mazatlan in Lakewood on South Tacoma Way! \nContact us at 29thPCLD@gmail.com \nReach out and follow us on FaceBook:\nhttps://www.facebook.com/29thDistrictRepublicansofPierceCounty
URL:https://piercegop.org/event/29th-ld-pco-meeting-2/2028-03-15/
LOCATION:Mazatlan in Lakewood South Tacoma Way\, 10518 S Tacoma Way\, Lakewood\, 98499\, United States
CATEGORIES:29th District
ATTACH;FMTTYPE=image/png:https://piercegop.org/wp-content/uploads/2025/02/logo.png
END:VEVENT
BEGIN:VEVENT
DTSTART;TZID=America/Los_Angeles:20280419T183000
DTEND;TZID=America/Los_Angeles:20280419T200000
DTSTAMP:20260419T173602
CREATED:20250925T213343Z
LAST-MODIFIED:20250925T213732Z
UID:10001277-1839781800-1839787200@piercegop.org
SUMMARY:29th LD PCO Meeting
DESCRIPTION:Join us for our meetings every third Wednesday of each month from 6:30PM to 8:00PM at Mazatlan in Lakewood on South Tacoma Way! \nContact us at 29thPCLD@gmail.com \nReach out and follow us on FaceBook:\nhttps://www.facebook.com/29thDistrictRepublicansofPierceCounty
URL:https://piercegop.org/event/29th-ld-pco-meeting-2/2028-04-19/
LOCATION:Mazatlan in Lakewood South Tacoma Way\, 10518 S Tacoma Way\, Lakewood\, 98499\, United States
CATEGORIES:29th District
ATTACH;FMTTYPE=image/png:https://piercegop.org/wp-content/uploads/2025/02/logo.png
END:VEVENT
BEGIN:VEVENT
DTSTART;TZID=America/Los_Angeles:20280517T183000
DTEND;TZID=America/Los_Angeles:20280517T200000
DTSTAMP:20260419T173602
CREATED:20250925T213343Z
LAST-MODIFIED:20250925T213732Z
UID:10001278-1842201000-1842206400@piercegop.org
SUMMARY:29th LD PCO Meeting
DESCRIPTION:Join us for our meetings every third Wednesday of each month from 6:30PM to 8:00PM at Mazatlan in Lakewood on South Tacoma Way! \nContact us at 29thPCLD@gmail.com \nReach out and follow us on FaceBook:\nhttps://www.facebook.com/29thDistrictRepublicansofPierceCounty
URL:https://piercegop.org/event/29th-ld-pco-meeting-2/2028-05-17/
LOCATION:Mazatlan in Lakewood South Tacoma Way\, 10518 S Tacoma Way\, Lakewood\, 98499\, United States
CATEGORIES:29th District
ATTACH;FMTTYPE=image/png:https://piercegop.org/wp-content/uploads/2025/02/logo.png
END:VEVENT
BEGIN:VEVENT
DTSTART;TZID=America/Los_Angeles:20280621T183000
DTEND;TZID=America/Los_Angeles:20280621T200000
DTSTAMP:20260419T173602
CREATED:20250925T213343Z
LAST-MODIFIED:20250925T213732Z
UID:10001279-1845225000-1845230400@piercegop.org
SUMMARY:29th LD PCO Meeting
DESCRIPTION:Join us for our meetings every third Wednesday of each month from 6:30PM to 8:00PM at Mazatlan in Lakewood on South Tacoma Way! \nContact us at 29thPCLD@gmail.com \nReach out and follow us on FaceBook:\nhttps://www.facebook.com/29thDistrictRepublicansofPierceCounty
URL:https://piercegop.org/event/29th-ld-pco-meeting-2/2028-06-21/
LOCATION:Mazatlan in Lakewood South Tacoma Way\, 10518 S Tacoma Way\, Lakewood\, 98499\, United States
CATEGORIES:29th District
ATTACH;FMTTYPE=image/png:https://piercegop.org/wp-content/uploads/2025/02/logo.png
END:VEVENT
BEGIN:VEVENT
DTSTART;TZID=America/Los_Angeles:20280719T183000
DTEND;TZID=America/Los_Angeles:20280719T200000
DTSTAMP:20260419T173602
CREATED:20250925T213343Z
LAST-MODIFIED:20250925T213732Z
UID:10001280-1847644200-1847649600@piercegop.org
SUMMARY:29th LD PCO Meeting
DESCRIPTION:Join us for our meetings every third Wednesday of each month from 6:30PM to 8:00PM at Mazatlan in Lakewood on South Tacoma Way! \nContact us at 29thPCLD@gmail.com \nReach out and follow us on FaceBook:\nhttps://www.facebook.com/29thDistrictRepublicansofPierceCounty
URL:https://piercegop.org/event/29th-ld-pco-meeting-2/2028-07-19/
LOCATION:Mazatlan in Lakewood South Tacoma Way\, 10518 S Tacoma Way\, Lakewood\, 98499\, United States
CATEGORIES:29th District
ATTACH;FMTTYPE=image/png:https://piercegop.org/wp-content/uploads/2025/02/logo.png
END:VEVENT
BEGIN:VEVENT
DTSTART;TZID=America/Los_Angeles:20280816T183000
DTEND;TZID=America/Los_Angeles:20280816T200000
DTSTAMP:20260419T173602
CREATED:20250925T213343Z
LAST-MODIFIED:20250925T213732Z
UID:10001281-1850063400-1850068800@piercegop.org
SUMMARY:29th LD PCO Meeting
DESCRIPTION:Join us for our meetings every third Wednesday of each month from 6:30PM to 8:00PM at Mazatlan in Lakewood on South Tacoma Way! \nContact us at 29thPCLD@gmail.com \nReach out and follow us on FaceBook:\nhttps://www.facebook.com/29thDistrictRepublicansofPierceCounty
URL:https://piercegop.org/event/29th-ld-pco-meeting-2/2028-08-16/
LOCATION:Mazatlan in Lakewood South Tacoma Way\, 10518 S Tacoma Way\, Lakewood\, 98499\, United States
CATEGORIES:29th District
ATTACH;FMTTYPE=image/png:https://piercegop.org/wp-content/uploads/2025/02/logo.png
END:VEVENT
BEGIN:VEVENT
DTSTART;TZID=America/Los_Angeles:20280920T183000
DTEND;TZID=America/Los_Angeles:20280920T200000
DTSTAMP:20260419T173602
CREATED:20250925T213343Z
LAST-MODIFIED:20250925T213732Z
UID:10001282-1853087400-1853092800@piercegop.org
SUMMARY:29th LD PCO Meeting
DESCRIPTION:Join us for our meetings every third Wednesday of each month from 6:30PM to 8:00PM at Mazatlan in Lakewood on South Tacoma Way! \nContact us at 29thPCLD@gmail.com \nReach out and follow us on FaceBook:\nhttps://www.facebook.com/29thDistrictRepublicansofPierceCounty
URL:https://piercegop.org/event/29th-ld-pco-meeting-2/2028-09-20/
LOCATION:Mazatlan in Lakewood South Tacoma Way\, 10518 S Tacoma Way\, Lakewood\, 98499\, United States
CATEGORIES:29th District
ATTACH;FMTTYPE=image/png:https://piercegop.org/wp-content/uploads/2025/02/logo.png
END:VEVENT
BEGIN:VEVENT
DTSTART;TZID=America/Los_Angeles:20281018T183000
DTEND;TZID=America/Los_Angeles:20281018T200000
DTSTAMP:20260419T173602
CREATED:20250925T213343Z
LAST-MODIFIED:20250925T213732Z
UID:10001283-1855506600-1855512000@piercegop.org
SUMMARY:29th LD PCO Meeting
DESCRIPTION:Join us for our meetings every third Wednesday of each month from 6:30PM to 8:00PM at Mazatlan in Lakewood on South Tacoma Way! \nContact us at 29thPCLD@gmail.com \nReach out and follow us on FaceBook:\nhttps://www.facebook.com/29thDistrictRepublicansofPierceCounty
URL:https://piercegop.org/event/29th-ld-pco-meeting-2/2028-10-18/
LOCATION:Mazatlan in Lakewood South Tacoma Way\, 10518 S Tacoma Way\, Lakewood\, 98499\, United States
CATEGORIES:29th District
ATTACH;FMTTYPE=image/png:https://piercegop.org/wp-content/uploads/2025/02/logo.png
END:VEVENT
BEGIN:VEVENT
DTSTART;TZID=America/Los_Angeles:20281115T183000
DTEND;TZID=America/Los_Angeles:20281115T200000
DTSTAMP:20260419T173602
CREATED:20250925T213343Z
LAST-MODIFIED:20250925T213732Z
UID:10001284-1857925800-1857931200@piercegop.org
SUMMARY:29th LD PCO Meeting
DESCRIPTION:Join us for our meetings every third Wednesday of each month from 6:30PM to 8:00PM at Mazatlan in Lakewood on South Tacoma Way! \nContact us at 29thPCLD@gmail.com \nReach out and follow us on FaceBook:\nhttps://www.facebook.com/29thDistrictRepublicansofPierceCounty
URL:https://piercegop.org/event/29th-ld-pco-meeting-2/2028-11-15/
LOCATION:Mazatlan in Lakewood South Tacoma Way\, 10518 S Tacoma Way\, Lakewood\, 98499\, United States
CATEGORIES:29th District
ATTACH;FMTTYPE=image/png:https://piercegop.org/wp-content/uploads/2025/02/logo.png
END:VEVENT
BEGIN:VEVENT
DTSTART;TZID=America/Los_Angeles:20281220T183000
DTEND;TZID=America/Los_Angeles:20281220T200000
DTSTAMP:20260419T173602
CREATED:20250925T213343Z
LAST-MODIFIED:20250925T213732Z
UID:10001285-1860949800-1860955200@piercegop.org
SUMMARY:29th LD PCO Meeting
DESCRIPTION:Join us for our meetings every third Wednesday of each month from 6:30PM to 8:00PM at Mazatlan in Lakewood on South Tacoma Way! \nContact us at 29thPCLD@gmail.com \nReach out and follow us on FaceBook:\nhttps://www.facebook.com/29thDistrictRepublicansofPierceCounty
URL:https://piercegop.org/event/29th-ld-pco-meeting-2/2028-12-20/
LOCATION:Mazatlan in Lakewood South Tacoma Way\, 10518 S Tacoma Way\, Lakewood\, 98499\, United States
CATEGORIES:29th District
ATTACH;FMTTYPE=image/png:https://piercegop.org/wp-content/uploads/2025/02/logo.png
END:VEVENT
BEGIN:VEVENT
DTSTART;TZID=America/Los_Angeles:20290117T183000
DTEND;TZID=America/Los_Angeles:20290117T200000
DTSTAMP:20260419T173602
CREATED:20250925T213343Z
LAST-MODIFIED:20250925T213732Z
UID:10001286-1863369000-1863374400@piercegop.org
SUMMARY:29th LD PCO Meeting
DESCRIPTION:Join us for our meetings every third Wednesday of each month from 6:30PM to 8:00PM at Mazatlan in Lakewood on South Tacoma Way! \nContact us at 29thPCLD@gmail.com \nReach out and follow us on FaceBook:\nhttps://www.facebook.com/29thDistrictRepublicansofPierceCounty
URL:https://piercegop.org/event/29th-ld-pco-meeting-2/2029-01-17/
LOCATION:Mazatlan in Lakewood South Tacoma Way\, 10518 S Tacoma Way\, Lakewood\, 98499\, United States
CATEGORIES:29th District
ATTACH;FMTTYPE=image/png:https://piercegop.org/wp-content/uploads/2025/02/logo.png
END:VEVENT
BEGIN:VEVENT
DTSTART;TZID=America/Los_Angeles:20290221T183000
DTEND;TZID=America/Los_Angeles:20290221T200000
DTSTAMP:20260419T173602
CREATED:20250925T213343Z
LAST-MODIFIED:20250925T213732Z
UID:10001287-1866393000-1866398400@piercegop.org
SUMMARY:29th LD PCO Meeting
DESCRIPTION:Join us for our meetings every third Wednesday of each month from 6:30PM to 8:00PM at Mazatlan in Lakewood on South Tacoma Way! \nContact us at 29thPCLD@gmail.com \nReach out and follow us on FaceBook:\nhttps://www.facebook.com/29thDistrictRepublicansofPierceCounty
URL:https://piercegop.org/event/29th-ld-pco-meeting-2/2029-02-21/
LOCATION:Mazatlan in Lakewood South Tacoma Way\, 10518 S Tacoma Way\, Lakewood\, 98499\, United States
CATEGORIES:29th District
ATTACH;FMTTYPE=image/png:https://piercegop.org/wp-content/uploads/2025/02/logo.png
END:VEVENT
BEGIN:VEVENT
DTSTART;TZID=America/Los_Angeles:20290321T183000
DTEND;TZID=America/Los_Angeles:20290321T200000
DTSTAMP:20260419T173602
CREATED:20250925T213343Z
LAST-MODIFIED:20250925T213732Z
UID:10001288-1868812200-1868817600@piercegop.org
SUMMARY:29th LD PCO Meeting
DESCRIPTION:Join us for our meetings every third Wednesday of each month from 6:30PM to 8:00PM at Mazatlan in Lakewood on South Tacoma Way! \nContact us at 29thPCLD@gmail.com \nReach out and follow us on FaceBook:\nhttps://www.facebook.com/29thDistrictRepublicansofPierceCounty
URL:https://piercegop.org/event/29th-ld-pco-meeting-2/2029-03-21/
LOCATION:Mazatlan in Lakewood South Tacoma Way\, 10518 S Tacoma Way\, Lakewood\, 98499\, United States
CATEGORIES:29th District
ATTACH;FMTTYPE=image/png:https://piercegop.org/wp-content/uploads/2025/02/logo.png
END:VEVENT
BEGIN:VEVENT
DTSTART;TZID=America/Los_Angeles:20290418T183000
DTEND;TZID=America/Los_Angeles:20290418T200000
DTSTAMP:20260419T173602
CREATED:20250925T213343Z
LAST-MODIFIED:20250925T213732Z
UID:10001289-1871231400-1871236800@piercegop.org
SUMMARY:29th LD PCO Meeting
DESCRIPTION:Join us for our meetings every third Wednesday of each month from 6:30PM to 8:00PM at Mazatlan in Lakewood on South Tacoma Way! \nContact us at 29thPCLD@gmail.com \nReach out and follow us on FaceBook:\nhttps://www.facebook.com/29thDistrictRepublicansofPierceCounty
URL:https://piercegop.org/event/29th-ld-pco-meeting-2/2029-04-18/
LOCATION:Mazatlan in Lakewood South Tacoma Way\, 10518 S Tacoma Way\, Lakewood\, 98499\, United States
CATEGORIES:29th District
ATTACH;FMTTYPE=image/png:https://piercegop.org/wp-content/uploads/2025/02/logo.png
END:VEVENT
BEGIN:VEVENT
DTSTART;TZID=America/Los_Angeles:20290516T183000
DTEND;TZID=America/Los_Angeles:20290516T200000
DTSTAMP:20260419T173602
CREATED:20250925T213343Z
LAST-MODIFIED:20250925T213732Z
UID:10001290-1873650600-1873656000@piercegop.org
SUMMARY:29th LD PCO Meeting
DESCRIPTION:Join us for our meetings every third Wednesday of each month from 6:30PM to 8:00PM at Mazatlan in Lakewood on South Tacoma Way! \nContact us at 29thPCLD@gmail.com \nReach out and follow us on FaceBook:\nhttps://www.facebook.com/29thDistrictRepublicansofPierceCounty
URL:https://piercegop.org/event/29th-ld-pco-meeting-2/2029-05-16/
LOCATION:Mazatlan in Lakewood South Tacoma Way\, 10518 S Tacoma Way\, Lakewood\, 98499\, United States
CATEGORIES:29th District
ATTACH;FMTTYPE=image/png:https://piercegop.org/wp-content/uploads/2025/02/logo.png
END:VEVENT
BEGIN:VEVENT
DTSTART;TZID=America/Los_Angeles:20290620T183000
DTEND;TZID=America/Los_Angeles:20290620T200000
DTSTAMP:20260419T173602
CREATED:20250925T213343Z
LAST-MODIFIED:20250925T213732Z
UID:10001291-1876674600-1876680000@piercegop.org
SUMMARY:29th LD PCO Meeting
DESCRIPTION:Join us for our meetings every third Wednesday of each month from 6:30PM to 8:00PM at Mazatlan in Lakewood on South Tacoma Way! \nContact us at 29thPCLD@gmail.com \nReach out and follow us on FaceBook:\nhttps://www.facebook.com/29thDistrictRepublicansofPierceCounty
URL:https://piercegop.org/event/29th-ld-pco-meeting-2/2029-06-20/
LOCATION:Mazatlan in Lakewood South Tacoma Way\, 10518 S Tacoma Way\, Lakewood\, 98499\, United States
CATEGORIES:29th District
ATTACH;FMTTYPE=image/png:https://piercegop.org/wp-content/uploads/2025/02/logo.png
END:VEVENT
BEGIN:VEVENT
DTSTART;TZID=America/Los_Angeles:20290718T183000
DTEND;TZID=America/Los_Angeles:20290718T200000
DTSTAMP:20260419T173602
CREATED:20250925T213343Z
LAST-MODIFIED:20250925T213732Z
UID:10001292-1879093800-1879099200@piercegop.org
SUMMARY:29th LD PCO Meeting
DESCRIPTION:Join us for our meetings every third Wednesday of each month from 6:30PM to 8:00PM at Mazatlan in Lakewood on South Tacoma Way! \nContact us at 29thPCLD@gmail.com \nReach out and follow us on FaceBook:\nhttps://www.facebook.com/29thDistrictRepublicansofPierceCounty
URL:https://piercegop.org/event/29th-ld-pco-meeting-2/2029-07-18/
LOCATION:Mazatlan in Lakewood South Tacoma Way\, 10518 S Tacoma Way\, Lakewood\, 98499\, United States
CATEGORIES:29th District
ATTACH;FMTTYPE=image/png:https://piercegop.org/wp-content/uploads/2025/02/logo.png
END:VEVENT
BEGIN:VEVENT
DTSTART;TZID=America/Los_Angeles:20290815T183000
DTEND;TZID=America/Los_Angeles:20290815T200000
DTSTAMP:20260419T173602
CREATED:20250925T213343Z
LAST-MODIFIED:20250925T213732Z
UID:10001293-1881513000-1881518400@piercegop.org
SUMMARY:29th LD PCO Meeting
DESCRIPTION:Join us for our meetings every third Wednesday of each month from 6:30PM to 8:00PM at Mazatlan in Lakewood on South Tacoma Way! \nContact us at 29thPCLD@gmail.com \nReach out and follow us on FaceBook:\nhttps://www.facebook.com/29thDistrictRepublicansofPierceCounty
URL:https://piercegop.org/event/29th-ld-pco-meeting-2/2029-08-15/
LOCATION:Mazatlan in Lakewood South Tacoma Way\, 10518 S Tacoma Way\, Lakewood\, 98499\, United States
CATEGORIES:29th District
ATTACH;FMTTYPE=image/png:https://piercegop.org/wp-content/uploads/2025/02/logo.png
END:VEVENT
BEGIN:VEVENT
DTSTART;TZID=America/Los_Angeles:20290919T183000
DTEND;TZID=America/Los_Angeles:20290919T200000
DTSTAMP:20260419T173602
CREATED:20250925T213343Z
LAST-MODIFIED:20250925T213732Z
UID:10001294-1884537000-1884542400@piercegop.org
SUMMARY:29th LD PCO Meeting
DESCRIPTION:Join us for our meetings every third Wednesday of each month from 6:30PM to 8:00PM at Mazatlan in Lakewood on South Tacoma Way! \nContact us at 29thPCLD@gmail.com \nReach out and follow us on FaceBook:\nhttps://www.facebook.com/29thDistrictRepublicansofPierceCounty
URL:https://piercegop.org/event/29th-ld-pco-meeting-2/2029-09-19/
LOCATION:Mazatlan in Lakewood South Tacoma Way\, 10518 S Tacoma Way\, Lakewood\, 98499\, United States
CATEGORIES:29th District
ATTACH;FMTTYPE=image/png:https://piercegop.org/wp-content/uploads/2025/02/logo.png
END:VEVENT
END:VCALENDAR