BEGIN:VCALENDAR
VERSION:2.0
PRODID:-//Pierce County Republican Party - ECPv6.15.20//NONSGML v1.0//EN
CALSCALE:GREGORIAN
METHOD:PUBLISH
X-ORIGINAL-URL:https://piercegop.org
X-WR-CALDESC:Events for Pierce County Republican Party
REFRESH-INTERVAL;VALUE=DURATION:PT1H
X-Robots-Tag:noindex
X-PUBLISHED-TTL:PT1H
BEGIN:VTIMEZONE
TZID:America/Los_Angeles
BEGIN:DAYLIGHT
TZOFFSETFROM:-0800
TZOFFSETTO:-0700
TZNAME:PDT
DTSTART:20250309T100000
END:DAYLIGHT
BEGIN:STANDARD
TZOFFSETFROM:-0700
TZOFFSETTO:-0800
TZNAME:PST
DTSTART:20251102T090000
END:STANDARD
BEGIN:DAYLIGHT
TZOFFSETFROM:-0800
TZOFFSETTO:-0700
TZNAME:PDT
DTSTART:20260308T100000
END:DAYLIGHT
BEGIN:STANDARD
TZOFFSETFROM:-0700
TZOFFSETTO:-0800
TZNAME:PST
DTSTART:20261101T090000
END:STANDARD
BEGIN:DAYLIGHT
TZOFFSETFROM:-0800
TZOFFSETTO:-0700
TZNAME:PDT
DTSTART:20270314T100000
END:DAYLIGHT
BEGIN:STANDARD
TZOFFSETFROM:-0700
TZOFFSETTO:-0800
TZNAME:PST
DTSTART:20271107T090000
END:STANDARD
BEGIN:DAYLIGHT
TZOFFSETFROM:-0800
TZOFFSETTO:-0700
TZNAME:PDT
DTSTART:20280312T100000
END:DAYLIGHT
BEGIN:STANDARD
TZOFFSETFROM:-0700
TZOFFSETTO:-0800
TZNAME:PST
DTSTART:20281105T090000
END:STANDARD
BEGIN:DAYLIGHT
TZOFFSETFROM:-0800
TZOFFSETTO:-0700
TZNAME:PDT
DTSTART:20290311T100000
END:DAYLIGHT
BEGIN:STANDARD
TZOFFSETFROM:-0700
TZOFFSETTO:-0800
TZNAME:PST
DTSTART:20291104T090000
END:STANDARD
BEGIN:DAYLIGHT
TZOFFSETFROM:-0800
TZOFFSETTO:-0700
TZNAME:PDT
DTSTART:20300310T100000
END:DAYLIGHT
BEGIN:STANDARD
TZOFFSETFROM:-0700
TZOFFSETTO:-0800
TZNAME:PST
DTSTART:20301103T090000
END:STANDARD
END:VTIMEZONE
BEGIN:VEVENT
DTSTART;TZID=America/Los_Angeles:20261210T183000
DTEND;TZID=America/Los_Angeles:20261210T200000
DTSTAMP:20260420T122232
CREATED:20260415T014020Z
LAST-MODIFIED:20260415T014020Z
UID:10001600-1796927400-1796932800@piercegop.org
SUMMARY:31st LD Republican PCO Meeting
DESCRIPTION:Monthly 31st LD Republican PCO Meeting at the Bonney Lake Senior Center – 19304 Bonney Lake Blvd\, Bonney Lake
URL:https://piercegop.org/event/31st-ld-republican-pco-meeting/2026-12-10/
LOCATION:Bonney Lake Sr Center\, 19304 Bonney Lake Blvd E\, Bonney Lake\, 98391\, United States
CATEGORIES:31st District
ORGANIZER;CN="31st LD Republicans":MAILTO:dbryantfamily8@gmail.com
END:VEVENT
BEGIN:VEVENT
DTSTART;TZID=America/Los_Angeles:20270114T183000
DTEND;TZID=America/Los_Angeles:20270114T200000
DTSTAMP:20260420T122232
CREATED:20260415T014020Z
LAST-MODIFIED:20260415T014020Z
UID:10001601-1799951400-1799956800@piercegop.org
SUMMARY:31st LD Republican PCO Meeting
DESCRIPTION:Monthly 31st LD Republican PCO Meeting at the Bonney Lake Senior Center – 19304 Bonney Lake Blvd\, Bonney Lake
URL:https://piercegop.org/event/31st-ld-republican-pco-meeting/2027-01-14/
LOCATION:Bonney Lake Sr Center\, 19304 Bonney Lake Blvd E\, Bonney Lake\, 98391\, United States
CATEGORIES:31st District
ORGANIZER;CN="31st LD Republicans":MAILTO:dbryantfamily8@gmail.com
END:VEVENT
BEGIN:VEVENT
DTSTART;TZID=America/Los_Angeles:20270211T183000
DTEND;TZID=America/Los_Angeles:20270211T200000
DTSTAMP:20260420T122232
CREATED:20260415T014020Z
LAST-MODIFIED:20260415T014020Z
UID:10001602-1802370600-1802376000@piercegop.org
SUMMARY:31st LD Republican PCO Meeting
DESCRIPTION:Monthly 31st LD Republican PCO Meeting at the Bonney Lake Senior Center – 19304 Bonney Lake Blvd\, Bonney Lake
URL:https://piercegop.org/event/31st-ld-republican-pco-meeting/2027-02-11/
LOCATION:Bonney Lake Sr Center\, 19304 Bonney Lake Blvd E\, Bonney Lake\, 98391\, United States
CATEGORIES:31st District
ORGANIZER;CN="31st LD Republicans":MAILTO:dbryantfamily8@gmail.com
END:VEVENT
BEGIN:VEVENT
DTSTART;TZID=America/Los_Angeles:20270311T183000
DTEND;TZID=America/Los_Angeles:20270311T200000
DTSTAMP:20260420T122232
CREATED:20260415T014020Z
LAST-MODIFIED:20260415T014020Z
UID:10001603-1804789800-1804795200@piercegop.org
SUMMARY:31st LD Republican PCO Meeting
DESCRIPTION:Monthly 31st LD Republican PCO Meeting at the Bonney Lake Senior Center – 19304 Bonney Lake Blvd\, Bonney Lake
URL:https://piercegop.org/event/31st-ld-republican-pco-meeting/2027-03-11/
LOCATION:Bonney Lake Sr Center\, 19304 Bonney Lake Blvd E\, Bonney Lake\, 98391\, United States
CATEGORIES:31st District
ORGANIZER;CN="31st LD Republicans":MAILTO:dbryantfamily8@gmail.com
END:VEVENT
BEGIN:VEVENT
DTSTART;TZID=America/Los_Angeles:20270408T183000
DTEND;TZID=America/Los_Angeles:20270408T200000
DTSTAMP:20260420T122232
CREATED:20260415T014020Z
LAST-MODIFIED:20260415T014020Z
UID:10001604-1807209000-1807214400@piercegop.org
SUMMARY:31st LD Republican PCO Meeting
DESCRIPTION:Monthly 31st LD Republican PCO Meeting at the Bonney Lake Senior Center – 19304 Bonney Lake Blvd\, Bonney Lake
URL:https://piercegop.org/event/31st-ld-republican-pco-meeting/2027-04-08/
LOCATION:Bonney Lake Sr Center\, 19304 Bonney Lake Blvd E\, Bonney Lake\, 98391\, United States
CATEGORIES:31st District
ORGANIZER;CN="31st LD Republicans":MAILTO:dbryantfamily8@gmail.com
END:VEVENT
BEGIN:VEVENT
DTSTART;TZID=America/Los_Angeles:20270513T183000
DTEND;TZID=America/Los_Angeles:20270513T200000
DTSTAMP:20260420T122232
CREATED:20260415T014020Z
LAST-MODIFIED:20260415T014020Z
UID:10001605-1810233000-1810238400@piercegop.org
SUMMARY:31st LD Republican PCO Meeting
DESCRIPTION:Monthly 31st LD Republican PCO Meeting at the Bonney Lake Senior Center – 19304 Bonney Lake Blvd\, Bonney Lake
URL:https://piercegop.org/event/31st-ld-republican-pco-meeting/2027-05-13/
LOCATION:Bonney Lake Sr Center\, 19304 Bonney Lake Blvd E\, Bonney Lake\, 98391\, United States
CATEGORIES:31st District
ORGANIZER;CN="31st LD Republicans":MAILTO:dbryantfamily8@gmail.com
END:VEVENT
BEGIN:VEVENT
DTSTART;TZID=America/Los_Angeles:20270610T183000
DTEND;TZID=America/Los_Angeles:20270610T200000
DTSTAMP:20260420T122232
CREATED:20260415T014020Z
LAST-MODIFIED:20260415T014020Z
UID:10001606-1812652200-1812657600@piercegop.org
SUMMARY:31st LD Republican PCO Meeting
DESCRIPTION:Monthly 31st LD Republican PCO Meeting at the Bonney Lake Senior Center – 19304 Bonney Lake Blvd\, Bonney Lake
URL:https://piercegop.org/event/31st-ld-republican-pco-meeting/2027-06-10/
LOCATION:Bonney Lake Sr Center\, 19304 Bonney Lake Blvd E\, Bonney Lake\, 98391\, United States
CATEGORIES:31st District
ORGANIZER;CN="31st LD Republicans":MAILTO:dbryantfamily8@gmail.com
END:VEVENT
BEGIN:VEVENT
DTSTART;TZID=America/Los_Angeles:20270708T183000
DTEND;TZID=America/Los_Angeles:20270708T200000
DTSTAMP:20260420T122232
CREATED:20260415T014020Z
LAST-MODIFIED:20260415T014020Z
UID:10001607-1815071400-1815076800@piercegop.org
SUMMARY:31st LD Republican PCO Meeting
DESCRIPTION:Monthly 31st LD Republican PCO Meeting at the Bonney Lake Senior Center – 19304 Bonney Lake Blvd\, Bonney Lake
URL:https://piercegop.org/event/31st-ld-republican-pco-meeting/2027-07-08/
LOCATION:Bonney Lake Sr Center\, 19304 Bonney Lake Blvd E\, Bonney Lake\, 98391\, United States
CATEGORIES:31st District
ORGANIZER;CN="31st LD Republicans":MAILTO:dbryantfamily8@gmail.com
END:VEVENT
BEGIN:VEVENT
DTSTART;TZID=America/Los_Angeles:20270812T183000
DTEND;TZID=America/Los_Angeles:20270812T200000
DTSTAMP:20260420T122232
CREATED:20260415T014020Z
LAST-MODIFIED:20260415T014020Z
UID:10001608-1818095400-1818100800@piercegop.org
SUMMARY:31st LD Republican PCO Meeting
DESCRIPTION:Monthly 31st LD Republican PCO Meeting at the Bonney Lake Senior Center – 19304 Bonney Lake Blvd\, Bonney Lake
URL:https://piercegop.org/event/31st-ld-republican-pco-meeting/2027-08-12/
LOCATION:Bonney Lake Sr Center\, 19304 Bonney Lake Blvd E\, Bonney Lake\, 98391\, United States
CATEGORIES:31st District
ORGANIZER;CN="31st LD Republicans":MAILTO:dbryantfamily8@gmail.com
END:VEVENT
BEGIN:VEVENT
DTSTART;TZID=America/Los_Angeles:20270909T183000
DTEND;TZID=America/Los_Angeles:20270909T200000
DTSTAMP:20260420T122232
CREATED:20260415T014020Z
LAST-MODIFIED:20260415T014020Z
UID:10001609-1820514600-1820520000@piercegop.org
SUMMARY:31st LD Republican PCO Meeting
DESCRIPTION:Monthly 31st LD Republican PCO Meeting at the Bonney Lake Senior Center – 19304 Bonney Lake Blvd\, Bonney Lake
URL:https://piercegop.org/event/31st-ld-republican-pco-meeting/2027-09-09/
LOCATION:Bonney Lake Sr Center\, 19304 Bonney Lake Blvd E\, Bonney Lake\, 98391\, United States
CATEGORIES:31st District
ORGANIZER;CN="31st LD Republicans":MAILTO:dbryantfamily8@gmail.com
END:VEVENT
BEGIN:VEVENT
DTSTART;TZID=America/Los_Angeles:20271014T183000
DTEND;TZID=America/Los_Angeles:20271014T200000
DTSTAMP:20260420T122232
CREATED:20260415T014020Z
LAST-MODIFIED:20260415T014020Z
UID:10001610-1823538600-1823544000@piercegop.org
SUMMARY:31st LD Republican PCO Meeting
DESCRIPTION:Monthly 31st LD Republican PCO Meeting at the Bonney Lake Senior Center – 19304 Bonney Lake Blvd\, Bonney Lake
URL:https://piercegop.org/event/31st-ld-republican-pco-meeting/2027-10-14/
LOCATION:Bonney Lake Sr Center\, 19304 Bonney Lake Blvd E\, Bonney Lake\, 98391\, United States
CATEGORIES:31st District
ORGANIZER;CN="31st LD Republicans":MAILTO:dbryantfamily8@gmail.com
END:VEVENT
BEGIN:VEVENT
DTSTART;TZID=America/Los_Angeles:20271111T183000
DTEND;TZID=America/Los_Angeles:20271111T200000
DTSTAMP:20260420T122232
CREATED:20260415T014020Z
LAST-MODIFIED:20260415T014020Z
UID:10001611-1825957800-1825963200@piercegop.org
SUMMARY:31st LD Republican PCO Meeting
DESCRIPTION:Monthly 31st LD Republican PCO Meeting at the Bonney Lake Senior Center – 19304 Bonney Lake Blvd\, Bonney Lake
URL:https://piercegop.org/event/31st-ld-republican-pco-meeting/2027-11-11/
LOCATION:Bonney Lake Sr Center\, 19304 Bonney Lake Blvd E\, Bonney Lake\, 98391\, United States
CATEGORIES:31st District
ORGANIZER;CN="31st LD Republicans":MAILTO:dbryantfamily8@gmail.com
END:VEVENT
BEGIN:VEVENT
DTSTART;TZID=America/Los_Angeles:20271209T183000
DTEND;TZID=America/Los_Angeles:20271209T200000
DTSTAMP:20260420T122232
CREATED:20260415T014020Z
LAST-MODIFIED:20260415T014020Z
UID:10001612-1828377000-1828382400@piercegop.org
SUMMARY:31st LD Republican PCO Meeting
DESCRIPTION:Monthly 31st LD Republican PCO Meeting at the Bonney Lake Senior Center – 19304 Bonney Lake Blvd\, Bonney Lake
URL:https://piercegop.org/event/31st-ld-republican-pco-meeting/2027-12-09/
LOCATION:Bonney Lake Sr Center\, 19304 Bonney Lake Blvd E\, Bonney Lake\, 98391\, United States
CATEGORIES:31st District
ORGANIZER;CN="31st LD Republicans":MAILTO:dbryantfamily8@gmail.com
END:VEVENT
BEGIN:VEVENT
DTSTART;TZID=America/Los_Angeles:20280113T183000
DTEND;TZID=America/Los_Angeles:20280113T200000
DTSTAMP:20260420T122232
CREATED:20260415T014020Z
LAST-MODIFIED:20260415T014020Z
UID:10001613-1831401000-1831406400@piercegop.org
SUMMARY:31st LD Republican PCO Meeting
DESCRIPTION:Monthly 31st LD Republican PCO Meeting at the Bonney Lake Senior Center – 19304 Bonney Lake Blvd\, Bonney Lake
URL:https://piercegop.org/event/31st-ld-republican-pco-meeting/2028-01-13/
LOCATION:Bonney Lake Sr Center\, 19304 Bonney Lake Blvd E\, Bonney Lake\, 98391\, United States
CATEGORIES:31st District
ORGANIZER;CN="31st LD Republicans":MAILTO:dbryantfamily8@gmail.com
END:VEVENT
BEGIN:VEVENT
DTSTART;TZID=America/Los_Angeles:20280210T183000
DTEND;TZID=America/Los_Angeles:20280210T200000
DTSTAMP:20260420T122232
CREATED:20260415T014020Z
LAST-MODIFIED:20260415T014020Z
UID:10001614-1833820200-1833825600@piercegop.org
SUMMARY:31st LD Republican PCO Meeting
DESCRIPTION:Monthly 31st LD Republican PCO Meeting at the Bonney Lake Senior Center – 19304 Bonney Lake Blvd\, Bonney Lake
URL:https://piercegop.org/event/31st-ld-republican-pco-meeting/2028-02-10/
LOCATION:Bonney Lake Sr Center\, 19304 Bonney Lake Blvd E\, Bonney Lake\, 98391\, United States
CATEGORIES:31st District
ORGANIZER;CN="31st LD Republicans":MAILTO:dbryantfamily8@gmail.com
END:VEVENT
BEGIN:VEVENT
DTSTART;TZID=America/Los_Angeles:20280309T183000
DTEND;TZID=America/Los_Angeles:20280309T200000
DTSTAMP:20260420T122232
CREATED:20260415T014020Z
LAST-MODIFIED:20260415T014020Z
UID:10001615-1836239400-1836244800@piercegop.org
SUMMARY:31st LD Republican PCO Meeting
DESCRIPTION:Monthly 31st LD Republican PCO Meeting at the Bonney Lake Senior Center – 19304 Bonney Lake Blvd\, Bonney Lake
URL:https://piercegop.org/event/31st-ld-republican-pco-meeting/2028-03-09/
LOCATION:Bonney Lake Sr Center\, 19304 Bonney Lake Blvd E\, Bonney Lake\, 98391\, United States
CATEGORIES:31st District
ORGANIZER;CN="31st LD Republicans":MAILTO:dbryantfamily8@gmail.com
END:VEVENT
BEGIN:VEVENT
DTSTART;TZID=America/Los_Angeles:20280413T183000
DTEND;TZID=America/Los_Angeles:20280413T200000
DTSTAMP:20260420T122232
CREATED:20260415T014020Z
LAST-MODIFIED:20260415T014020Z
UID:10001616-1839263400-1839268800@piercegop.org
SUMMARY:31st LD Republican PCO Meeting
DESCRIPTION:Monthly 31st LD Republican PCO Meeting at the Bonney Lake Senior Center – 19304 Bonney Lake Blvd\, Bonney Lake
URL:https://piercegop.org/event/31st-ld-republican-pco-meeting/2028-04-13/
LOCATION:Bonney Lake Sr Center\, 19304 Bonney Lake Blvd E\, Bonney Lake\, 98391\, United States
CATEGORIES:31st District
ORGANIZER;CN="31st LD Republicans":MAILTO:dbryantfamily8@gmail.com
END:VEVENT
BEGIN:VEVENT
DTSTART;TZID=America/Los_Angeles:20280511T183000
DTEND;TZID=America/Los_Angeles:20280511T200000
DTSTAMP:20260420T122232
CREATED:20260415T014020Z
LAST-MODIFIED:20260415T014020Z
UID:10001617-1841682600-1841688000@piercegop.org
SUMMARY:31st LD Republican PCO Meeting
DESCRIPTION:Monthly 31st LD Republican PCO Meeting at the Bonney Lake Senior Center – 19304 Bonney Lake Blvd\, Bonney Lake
URL:https://piercegop.org/event/31st-ld-republican-pco-meeting/2028-05-11/
LOCATION:Bonney Lake Sr Center\, 19304 Bonney Lake Blvd E\, Bonney Lake\, 98391\, United States
CATEGORIES:31st District
ORGANIZER;CN="31st LD Republicans":MAILTO:dbryantfamily8@gmail.com
END:VEVENT
BEGIN:VEVENT
DTSTART;TZID=America/Los_Angeles:20280608T183000
DTEND;TZID=America/Los_Angeles:20280608T200000
DTSTAMP:20260420T122232
CREATED:20260415T014020Z
LAST-MODIFIED:20260415T014020Z
UID:10001618-1844101800-1844107200@piercegop.org
SUMMARY:31st LD Republican PCO Meeting
DESCRIPTION:Monthly 31st LD Republican PCO Meeting at the Bonney Lake Senior Center – 19304 Bonney Lake Blvd\, Bonney Lake
URL:https://piercegop.org/event/31st-ld-republican-pco-meeting/2028-06-08/
LOCATION:Bonney Lake Sr Center\, 19304 Bonney Lake Blvd E\, Bonney Lake\, 98391\, United States
CATEGORIES:31st District
ORGANIZER;CN="31st LD Republicans":MAILTO:dbryantfamily8@gmail.com
END:VEVENT
BEGIN:VEVENT
DTSTART;TZID=America/Los_Angeles:20280713T183000
DTEND;TZID=America/Los_Angeles:20280713T200000
DTSTAMP:20260420T122232
CREATED:20260415T014020Z
LAST-MODIFIED:20260415T014020Z
UID:10001619-1847125800-1847131200@piercegop.org
SUMMARY:31st LD Republican PCO Meeting
DESCRIPTION:Monthly 31st LD Republican PCO Meeting at the Bonney Lake Senior Center – 19304 Bonney Lake Blvd\, Bonney Lake
URL:https://piercegop.org/event/31st-ld-republican-pco-meeting/2028-07-13/
LOCATION:Bonney Lake Sr Center\, 19304 Bonney Lake Blvd E\, Bonney Lake\, 98391\, United States
CATEGORIES:31st District
ORGANIZER;CN="31st LD Republicans":MAILTO:dbryantfamily8@gmail.com
END:VEVENT
BEGIN:VEVENT
DTSTART;TZID=America/Los_Angeles:20280810T183000
DTEND;TZID=America/Los_Angeles:20280810T200000
DTSTAMP:20260420T122232
CREATED:20260415T014020Z
LAST-MODIFIED:20260415T014020Z
UID:10001620-1849545000-1849550400@piercegop.org
SUMMARY:31st LD Republican PCO Meeting
DESCRIPTION:Monthly 31st LD Republican PCO Meeting at the Bonney Lake Senior Center – 19304 Bonney Lake Blvd\, Bonney Lake
URL:https://piercegop.org/event/31st-ld-republican-pco-meeting/2028-08-10/
LOCATION:Bonney Lake Sr Center\, 19304 Bonney Lake Blvd E\, Bonney Lake\, 98391\, United States
CATEGORIES:31st District
ORGANIZER;CN="31st LD Republicans":MAILTO:dbryantfamily8@gmail.com
END:VEVENT
BEGIN:VEVENT
DTSTART;TZID=America/Los_Angeles:20280914T183000
DTEND;TZID=America/Los_Angeles:20280914T200000
DTSTAMP:20260420T122232
CREATED:20260415T014020Z
LAST-MODIFIED:20260415T014020Z
UID:10001621-1852569000-1852574400@piercegop.org
SUMMARY:31st LD Republican PCO Meeting
DESCRIPTION:Monthly 31st LD Republican PCO Meeting at the Bonney Lake Senior Center – 19304 Bonney Lake Blvd\, Bonney Lake
URL:https://piercegop.org/event/31st-ld-republican-pco-meeting/2028-09-14/
LOCATION:Bonney Lake Sr Center\, 19304 Bonney Lake Blvd E\, Bonney Lake\, 98391\, United States
CATEGORIES:31st District
ORGANIZER;CN="31st LD Republicans":MAILTO:dbryantfamily8@gmail.com
END:VEVENT
BEGIN:VEVENT
DTSTART;TZID=America/Los_Angeles:20281012T183000
DTEND;TZID=America/Los_Angeles:20281012T200000
DTSTAMP:20260420T122232
CREATED:20260415T014020Z
LAST-MODIFIED:20260415T014020Z
UID:10001622-1854988200-1854993600@piercegop.org
SUMMARY:31st LD Republican PCO Meeting
DESCRIPTION:Monthly 31st LD Republican PCO Meeting at the Bonney Lake Senior Center – 19304 Bonney Lake Blvd\, Bonney Lake
URL:https://piercegop.org/event/31st-ld-republican-pco-meeting/2028-10-12/
LOCATION:Bonney Lake Sr Center\, 19304 Bonney Lake Blvd E\, Bonney Lake\, 98391\, United States
CATEGORIES:31st District
ORGANIZER;CN="31st LD Republicans":MAILTO:dbryantfamily8@gmail.com
END:VEVENT
BEGIN:VEVENT
DTSTART;TZID=America/Los_Angeles:20281109T183000
DTEND;TZID=America/Los_Angeles:20281109T200000
DTSTAMP:20260420T122232
CREATED:20260415T014020Z
LAST-MODIFIED:20260415T014020Z
UID:10001623-1857407400-1857412800@piercegop.org
SUMMARY:31st LD Republican PCO Meeting
DESCRIPTION:Monthly 31st LD Republican PCO Meeting at the Bonney Lake Senior Center – 19304 Bonney Lake Blvd\, Bonney Lake
URL:https://piercegop.org/event/31st-ld-republican-pco-meeting/2028-11-09/
LOCATION:Bonney Lake Sr Center\, 19304 Bonney Lake Blvd E\, Bonney Lake\, 98391\, United States
CATEGORIES:31st District
ORGANIZER;CN="31st LD Republicans":MAILTO:dbryantfamily8@gmail.com
END:VEVENT
BEGIN:VEVENT
DTSTART;TZID=America/Los_Angeles:20281214T183000
DTEND;TZID=America/Los_Angeles:20281214T200000
DTSTAMP:20260420T122232
CREATED:20260415T014020Z
LAST-MODIFIED:20260415T014020Z
UID:10001624-1860431400-1860436800@piercegop.org
SUMMARY:31st LD Republican PCO Meeting
DESCRIPTION:Monthly 31st LD Republican PCO Meeting at the Bonney Lake Senior Center – 19304 Bonney Lake Blvd\, Bonney Lake
URL:https://piercegop.org/event/31st-ld-republican-pco-meeting/2028-12-14/
LOCATION:Bonney Lake Sr Center\, 19304 Bonney Lake Blvd E\, Bonney Lake\, 98391\, United States
CATEGORIES:31st District
ORGANIZER;CN="31st LD Republicans":MAILTO:dbryantfamily8@gmail.com
END:VEVENT
BEGIN:VEVENT
DTSTART;TZID=America/Los_Angeles:20290111T183000
DTEND;TZID=America/Los_Angeles:20290111T200000
DTSTAMP:20260420T122232
CREATED:20260415T014020Z
LAST-MODIFIED:20260415T014020Z
UID:10001625-1862850600-1862856000@piercegop.org
SUMMARY:31st LD Republican PCO Meeting
DESCRIPTION:Monthly 31st LD Republican PCO Meeting at the Bonney Lake Senior Center – 19304 Bonney Lake Blvd\, Bonney Lake
URL:https://piercegop.org/event/31st-ld-republican-pco-meeting/2029-01-11/
LOCATION:Bonney Lake Sr Center\, 19304 Bonney Lake Blvd E\, Bonney Lake\, 98391\, United States
CATEGORIES:31st District
ORGANIZER;CN="31st LD Republicans":MAILTO:dbryantfamily8@gmail.com
END:VEVENT
BEGIN:VEVENT
DTSTART;TZID=America/Los_Angeles:20290208T183000
DTEND;TZID=America/Los_Angeles:20290208T200000
DTSTAMP:20260420T122232
CREATED:20260415T014020Z
LAST-MODIFIED:20260415T014020Z
UID:10001626-1865269800-1865275200@piercegop.org
SUMMARY:31st LD Republican PCO Meeting
DESCRIPTION:Monthly 31st LD Republican PCO Meeting at the Bonney Lake Senior Center – 19304 Bonney Lake Blvd\, Bonney Lake
URL:https://piercegop.org/event/31st-ld-republican-pco-meeting/2029-02-08/
LOCATION:Bonney Lake Sr Center\, 19304 Bonney Lake Blvd E\, Bonney Lake\, 98391\, United States
CATEGORIES:31st District
ORGANIZER;CN="31st LD Republicans":MAILTO:dbryantfamily8@gmail.com
END:VEVENT
BEGIN:VEVENT
DTSTART;TZID=America/Los_Angeles:20290308T183000
DTEND;TZID=America/Los_Angeles:20290308T200000
DTSTAMP:20260420T122232
CREATED:20260415T014020Z
LAST-MODIFIED:20260415T014020Z
UID:10001627-1867689000-1867694400@piercegop.org
SUMMARY:31st LD Republican PCO Meeting
DESCRIPTION:Monthly 31st LD Republican PCO Meeting at the Bonney Lake Senior Center – 19304 Bonney Lake Blvd\, Bonney Lake
URL:https://piercegop.org/event/31st-ld-republican-pco-meeting/2029-03-08/
LOCATION:Bonney Lake Sr Center\, 19304 Bonney Lake Blvd E\, Bonney Lake\, 98391\, United States
CATEGORIES:31st District
ORGANIZER;CN="31st LD Republicans":MAILTO:dbryantfamily8@gmail.com
END:VEVENT
BEGIN:VEVENT
DTSTART;TZID=America/Los_Angeles:20290412T183000
DTEND;TZID=America/Los_Angeles:20290412T200000
DTSTAMP:20260420T122232
CREATED:20260415T014020Z
LAST-MODIFIED:20260415T014020Z
UID:10001628-1870713000-1870718400@piercegop.org
SUMMARY:31st LD Republican PCO Meeting
DESCRIPTION:Monthly 31st LD Republican PCO Meeting at the Bonney Lake Senior Center – 19304 Bonney Lake Blvd\, Bonney Lake
URL:https://piercegop.org/event/31st-ld-republican-pco-meeting/2029-04-12/
LOCATION:Bonney Lake Sr Center\, 19304 Bonney Lake Blvd E\, Bonney Lake\, 98391\, United States
CATEGORIES:31st District
ORGANIZER;CN="31st LD Republicans":MAILTO:dbryantfamily8@gmail.com
END:VEVENT
BEGIN:VEVENT
DTSTART;TZID=America/Los_Angeles:20290510T183000
DTEND;TZID=America/Los_Angeles:20290510T200000
DTSTAMP:20260420T122232
CREATED:20260415T014020Z
LAST-MODIFIED:20260415T014020Z
UID:10001629-1873132200-1873137600@piercegop.org
SUMMARY:31st LD Republican PCO Meeting
DESCRIPTION:Monthly 31st LD Republican PCO Meeting at the Bonney Lake Senior Center – 19304 Bonney Lake Blvd\, Bonney Lake
URL:https://piercegop.org/event/31st-ld-republican-pco-meeting/2029-05-10/
LOCATION:Bonney Lake Sr Center\, 19304 Bonney Lake Blvd E\, Bonney Lake\, 98391\, United States
CATEGORIES:31st District
ORGANIZER;CN="31st LD Republicans":MAILTO:dbryantfamily8@gmail.com
END:VEVENT
END:VCALENDAR