BEGIN:VCALENDAR
VERSION:2.0
PRODID:-//Pierce County Republican Party - ECPv6.15.20//NONSGML v1.0//EN
CALSCALE:GREGORIAN
METHOD:PUBLISH
X-WR-CALNAME:Pierce County Republican Party
X-ORIGINAL-URL:https://piercegop.org
X-WR-CALDESC:Events for Pierce County Republican Party
REFRESH-INTERVAL;VALUE=DURATION:PT1H
X-Robots-Tag:noindex
X-PUBLISHED-TTL:PT1H
BEGIN:VTIMEZONE
TZID:America/Los_Angeles
BEGIN:DAYLIGHT
TZOFFSETFROM:-0800
TZOFFSETTO:-0700
TZNAME:PDT
DTSTART:20290311T100000
END:DAYLIGHT
BEGIN:STANDARD
TZOFFSETFROM:-0700
TZOFFSETTO:-0800
TZNAME:PST
DTSTART:20291104T090000
END:STANDARD
BEGIN:DAYLIGHT
TZOFFSETFROM:-0800
TZOFFSETTO:-0700
TZNAME:PDT
DTSTART:20300310T100000
END:DAYLIGHT
BEGIN:STANDARD
TZOFFSETFROM:-0700
TZOFFSETTO:-0800
TZNAME:PST
DTSTART:20301103T090000
END:STANDARD
BEGIN:DAYLIGHT
TZOFFSETFROM:-0800
TZOFFSETTO:-0700
TZNAME:PDT
DTSTART:20310309T100000
END:DAYLIGHT
BEGIN:STANDARD
TZOFFSETFROM:-0700
TZOFFSETTO:-0800
TZNAME:PST
DTSTART:20311102T090000
END:STANDARD
END:VTIMEZONE
BEGIN:VEVENT
DTSTART;TZID=America/Los_Angeles:20300128T183000
DTEND;TZID=America/Los_Angeles:20300128T210000
DTSTAMP:20260425T203517
CREATED:20250403T041729Z
LAST-MODIFIED:20250403T042220Z
UID:10001187-1895855400-1895864400@piercegop.org
SUMMARY:Virginia Taylor 27th LD Club
DESCRIPTION:The Virginia Taylor 27th LD Republican Club is a social gathering of community members for information and collaboration\, \nWe meet at the University of Puget Sound in Wyatt Hall\, Room 101. Park in lot P4 located on Union Avenue and N 14th St
URL:https://piercegop.org/event/virginia-taylor-27th-ld-club/2030-01-28/
LOCATION:University of Puget Sound; Wyatt Hall Rm 101\, 1500 N Warner St\, Tacoma\, WA\, 98416
CATEGORIES:27th District,PCO Meeting,Virginia Taylor Club
ATTACH;FMTTYPE=image/png:https://piercegop.org/wp-content/uploads/2024/08/Virginia-Taylor-Club-PCRP.png
ORGANIZER;CN="Pierce County Republican Party":MAILTO:PierceGOP@PierceGOP.org
END:VEVENT
BEGIN:VEVENT
DTSTART;TZID=America/Los_Angeles:20300207T180000
DTEND;TZID=America/Los_Angeles:20300207T203000
DTSTAMP:20260425T203517
CREATED:20241003T201719Z
LAST-MODIFIED:20250401T234232Z
UID:10000856-1896717600-1896726600@piercegop.org
SUMMARY:25th-2/29th Republican Club
DESCRIPTION:We Meet every 1st Thursday of the month and feature various speakers and events. \nStay informed\, meet other conservatives in a relaxed atmosphere and be a part of the solution. \nThe event is potluck. Bring something if you can. Come no matter what and invite a friend!
URL:https://piercegop.org/event/25th-2-29th-republicans-clubs-monthly-meeting/2030-02-07/
LOCATION:Canyon Terrace Community Center\, 9314 Canyon Rd E\, Puyallup\, Washington\, 98371
CATEGORIES:25th District,2nd & 29th District Republican Club Social
ATTACH;FMTTYPE=image/jpeg:https://piercegop.org/wp-content/uploads/2025/02/25-2-29-Combined-Club-LOGO.jpg
ORGANIZER;CN="Brenda Milewski":MAILTO:brendam531@aol.com
END:VEVENT
BEGIN:VEVENT
DTSTART;TZID=America/Los_Angeles:20300223T083000
DTEND;TZID=America/Los_Angeles:20300223T110000
DTSTAMP:20260425T203517
CREATED:20240719T171955Z
LAST-MODIFIED:20250321T213205Z
UID:10001127-1898065800-1898074800@piercegop.org
SUMMARY:Gig Harbor Republican Club
DESCRIPTION:
URL:https://piercegop.org/event/gig-harbor-republican-club/2030-02-23/
LOCATION:Harbor Place at Cottesmore\, 1016 29th St. NW\, Gig Harbor\, WA\, 98335\, United States
CATEGORIES:26th District,Clubs,Gig Harbor Republican Club
ATTACH;FMTTYPE=image/png:https://piercegop.org/wp-content/uploads/2024/08/Gig-Harbor-Republicans-PCRP.png
ORGANIZER;CN="Gig Harbor Republican Club":MAILTO:gigharborrepublicans@gmail.com
END:VEVENT
BEGIN:VEVENT
DTSTART;TZID=America/Los_Angeles:20300225T183000
DTEND;TZID=America/Los_Angeles:20300225T210000
DTSTAMP:20260425T203517
CREATED:20250403T041729Z
LAST-MODIFIED:20250403T042220Z
UID:10001188-1898274600-1898283600@piercegop.org
SUMMARY:Virginia Taylor 27th LD Club
DESCRIPTION:The Virginia Taylor 27th LD Republican Club is a social gathering of community members for information and collaboration\, \nWe meet at the University of Puget Sound in Wyatt Hall\, Room 101. Park in lot P4 located on Union Avenue and N 14th St
URL:https://piercegop.org/event/virginia-taylor-27th-ld-club/2030-02-25/
LOCATION:University of Puget Sound; Wyatt Hall Rm 101\, 1500 N Warner St\, Tacoma\, WA\, 98416
CATEGORIES:27th District,PCO Meeting,Virginia Taylor Club
ATTACH;FMTTYPE=image/png:https://piercegop.org/wp-content/uploads/2024/08/Virginia-Taylor-Club-PCRP.png
ORGANIZER;CN="Pierce County Republican Party":MAILTO:PierceGOP@PierceGOP.org
END:VEVENT
BEGIN:VEVENT
DTSTART;TZID=America/Los_Angeles:20300307T180000
DTEND;TZID=America/Los_Angeles:20300307T203000
DTSTAMP:20260425T203517
CREATED:20241003T201719Z
LAST-MODIFIED:20250401T234232Z
UID:10001121-1899136800-1899145800@piercegop.org
SUMMARY:25th-2/29th Republican Club
DESCRIPTION:We Meet every 1st Thursday of the month and feature various speakers and events. \nStay informed\, meet other conservatives in a relaxed atmosphere and be a part of the solution. \nThe event is potluck. Bring something if you can. Come no matter what and invite a friend!
URL:https://piercegop.org/event/25th-2-29th-republicans-clubs-monthly-meeting/2030-03-07/
LOCATION:Canyon Terrace Community Center\, 9314 Canyon Rd E\, Puyallup\, Washington\, 98371
CATEGORIES:25th District,2nd & 29th District Republican Club Social
ATTACH;FMTTYPE=image/jpeg:https://piercegop.org/wp-content/uploads/2025/02/25-2-29-Combined-Club-LOGO.jpg
ORGANIZER;CN="Brenda Milewski":MAILTO:brendam531@aol.com
END:VEVENT
BEGIN:VEVENT
DTSTART;TZID=America/Los_Angeles:20300325T183000
DTEND;TZID=America/Los_Angeles:20300325T210000
DTSTAMP:20260425T203517
CREATED:20250403T041729Z
LAST-MODIFIED:20250403T042220Z
UID:10001189-1900693800-1900702800@piercegop.org
SUMMARY:Virginia Taylor 27th LD Club
DESCRIPTION:The Virginia Taylor 27th LD Republican Club is a social gathering of community members for information and collaboration\, \nWe meet at the University of Puget Sound in Wyatt Hall\, Room 101. Park in lot P4 located on Union Avenue and N 14th St
URL:https://piercegop.org/event/virginia-taylor-27th-ld-club/2030-03-25/
LOCATION:University of Puget Sound; Wyatt Hall Rm 101\, 1500 N Warner St\, Tacoma\, WA\, 98416
CATEGORIES:27th District,PCO Meeting,Virginia Taylor Club
ATTACH;FMTTYPE=image/png:https://piercegop.org/wp-content/uploads/2024/08/Virginia-Taylor-Club-PCRP.png
ORGANIZER;CN="Pierce County Republican Party":MAILTO:PierceGOP@PierceGOP.org
END:VEVENT
BEGIN:VEVENT
DTSTART;TZID=America/Los_Angeles:20300422T183000
DTEND;TZID=America/Los_Angeles:20300422T210000
DTSTAMP:20260425T203517
CREATED:20250403T041729Z
LAST-MODIFIED:20250403T042220Z
UID:10001190-1903113000-1903122000@piercegop.org
SUMMARY:Virginia Taylor 27th LD Club
DESCRIPTION:The Virginia Taylor 27th LD Republican Club is a social gathering of community members for information and collaboration\, \nWe meet at the University of Puget Sound in Wyatt Hall\, Room 101. Park in lot P4 located on Union Avenue and N 14th St
URL:https://piercegop.org/event/virginia-taylor-27th-ld-club/2030-04-22/
LOCATION:University of Puget Sound; Wyatt Hall Rm 101\, 1500 N Warner St\, Tacoma\, WA\, 98416
CATEGORIES:27th District,PCO Meeting,Virginia Taylor Club
ATTACH;FMTTYPE=image/png:https://piercegop.org/wp-content/uploads/2024/08/Virginia-Taylor-Club-PCRP.png
ORGANIZER;CN="Pierce County Republican Party":MAILTO:PierceGOP@PierceGOP.org
END:VEVENT
END:VCALENDAR