BEGIN:VCALENDAR
VERSION:2.0
PRODID:-//Pierce County Republican Party - ECPv6.15.20//NONSGML v1.0//EN
CALSCALE:GREGORIAN
METHOD:PUBLISH
X-WR-CALNAME:Pierce County Republican Party
X-ORIGINAL-URL:https://piercegop.org
X-WR-CALDESC:Events for Pierce County Republican Party
REFRESH-INTERVAL;VALUE=DURATION:PT1H
X-Robots-Tag:noindex
X-PUBLISHED-TTL:PT1H
BEGIN:VTIMEZONE
TZID:America/Los_Angeles
BEGIN:DAYLIGHT
TZOFFSETFROM:-0800
TZOFFSETTO:-0700
TZNAME:PDT
DTSTART:20230312T100000
END:DAYLIGHT
BEGIN:STANDARD
TZOFFSETFROM:-0700
TZOFFSETTO:-0800
TZNAME:PST
DTSTART:20231105T090000
END:STANDARD
BEGIN:DAYLIGHT
TZOFFSETFROM:-0800
TZOFFSETTO:-0700
TZNAME:PDT
DTSTART:20240310T100000
END:DAYLIGHT
BEGIN:STANDARD
TZOFFSETFROM:-0700
TZOFFSETTO:-0800
TZNAME:PST
DTSTART:20241103T090000
END:STANDARD
BEGIN:DAYLIGHT
TZOFFSETFROM:-0800
TZOFFSETTO:-0700
TZNAME:PDT
DTSTART:20250309T100000
END:DAYLIGHT
BEGIN:STANDARD
TZOFFSETFROM:-0700
TZOFFSETTO:-0800
TZNAME:PST
DTSTART:20251102T090000
END:STANDARD
END:VTIMEZONE
BEGIN:VEVENT
DTSTART;TZID=America/Los_Angeles:20241012T101500
DTEND;TZID=America/Los_Angeles:20241012T120000
DTSTAMP:20260419T095935
CREATED:20240902T054439Z
LAST-MODIFIED:20241109T234126Z
UID:10000581-1728728100-1728734400@piercegop.org
SUMMARY:25th LD PCO Meeting
DESCRIPTION:Monthly PCO Meeting
URL:https://piercegop.org/event/25th-ld-pco-meeting-2/2024-10-12/
LOCATION:Parkland/Spanaway Library\, 13718 Pacific Ave. S\, Tacoma\, Washington\, 98444
CATEGORIES:25th District
ATTACH;FMTTYPE=image/jpeg:https://piercegop.org/wp-content/uploads/2024/09/25th-District-Logo-3-1.jpg
ORGANIZER;CN="Pierce County Republican Party":MAILTO:PierceGOP@PierceGOP.org
END:VEVENT
BEGIN:VEVENT
DTSTART;TZID=America/Los_Angeles:20241008T183000
DTEND;TZID=America/Los_Angeles:20241008T200000
DTSTAMP:20260419T095935
CREATED:20241002T010735Z
LAST-MODIFIED:20241002T010736Z
UID:10000650-1728412200-1728417600@piercegop.org
SUMMARY:Get Out The Vote/Ballot Collective Training
DESCRIPTION:Get out the vote and ballot collection training at Pierce County Republican Party office
URL:https://piercegop.org/event/get-out-the-vote-ballot-collective-training/
LOCATION:PCRP Headquarters\, 10209 Bridgeport Way SW Unit C-1\, Lakewood\, WA\, 98499\, United States
CATEGORIES:Training
ATTACH;FMTTYPE=image/jpeg:https://piercegop.org/wp-content/uploads/2024/09/IMG_6883-1.jpg
ORGANIZER;CN="Pierce County Republican Party":MAILTO:PierceGOP@PierceGOP.org
END:VEVENT
BEGIN:VEVENT
DTSTART;TZID=America/Los_Angeles:20241008T183000
DTEND;TZID=America/Los_Angeles:20241008T200000
DTSTAMP:20260419T095935
CREATED:20240720T223450Z
LAST-MODIFIED:20240827T184703Z
UID:10000309-1728412200-1728417600@piercegop.org
SUMMARY:26th District PCO Meeting
DESCRIPTION:
URL:https://piercegop.org/event/26th-district-pco-meeting/2024-10-08/
LOCATION:Harborview Fellowship\, 4819 Hunt Street NW\, Gig Harbor\, 98335\, United States
CATEGORIES:26th District,PCO Meeting
ATTACH;FMTTYPE=image/png:https://piercegop.org/wp-content/uploads/2024/08/Pierce-26th-District-Logo.png
ORGANIZER;CN="Pierce County Republican Party":MAILTO:PierceGOP@PierceGOP.org
END:VEVENT
BEGIN:VEVENT
DTSTART;TZID=America/Los_Angeles:20241003T180000
DTEND;TZID=America/Los_Angeles:20241003T203000
DTSTAMP:20260419T095935
CREATED:20241003T201719Z
LAST-MODIFIED:20250401T234232Z
UID:10000653-1727978400-1727987400@piercegop.org
SUMMARY:25th-2/29th Republican Club
DESCRIPTION:We Meet every 1st Thursday of the month and feature various speakers and events. \nStay informed\, meet other conservatives in a relaxed atmosphere and be a part of the solution. \nThe event is potluck. Bring something if you can. Come no matter what and invite a friend!
URL:https://piercegop.org/event/25th-2-29th-republicans-clubs-monthly-meeting/2024-10-03/
LOCATION:Canyon Terrace Community Center\, 9314 Canyon Rd E\, Puyallup\, Washington\, 98371
CATEGORIES:25th District,2nd & 29th District Republican Club Social
ATTACH;FMTTYPE=image/jpeg:https://piercegop.org/wp-content/uploads/2025/02/25-2-29-Combined-Club-LOGO.jpg
ORGANIZER;CN="Brenda Milewski":MAILTO:brendam531@aol.com
END:VEVENT
BEGIN:VEVENT
DTSTART;TZID=America/Los_Angeles:20241003T173000
DTEND;TZID=America/Los_Angeles:20241003T203000
DTSTAMP:20260419T095935
CREATED:20240801T022949Z
LAST-MODIFIED:20240827T044646Z
UID:10000315-1727976600-1727987400@piercegop.org
SUMMARY:27th District PCO Meeting
DESCRIPTION:Please Join Us in the Board Room
URL:https://piercegop.org/event/27th-district-pco-meeting-2/2024-10-03/
LOCATION:Poodle Dog Resturant\, 1522 54th Ave. East\, Fife\, WA\, 98424\, United States
CATEGORIES:27th District
ATTACH;FMTTYPE=image/png:https://piercegop.org/wp-content/uploads/2024/07/27th-District.png
END:VEVENT
BEGIN:VEVENT
DTSTART;TZID=America/Los_Angeles:20241001T173000
DTEND;TZID=America/Los_Angeles:20241001T193000
DTSTAMP:20260419T095935
CREATED:20240930T234004Z
LAST-MODIFIED:20240930T234005Z
UID:10000649-1727803800-1727811000@piercegop.org
SUMMARY:Reception Supporting Kelly Chambers and Loujanna "LJ" Rohrer
DESCRIPTION:Fundraiser
URL:https://piercegop.org/event/reception-supporting-kelly-chambers-and-loujanna-lj-rohrer/
LOCATION:The Quigg Residence\, 3611 N Washington Street\, Tacoma\, WA\, 98407
CATEGORIES:Fundraiser
ATTACH;FMTTYPE=image/jpeg:https://piercegop.org/wp-content/uploads/2024/09/IMG_9616.jpeg
ORGANIZER;CN="Friends of Kelly Chambers":MAILTO:Amy@redstrategiesllc.com
END:VEVENT
BEGIN:VEVENT
DTSTART;TZID=America/Los_Angeles:20240929T140000
DTEND;TZID=America/Los_Angeles:20240929T160000
DTSTAMP:20260419T095935
CREATED:20240927T041352Z
LAST-MODIFIED:20240928T205243Z
UID:10000647-1727618400-1727625600@piercegop.org
SUMMARY:Town Hall Elks Club
DESCRIPTION:TOWN HALL this Sunday\, September 29th from 2 to 4pm at the Elks Club in Puyallup! Candidates: Jim Walsh\, Dr. Raul Garcia\, Keith Swank\, David Olson\, Pete Serrano\, Dale Whitaker\, and more! \nRSVP ASAP Valeriehartwellpco@gmail.com@gmail.com\nQuestions? call 360-349-9868
URL:https://piercegop.org/event/town-hall-elks-club/
LOCATION:Elks Club Puyallup\, 314 27th St NE\, Puyallup\, WA\, 98372
CATEGORIES:25th District,26th District,27th District,28th District,29th District,2nd District,31st District,Informational
ATTACH;FMTTYPE=image/png:https://piercegop.org/wp-content/uploads/2024/09/Screenshot_20240918-092459.png
END:VEVENT
BEGIN:VEVENT
DTSTART;TZID=America/Los_Angeles:20240928T140000
DTEND;TZID=America/Los_Angeles:20240928T160000
DTSTAMP:20260419T095935
CREATED:20240907T203155Z
LAST-MODIFIED:20240928T205339Z
UID:10000584-1727532000-1727539200@piercegop.org
SUMMARY:Meet the Judges
DESCRIPTION:The 25th\, 2nd and 29th District Republican clubs are hosting another unique opportunity for Pierce County voters to meet and get to know the Judges running for office. The judiciary makes up 1/3 of our government and all too often we see unopposed races or candidates we know nothing about. This season we have some really great candidates\, many who have been endorsed by PCRP or certified. Some of their opponents you DEFINITELY do not want in office! \nJudicial candidates are under unique campaign rules and cannot compete in the same way as partisan offices. This is not only your chance to get to know these candidates\, but also help them campaign and spread the word to your friends and neighbors. \nMake sure and bring someone! \nCome with your questions. Leave with answers!
URL:https://piercegop.org/event/meet-the-judges/
LOCATION:Experience Church\, 10012 122nd St E\, Puyallup\,\, 98373\, United States
CATEGORIES:25th District,26th District,27th District,28th District,29th District,2nd District,31st District,Informational
ATTACH;FMTTYPE=image/jpeg:https://piercegop.org/wp-content/uploads/2024/09/Second-Meet-the-Judges-scaled.jpg
ORGANIZER;CN="25th%2C 2nd and 29th Republican Clubs":MAILTO:john@25-256.com
END:VEVENT
BEGIN:VEVENT
DTSTART;TZID=America/Los_Angeles:20240928T083000
DTEND;TZID=America/Los_Angeles:20240928T110000
DTSTAMP:20260419T095935
CREATED:20240719T171955Z
LAST-MODIFIED:20250321T213205Z
UID:10000128-1727512200-1727521200@piercegop.org
SUMMARY:Gig Harbor Republican Club
DESCRIPTION:
URL:https://piercegop.org/event/gig-harbor-republican-club/2024-09-28/
LOCATION:Harbor Place at Cottesmore\, 1016 29th St. NW\, Gig Harbor\, WA\, 98335\, United States
CATEGORIES:26th District,Clubs,Gig Harbor Republican Club
ATTACH;FMTTYPE=image/png:https://piercegop.org/wp-content/uploads/2024/08/Gig-Harbor-Republicans-PCRP.png
ORGANIZER;CN="Gig Harbor Republican Club":MAILTO:gigharborrepublicans@gmail.com
END:VEVENT
BEGIN:VEVENT
DTSTART;TZID=America/Los_Angeles:20240926T180000
DTEND;TZID=America/Los_Angeles:20240926T200000
DTSTAMP:20260419T095935
CREATED:20240831T224509Z
LAST-MODIFIED:20240831T224846Z
UID:10000576-1727373600-1727380800@piercegop.org
SUMMARY:Lakewood Chamber of Commerce Candidate's Forum
DESCRIPTION:The public is invited to join us at the Lakewood Chamber of Commerce for a Candidates Forum\, where you can connect with candidates running for Pierce County Executive and Pierce County Council (District 6) ahead of the 2024 General Election. This event is all about you … your chance to hear from ~ and speak with the people who can shape the future of our county.\nAfter the Q&A session\, stick around for a more personal opportunity to mingle with the candidates and discuss the issues that matter to you. The Lakewood Chamber is committed to empowering voters with the knowledge they need\, focusing on how these elections impact our citizens and local business community. We hope to see you there!\n\nCandidates for Pierce County Executive:• Kelly Chambers – confirmed• Ryan Mello – confirmed\n\nCandidates for Pierce County Council District 6• Loujanna Rohrer – confirmed• Jani Hitchen – confirmed
URL:https://piercegop.org/event/lakewood-chamber-of-commerce-candidates-forum/
LOCATION:Lakewood Chamber of Commerce\, 6310 Mount Tacoma Dr SW Ste B\, Lakewood\, 98499\, United States
CATEGORIES:28th District,29th District
ATTACH;FMTTYPE=image/jpeg:https://piercegop.org/wp-content/uploads/2024/08/Candidate-Forum-Lakewood.jpg
END:VEVENT
BEGIN:VEVENT
DTSTART;TZID=America/Los_Angeles:20240926T173000
DTEND;TZID=America/Los_Angeles:20240926T203000
DTSTAMP:20260419T095935
CREATED:20240830T171001Z
LAST-MODIFIED:20240830T182256Z
UID:10000574-1727371800-1727382600@piercegop.org
SUMMARY:Ronald Reagan Club September Meeting
DESCRIPTION:Our featured speaker is Dale Whitaker\, Republican candidate for Secretary of State \nDale Whitaker is committed to bringing back trust to our elections. \n“My commitment is to uphold the highest standards of transparency and accessibility in our elections\, ensuring that they are fair and free from doubt. This means advocating for and implementing third-party audits\, making the election process transparent to all parties involved\, and ensuring that the technology we use is both secure and trustworthy. Our democracy thrives when every citizen can vote with confidence\, knowing their voice will be heard clearly and accurately.” \nCome hear him layout his plan and ask him your questions. \nBuy Tickets
URL:https://piercegop.org/event/ronald-reagan-club-september-meeting/
LOCATION:La Quinta\, 1425 E 27th St\, Tacoma\, 98421\, United States
CATEGORIES:25th District,26th District,27th District,28th District,29th District,2nd District,31st District,South Sound Ronald Regan Republican Club
ATTACH;FMTTYPE=image/jpeg:https://piercegop.org/wp-content/uploads/2024/08/836ff954-f729-4be9-a40e-aee618f0792e.jpg
ORGANIZER;CN="South Sound Ronald Regan Republican Club":MAILTO:SSRRRC@RonaldReaganClub.com
END:VEVENT
BEGIN:VEVENT
DTSTART;TZID=America/Los_Angeles:20240917T170000
DTEND;TZID=America/Los_Angeles:20240917T210000
DTSTAMP:20260419T095935
CREATED:20240830T171626Z
LAST-MODIFIED:20240830T171628Z
UID:10000575-1726592400-1726606800@piercegop.org
SUMMARY:Movies & Mixers
DESCRIPTION:Tuesday\, September 17 2024\n5:00 PM – 7:00 PM \n\n \nGalaxy IMAX Theater\n4649 Pt Fosdick Dr\nGIG HARBOR\, WA 98335 \n\n\nCasting A Vision – Jesse Young | Live Music – Catered by BBQ2U | New All-American 2024 Film Showing – REAGAN\n\n\n5:00PM – Doors open\, dinner is served!\n6:00PM – Program begins – Jesse Young\, Casting A Vision\n7:05PM – Movie plays – REAGAN \n\nPurchase Tickets
URL:https://piercegop.org/event/movies-mixers/
LOCATION:Galaxy IMAX Theater – Gig Harbor\, 4649 Pt Fosdick Dr\, Gig Harbor\, 98335\, United States
CATEGORIES:26th District,Fundraiser
ATTACH;FMTTYPE=image/jpeg:https://piercegop.org/wp-content/uploads/2024/08/Movies-and-Mixers.jpg
END:VEVENT
BEGIN:VEVENT
DTSTART;TZID=America/Los_Angeles:20240915T150000
DTEND;TZID=America/Los_Angeles:20240915T170000
DTSTAMP:20260419T095935
CREATED:20240826T190002Z
LAST-MODIFIED:20240826T231816Z
UID:10000446-1726412400-1726419600@piercegop.org
SUMMARY:Sunday Spaghetti with our next Sheriff
DESCRIPTION:Join us for food and fellowship after the Seahawks game to support the leading candidate for Sheriff. Captain Keith Swank. Follow the links for more information and to RSVP and visit the campaign website to learn more about Keith. \nRSVP – https://www.efundraisingconnections.com/c/KeithSwank/SundaySpaghettiWithTheNextSheriff\nCampaign website – https://www.swankforsheriff.com/ \nSee you there!
URL:https://piercegop.org/event/sunday-spaghetti-with-our-next-sheriff/
LOCATION:Mama Stortini’s Italian Restaurant of Puyallup\, 3207 E Main\, Puyallup\, 98372\, United States
CATEGORIES:Fundraiser
ATTACH;FMTTYPE=image/png:https://piercegop.org/wp-content/uploads/2024/08/Sunday-Spaghetti-With-Keith-Swank-1024x819-2.png
ORGANIZER;CN="Keith Swank for Pierce County Sheriff":MAILTO:keith@swankforsheriff.com
END:VEVENT
BEGIN:VEVENT
DTSTART;TZID=America/Los_Angeles:20240912T173000
DTEND;TZID=America/Los_Angeles:20240912T200000
DTSTAMP:20260419T095935
CREATED:20240827T184446Z
LAST-MODIFIED:20240827T185047Z
UID:10000568-1726162200-1726171200@piercegop.org
SUMMARY:Campaign launch for Rebecca Reeder for Judge
DESCRIPTION:Campaign launch for Rebecca Reeder for Judge
URL:https://piercegop.org/event/campaign-launch-for-rebecca-reeder-for-judge/
LOCATION:Location: Tacoma Country & Golf Club\, Lakewood\, WA\, 13204 Country Club Dr SW\, Lakewood\, 98498\, United States
CATEGORIES:28th District,29th District,Fundraiser
ATTACH;FMTTYPE=image/jpeg:https://piercegop.org/wp-content/uploads/2024/08/INVITE.jpg
ORGANIZER;CN="Rebecca for Judge":MAILTO:rebeccaforjudge2024@gmail.com
END:VEVENT
BEGIN:VEVENT
DTSTART;TZID=America/Los_Angeles:20240912T173000
DTEND;TZID=America/Los_Angeles:20240912T190000
DTSTAMP:20260419T095935
CREATED:20240905T164350Z
LAST-MODIFIED:20240905T164350Z
UID:10000583-1726162200-1726167600@piercegop.org
SUMMARY:Candidates and Desserts!
DESCRIPTION:Come meet your candidate for Congress Carmen Goers and Pierce County Executive Candidate Kelly Chambers for a night of discussions and desserts!
URL:https://piercegop.org/event/candidates-and-desserts/
LOCATION:Orting Multi-purpose Center\, 201 Washington Ave S\, Orting\, 98369\, United States
CATEGORIES:Fundraiser
ATTACH;FMTTYPE=image/png:https://piercegop.org/wp-content/uploads/2024/09/Copy-of-Hosted-By-2.png
ORGANIZER;CN="Carmen Goers":MAILTO:goerscampaign@gmail.com
END:VEVENT
BEGIN:VEVENT
DTSTART;TZID=America/Los_Angeles:20240911T183000
DTEND;TZID=America/Los_Angeles:20240911T200000
DTSTAMP:20260419T095935
CREATED:20240902T053538Z
LAST-MODIFIED:20240902T053822Z
UID:10000580-1726079400-1726084800@piercegop.org
SUMMARY:25th LD PCO Meeting
DESCRIPTION:Monthly 25th LD PCO Meeting at Canyon Terrace Community Center
URL:https://piercegop.org/event/25th-ld-pco-meeting/2024-09-11/
LOCATION:Canyon Terrace Community Center\, 9314 Canyon Rd E\, Puyallup\, Washington\, 98371
CATEGORIES:25th District
ATTACH;FMTTYPE=image/jpeg:https://piercegop.org/wp-content/uploads/2024/09/25th-District-Logo-3.jpg
ORGANIZER;CN="Pierce County Republican Party":MAILTO:PierceGOP@PierceGOP.org
END:VEVENT
BEGIN:VEVENT
DTSTART;TZID=America/Los_Angeles:20240910T170000
DTEND;TZID=America/Los_Angeles:20240910T170000
DTSTAMP:20260419T095935
CREATED:20240829T042523Z
LAST-MODIFIED:20240830T164228Z
UID:10000572-1725987600-1725987600@piercegop.org
SUMMARY:Debate Watch Party
DESCRIPTION:This is a 2-for-1 deal. Presidential and Gubernatorial debate night! \nJoin us as we watch President Trump and Vice President Harris take the debate stage\, and stay to watch Reichert vs. Ferguson. \nPizza is included. \nRegister Here \nSpecial Guests:\nKelly Chambers\, Candidate for County Executive\nKeith Swank\, Candidate for Pierce County Sheriff
URL:https://piercegop.org/event/debate-watch-party/
LOCATION:Blue Mouse Theatre\, 2611 N Proctor St\, Tacoma\, 98407\, United States
CATEGORIES:27th District,Virginia Taylor Club
ATTACH;FMTTYPE=image/png:https://piercegop.org/wp-content/uploads/2024/08/original-FC48900D-9312-4B7D-97ED-DE6DB2DEC538-e1724971428878.png
END:VEVENT
BEGIN:VEVENT
DTSTART;TZID=America/Los_Angeles:20240909T183000
DTEND;TZID=America/Los_Angeles:20240909T200000
DTSTAMP:20260419T095935
CREATED:20240827T185414Z
LAST-MODIFIED:20240827T185540Z
UID:10000570-1725906600-1725912000@piercegop.org
SUMMARY:26th District PCO Meeting
DESCRIPTION:Meeting moved to Monday due to Presidential Debate.
URL:https://piercegop.org/event/26th-district-pco-meeting-2/
LOCATION:Harborview Fellowship\, 4819 Hunt Street NW\, Gig Harbor\, 98335\, United States
CATEGORIES:26th District
ATTACH;FMTTYPE=image/png:https://piercegop.org/wp-content/uploads/2024/08/Pierce-26th-District-Logo.png
ORGANIZER;CN="Pierce County Republican Party":MAILTO:PierceGOP@PierceGOP.org
END:VEVENT
BEGIN:VEVENT
DTSTART;TZID=America/Los_Angeles:20240909T183000
DTEND;TZID=America/Los_Angeles:20240909T200000
DTSTAMP:20260419T095935
CREATED:20240719T173055Z
LAST-MODIFIED:20251105T011528Z
UID:10000187-1725906600-1725912000@piercegop.org
SUMMARY:2nd LD PCO Meeting
DESCRIPTION:6:30 – Social \n7:00 – Meeting
URL:https://piercegop.org/event/2nd-district-pco-meeting/2024-09-09/
LOCATION:Allergies Lifestyle & Health\, 19609 Ellis Ln E\, Spanaway\, 98387\, United States
CATEGORIES:2nd District,PCO Meeting
ATTACH;FMTTYPE=image/jpeg:https://piercegop.org/wp-content/uploads/2024/07/PCO-Meeting.jpg
END:VEVENT
BEGIN:VEVENT
DTSTART;TZID=America/Los_Angeles:20240909T120000
DTEND;TZID=America/Los_Angeles:20240909T133000
DTSTAMP:20260419T095935
CREATED:20240828T233109Z
LAST-MODIFIED:20240828T233109Z
UID:10000571-1725883200-1725888600@piercegop.org
SUMMARY:East Pierce Republican Women's Club Meeting
DESCRIPTION:EPRWC Meets on the first Monday of most months. If a holiday is on the 1st Monday we meet on the 2nd Monday. Our club features speakers that educate\, Inform and motivate them to participate in Campaign\, Volunteer and community opportunities. We raise money to support out Caring for America project the USO and for our club efforts to elect Republicans. \nOur September meeting will feature candidates that will be on the November Ballot. This meeting will feature Pierce County Councilmember Paul Herrera candidate for the same position\, David Olson candidate for Superintendent of Public Schools\, Patricia Mullet Representative for Pete Serrano candidate for Attorney General\, also Sue Kuehl Pederson Candidate for Lands Commissioner. She will speak if she makes it through the recount. \nWe meet at the RAM Restaurant\, 103 35th Ave SE\, Puyallup\, WA 98374. Our meeting starts at 12:00 PM. You can buy a lunch or just enjoy the speakers. \nCome and enjoy our lively engagement of all things Republican.
URL:https://piercegop.org/event/east-pierce-republican-womens-club-meeting/
LOCATION:PCRP Headquarters\, 10209 Bridgeport Way SW Unit C-1\, Lakewood\, WA\, 98499\, United States
CATEGORIES:East Pierce Republican Women Club
ATTACH;FMTTYPE=image/jpeg:https://piercegop.org/wp-content/uploads/2024/08/EPRWC-Logo.jpg
ORGANIZER;CN="Pierce County Republican Party":MAILTO:PierceGOP@PierceGOP.org
END:VEVENT
BEGIN:VEVENT
DTSTART;TZID=America/Los_Angeles:20240905T180000
DTEND;TZID=America/Los_Angeles:20240905T203000
DTSTAMP:20260419T095935
CREATED:20240830T024538Z
LAST-MODIFIED:20240830T024538Z
UID:10000573-1725559200-1725568200@piercegop.org
SUMMARY:25th\, 2nd & 29th District Republicans Club
DESCRIPTION:Monthly meeting with guest Speaker L J Rohrer at The Ram Restaurant\n103 35th Ave SE Puyallup\, WA \nNote: This is the only 2/29th Club meeting for September 5th\, another is listed but in error.
URL:https://piercegop.org/event/25th-2nd-29th-district-republicans-club/
CATEGORIES:25th District,29th District,2nd & 29th District Republican Club Social,2nd District
ORGANIZER;CN="2/29 Republican Club":MAILTO:terryharder@comcast.net
END:VEVENT
BEGIN:VEVENT
DTSTART;TZID=America/Los_Angeles:20240905T173000
DTEND;TZID=America/Los_Angeles:20240905T203000
DTSTAMP:20260419T095935
CREATED:20240801T022949Z
LAST-MODIFIED:20240827T044646Z
UID:10000314-1725557400-1725568200@piercegop.org
SUMMARY:27th District PCO Meeting
DESCRIPTION:Please Join Us in the Board Room
URL:https://piercegop.org/event/27th-district-pco-meeting-2/2024-09-05/
LOCATION:Poodle Dog Resturant\, 1522 54th Ave. East\, Fife\, WA\, 98424\, United States
CATEGORIES:27th District
ATTACH;FMTTYPE=image/png:https://piercegop.org/wp-content/uploads/2024/07/27th-District.png
END:VEVENT
BEGIN:VEVENT
DTSTART;VALUE=DATE:20240830
DTEND;VALUE=DATE:20240923
DTSTAMP:20260419T095935
CREATED:20240827T051259Z
LAST-MODIFIED:20240827T053223Z
UID:10000569-1724976000-1727049599@piercegop.org
SUMMARY:Washington State Fair
DESCRIPTION:Pierce County Republican Party will be at the Showplex every week to help the public make informed decisions for the fall election.
URL:https://piercegop.org/event/washington-state-fair/
LOCATION:Puyallup Fairgrounds\, 110 9th Avenue SW\, Puyallup\, 98371-0162\, United States
CATEGORIES:Fundraiser
ATTACH;FMTTYPE=image/jpeg:https://piercegop.org/wp-content/uploads/2024/08/1721753871-hero-wsf-2024.jpg
ORGANIZER;CN="Pierce County Republican Party":MAILTO:PierceGOP@PierceGOP.org
END:VEVENT
BEGIN:VEVENT
DTSTART;TZID=America/Los_Angeles:20240826T180000
DTEND;TZID=America/Los_Angeles:20240826T203000
DTSTAMP:20260419T095935
CREATED:20240813T203927Z
LAST-MODIFIED:20240826T224750Z
UID:10000442-1724695200-1724704200@piercegop.org
SUMMARY:Virginia Taylor Club 27th LD Republican Club
DESCRIPTION:Virginia Taylor Club with Special Guest on election integrity\, Erica Engelhart “Does My Vote Really Matter” \nWhat does Election Integrity look like today?
URL:https://piercegop.org/event/virginia-taylor-club-27th-ld-republican-club/
LOCATION:Tacoma Elks Lodge\, 2013 S Cedar Street\, Tacoma\, WA\, 98402
CATEGORIES:27th District,Virginia Taylor Club
ATTACH;FMTTYPE=image/png:https://piercegop.org/wp-content/uploads/2024/08/Election.png
END:VEVENT
BEGIN:VEVENT
DTSTART;TZID=America/Los_Angeles:20240824T160000
DTEND;TZID=America/Los_Angeles:20240824T180000
DTSTAMP:20260419T095935
CREATED:20240817T220846Z
LAST-MODIFIED:20240826T231904Z
UID:10000444-1724515200-1724522400@piercegop.org
SUMMARY:Make Our County Safe Again
DESCRIPTION:Make our County Safe Again Fundraising Auction and raffle event supporting Captain Keith Swank\, Constitutional Sheriff candidate.
URL:https://piercegop.org/event/make-our-county-safe-again-2/
LOCATION:Campion Farm\, 2415 276th St E\, Spanaway\, United States
CATEGORIES:Fundraiser
ATTACH;FMTTYPE=image/png:https://piercegop.org/wp-content/uploads/2024/08/keith.png
ORGANIZER;CN="Senator Jim McCune":MAILTO:Keith@swankforsheriff.com
END:VEVENT
BEGIN:VEVENT
DTSTART;TZID=America/Los_Angeles:20240824T100000
DTEND;TZID=America/Los_Angeles:20240824T110000
DTSTAMP:20260419T095935
CREATED:20240819T204256Z
LAST-MODIFIED:20240826T232248Z
UID:10000445-1724493600-1724497200@piercegop.org
SUMMARY:Fair Booth Orientation
DESCRIPTION:You’ve signed up to be a fair booth volunteer\, now what? Come get all the answers to your questions and your ticket for entrance.
URL:https://piercegop.org/event/fair-booth-orientation/
LOCATION:PCRP Headquarters\, 10209 Bridgeport Way SW Unit C-1\, Lakewood\, WA\, 98499\, United States
CATEGORIES:Training
ORGANIZER;CN="Pierce County Republican Party":MAILTO:PierceGOP@PierceGOP.org
END:VEVENT
BEGIN:VEVENT
DTSTART;TZID=America/Los_Angeles:20240824T083000
DTEND;TZID=America/Los_Angeles:20240824T110000
DTSTAMP:20260419T095935
CREATED:20240719T171955Z
LAST-MODIFIED:20250321T213205Z
UID:10000127-1724488200-1724497200@piercegop.org
SUMMARY:Gig Harbor Republican Club
DESCRIPTION:
URL:https://piercegop.org/event/gig-harbor-republican-club/2024-08-24/
LOCATION:Harbor Place at Cottesmore\, 1016 29th St. NW\, Gig Harbor\, WA\, 98335\, United States
CATEGORIES:26th District,Clubs,Gig Harbor Republican Club
ATTACH;FMTTYPE=image/png:https://piercegop.org/wp-content/uploads/2024/08/Gig-Harbor-Republicans-PCRP.png
ORGANIZER;CN="Gig Harbor Republican Club":MAILTO:gigharborrepublicans@gmail.com
END:VEVENT
BEGIN:VEVENT
DTSTART;TZID=America/Los_Angeles:20240822T180000
DTEND;TZID=America/Los_Angeles:20240822T193000
DTSTAMP:20260419T095935
CREATED:20240813T004940Z
LAST-MODIFIED:20240820T055333Z
UID:10000437-1724349600-1724355000@piercegop.org
SUMMARY:28th PCO Meeting
DESCRIPTION:*******CANCELED********\nPrecinct Committee Officer meeting\, *******CANCELED********
URL:https://piercegop.org/event/28th-pco-meeting/
LOCATION:PCRP Headquarters\, 10209 Bridgeport Way SW Unit C-1\, Lakewood\, WA\, 98499\, United States
CATEGORIES:28th District
END:VEVENT
BEGIN:VEVENT
DTSTART;TZID=America/Los_Angeles:20240816T170000
DTEND;TZID=America/Los_Angeles:20240816T200000
DTSTAMP:20260419T095935
CREATED:20240816T053921Z
LAST-MODIFIED:20240826T232156Z
UID:10000441-1723827600-1723838400@piercegop.org
SUMMARY:Meet Our Candidates
DESCRIPTION:– South Puget Sound Republican Women “Meet Our Candidates” Event\nBring your friends and neighbors to meet and greet our Pierce County candidates as we strengthen our support for the general election!
URL:https://piercegop.org/event/meet-our-candidates/
LOCATION:Location: Tacoma Country & Golf Club\, Lakewood\, WA\, 13204 Country Club Dr SW\, Lakewood\, 98498\, United States
CATEGORIES:28th District,29th District,South Puget Sound Republican Women's Club
ATTACH;FMTTYPE=image/png:https://piercegop.org/wp-content/uploads/2024/08/Untitled-Instagram-Post-1-1.png
END:VEVENT
BEGIN:VEVENT
DTSTART;TZID=America/Los_Angeles:20240812T183000
DTEND;TZID=America/Los_Angeles:20240812T200000
DTSTAMP:20260419T095935
CREATED:20240719T173055Z
LAST-MODIFIED:20251105T011528Z
UID:10000186-1723487400-1723492800@piercegop.org
SUMMARY:2nd LD PCO Meeting
DESCRIPTION:6:30 – Social \n7:00 – Meeting
URL:https://piercegop.org/event/2nd-district-pco-meeting/2024-08-12/
LOCATION:Allergies Lifestyle & Health\, 19609 Ellis Ln E\, Spanaway\, 98387\, United States
CATEGORIES:2nd District,PCO Meeting
ATTACH;FMTTYPE=image/jpeg:https://piercegop.org/wp-content/uploads/2024/07/PCO-Meeting.jpg
END:VEVENT
END:VCALENDAR