BEGIN:VCALENDAR
VERSION:2.0
PRODID:-//Pierce County Republican Party - ECPv6.15.20//NONSGML v1.0//EN
CALSCALE:GREGORIAN
METHOD:PUBLISH
X-WR-CALNAME:Pierce County Republican Party
X-ORIGINAL-URL:https://piercegop.org
X-WR-CALDESC:Events for Pierce County Republican Party
REFRESH-INTERVAL;VALUE=DURATION:PT1H
X-Robots-Tag:noindex
X-PUBLISHED-TTL:PT1H
BEGIN:VTIMEZONE
TZID:America/Los_Angeles
BEGIN:DAYLIGHT
TZOFFSETFROM:-0800
TZOFFSETTO:-0700
TZNAME:PDT
DTSTART:20230312T100000
END:DAYLIGHT
BEGIN:STANDARD
TZOFFSETFROM:-0700
TZOFFSETTO:-0800
TZNAME:PST
DTSTART:20231105T090000
END:STANDARD
BEGIN:DAYLIGHT
TZOFFSETFROM:-0800
TZOFFSETTO:-0700
TZNAME:PDT
DTSTART:20240310T100000
END:DAYLIGHT
BEGIN:STANDARD
TZOFFSETFROM:-0700
TZOFFSETTO:-0800
TZNAME:PST
DTSTART:20241103T090000
END:STANDARD
BEGIN:DAYLIGHT
TZOFFSETFROM:-0800
TZOFFSETTO:-0700
TZNAME:PDT
DTSTART:20250309T100000
END:DAYLIGHT
BEGIN:STANDARD
TZOFFSETFROM:-0700
TZOFFSETTO:-0800
TZNAME:PST
DTSTART:20251102T090000
END:STANDARD
BEGIN:DAYLIGHT
TZOFFSETFROM:-0800
TZOFFSETTO:-0700
TZNAME:PDT
DTSTART:20260308T100000
END:DAYLIGHT
BEGIN:STANDARD
TZOFFSETFROM:-0700
TZOFFSETTO:-0800
TZNAME:PST
DTSTART:20261101T090000
END:STANDARD
END:VTIMEZONE
BEGIN:VEVENT
DTSTART;TZID=America/Los_Angeles:20241001T173000
DTEND;TZID=America/Los_Angeles:20241001T193000
DTSTAMP:20260420T104706
CREATED:20240930T234004Z
LAST-MODIFIED:20240930T234005Z
UID:10000649-1727803800-1727811000@piercegop.org
SUMMARY:Reception Supporting Kelly Chambers and Loujanna "LJ" Rohrer
DESCRIPTION:Fundraiser
URL:https://piercegop.org/event/reception-supporting-kelly-chambers-and-loujanna-lj-rohrer/
LOCATION:The Quigg Residence\, 3611 N Washington Street\, Tacoma\, WA\, 98407
CATEGORIES:Fundraiser
ATTACH;FMTTYPE=image/jpeg:https://piercegop.org/wp-content/uploads/2024/09/IMG_9616.jpeg
ORGANIZER;CN="Friends of Kelly Chambers":MAILTO:Amy@redstrategiesllc.com
END:VEVENT
BEGIN:VEVENT
DTSTART;TZID=America/Los_Angeles:20241003T173000
DTEND;TZID=America/Los_Angeles:20241003T203000
DTSTAMP:20260420T104706
CREATED:20240801T022949Z
LAST-MODIFIED:20240827T044646Z
UID:10000315-1727976600-1727987400@piercegop.org
SUMMARY:27th District PCO Meeting
DESCRIPTION:Please Join Us in the Board Room
URL:https://piercegop.org/event/27th-district-pco-meeting-2/2024-10-03/
LOCATION:Poodle Dog Resturant\, 1522 54th Ave. East\, Fife\, WA\, 98424\, United States
CATEGORIES:27th District
ATTACH;FMTTYPE=image/png:https://piercegop.org/wp-content/uploads/2024/07/27th-District.png
END:VEVENT
BEGIN:VEVENT
DTSTART;TZID=America/Los_Angeles:20241003T180000
DTEND;TZID=America/Los_Angeles:20241003T203000
DTSTAMP:20260420T104706
CREATED:20241003T201719Z
LAST-MODIFIED:20250401T234232Z
UID:10000653-1727978400-1727987400@piercegop.org
SUMMARY:25th-2/29th Republican Club
DESCRIPTION:We Meet every 1st Thursday of the month and feature various speakers and events. \nStay informed\, meet other conservatives in a relaxed atmosphere and be a part of the solution. \nThe event is potluck. Bring something if you can. Come no matter what and invite a friend!
URL:https://piercegop.org/event/25th-2-29th-republicans-clubs-monthly-meeting/2024-10-03/
LOCATION:Canyon Terrace Community Center\, 9314 Canyon Rd E\, Puyallup\, Washington\, 98371
CATEGORIES:25th District,2nd & 29th District Republican Club Social
ATTACH;FMTTYPE=image/jpeg:https://piercegop.org/wp-content/uploads/2025/02/25-2-29-Combined-Club-LOGO.jpg
ORGANIZER;CN="Brenda Milewski":MAILTO:brendam531@aol.com
END:VEVENT
BEGIN:VEVENT
DTSTART;TZID=America/Los_Angeles:20241008T183000
DTEND;TZID=America/Los_Angeles:20241008T200000
DTSTAMP:20260420T104706
CREATED:20240720T223450Z
LAST-MODIFIED:20240827T184703Z
UID:10000309-1728412200-1728417600@piercegop.org
SUMMARY:26th District PCO Meeting
DESCRIPTION:
URL:https://piercegop.org/event/26th-district-pco-meeting/2024-10-08/
LOCATION:Harborview Fellowship\, 4819 Hunt Street NW\, Gig Harbor\, 98335\, United States
CATEGORIES:26th District,PCO Meeting
ATTACH;FMTTYPE=image/png:https://piercegop.org/wp-content/uploads/2024/08/Pierce-26th-District-Logo.png
ORGANIZER;CN="Pierce County Republican Party":MAILTO:PierceGOP@PierceGOP.org
END:VEVENT
BEGIN:VEVENT
DTSTART;TZID=America/Los_Angeles:20241008T183000
DTEND;TZID=America/Los_Angeles:20241008T200000
DTSTAMP:20260420T104706
CREATED:20241002T010735Z
LAST-MODIFIED:20241002T010736Z
UID:10000650-1728412200-1728417600@piercegop.org
SUMMARY:Get Out The Vote/Ballot Collective Training
DESCRIPTION:Get out the vote and ballot collection training at Pierce County Republican Party office
URL:https://piercegop.org/event/get-out-the-vote-ballot-collective-training/
LOCATION:PCRP Headquarters\, 10209 Bridgeport Way SW Unit C-1\, Lakewood\, WA\, 98499\, United States
CATEGORIES:Training
ATTACH;FMTTYPE=image/jpeg:https://piercegop.org/wp-content/uploads/2024/09/IMG_6883-1.jpg
ORGANIZER;CN="Pierce County Republican Party":MAILTO:PierceGOP@PierceGOP.org
END:VEVENT
BEGIN:VEVENT
DTSTART;TZID=America/Los_Angeles:20241012T101500
DTEND;TZID=America/Los_Angeles:20241012T120000
DTSTAMP:20260420T104706
CREATED:20240902T054439Z
LAST-MODIFIED:20241109T234126Z
UID:10000581-1728728100-1728734400@piercegop.org
SUMMARY:25th LD PCO Meeting
DESCRIPTION:Monthly PCO Meeting
URL:https://piercegop.org/event/25th-ld-pco-meeting-2/2024-10-12/
LOCATION:Parkland/Spanaway Library\, 13718 Pacific Ave. S\, Tacoma\, Washington\, 98444
CATEGORIES:25th District
ATTACH;FMTTYPE=image/jpeg:https://piercegop.org/wp-content/uploads/2024/09/25th-District-Logo-3-1.jpg
ORGANIZER;CN="Pierce County Republican Party":MAILTO:PierceGOP@PierceGOP.org
END:VEVENT
BEGIN:VEVENT
DTSTART;TZID=America/Los_Angeles:20241014T183000
DTEND;TZID=America/Los_Angeles:20241014T200000
DTSTAMP:20260420T104706
CREATED:20240719T173055Z
LAST-MODIFIED:20251105T011528Z
UID:10000188-1728930600-1728936000@piercegop.org
SUMMARY:2nd LD PCO Meeting
DESCRIPTION:6:30 – Social \n7:00 – Meeting
URL:https://piercegop.org/event/2nd-district-pco-meeting/2024-10-14/
LOCATION:Allergies Lifestyle & Health\, 19609 Ellis Ln E\, Spanaway\, 98387\, United States
CATEGORIES:2nd District,PCO Meeting
ATTACH;FMTTYPE=image/jpeg:https://piercegop.org/wp-content/uploads/2024/07/PCO-Meeting.jpg
END:VEVENT
BEGIN:VEVENT
DTSTART;TZID=America/Los_Angeles:20241023T170000
DTEND;TZID=America/Los_Angeles:20241023T210000
DTSTAMP:20260420T104706
CREATED:20241016T032936Z
LAST-MODIFIED:20241018T184440Z
UID:10000716-1729702800-1729717200@piercegop.org
SUMMARY:Candidates October Fest
DESCRIPTION:Meet the Candidates! October Fest with BBQ and Hot Apple Cider and no host bar!
URL:https://piercegop.org/event/candidates-october-fest/
LOCATION:Gig Harbor Yacht Club\, 8209 Stinson Ave\, Gig Harbor\, WA
CATEGORIES:26th District,Fundraiser
ATTACH;FMTTYPE=image/png:https://piercegop.org/wp-content/uploads/2024/10/Untitled-Instagram-Post.png
ORGANIZER;CN="Jim and Marlyn Jensen":MAILTO:marjen44@comcast.net
END:VEVENT
BEGIN:VEVENT
DTSTART;TZID=America/Los_Angeles:20241024T180000
DTEND;TZID=America/Los_Angeles:20241024T193000
DTSTAMP:20260420T104706
CREATED:20240930T211033Z
LAST-MODIFIED:20240930T211034Z
UID:10000587-1729792800-1729798200@piercegop.org
SUMMARY:28th District PCO Meeting
DESCRIPTION:
URL:https://piercegop.org/event/28th-ld-pco-meeting-2/
LOCATION:PCRP Headquarters\, 10209 Bridgeport Way SW Unit C-1\, Lakewood\, WA\, 98499\, United States
CATEGORIES:28th District,PCO Meeting
ATTACH;FMTTYPE=image/jpeg:https://piercegop.org/wp-content/uploads/2024/07/PCO-Meeting.jpg
ORGANIZER;CN="Pierce County Republican Party":MAILTO:PierceGOP@PierceGOP.org
END:VEVENT
BEGIN:VEVENT
DTSTART;TZID=America/Los_Angeles:20241026T083000
DTEND;TZID=America/Los_Angeles:20241026T110000
DTSTAMP:20260420T104706
CREATED:20240719T171955Z
LAST-MODIFIED:20250321T213205Z
UID:10000129-1729931400-1729940400@piercegop.org
SUMMARY:Gig Harbor Republican Club
DESCRIPTION:
URL:https://piercegop.org/event/gig-harbor-republican-club/2024-10-26/
LOCATION:Harbor Place at Cottesmore\, 1016 29th St. NW\, Gig Harbor\, WA\, 98335\, United States
CATEGORIES:26th District,Clubs,Gig Harbor Republican Club
ATTACH;FMTTYPE=image/png:https://piercegop.org/wp-content/uploads/2024/08/Gig-Harbor-Republicans-PCRP.png
ORGANIZER;CN="Gig Harbor Republican Club":MAILTO:gigharborrepublicans@gmail.com
END:VEVENT
BEGIN:VEVENT
DTSTART;TZID=America/Los_Angeles:20241026T173000
DTEND;TZID=America/Los_Angeles:20241026T210000
DTSTAMP:20260420T104706
CREATED:20241007T213204Z
LAST-MODIFIED:20241007T213204Z
UID:10000713-1729963800-1729976400@piercegop.org
SUMMARY:Pierce County Republican Party Dinner and Rally
DESCRIPTION:Dinner with Friends! Special Guests: Gubernatorial Candidate\, Dave Reichert\, County Executive Candidate\, Kelly Chambers\, and Undivided’s Brandi Kruse
URL:https://piercegop.org/event/pierce-county-republican-party-dinner-and-rally/
LOCATION:LeMay Car Museum Collections at Marymount\, 325 152nd St E\, Tacoma\, WA\, 98445
ATTACH;FMTTYPE=image/jpeg:https://piercegop.org/wp-content/uploads/2024/10/636dab87-9fd2-4519-b1b6-f423ee95f3a6.jpeg
ORGANIZER;CN="Pierce County Republican Party":MAILTO:PierceGOP@PierceGOP.org
END:VEVENT
BEGIN:VEVENT
DTSTART;TZID=America/Los_Angeles:20241026T173000
DTEND;TZID=America/Los_Angeles:20241026T210000
DTSTAMP:20260420T104706
CREATED:20241010T020232Z
LAST-MODIFIED:20241022T172251Z
UID:10000715-1729963800-1729976400@piercegop.org
SUMMARY:Dinner and Rally
DESCRIPTION:Bring your Ballot! \n Purchase Tickets Here!
URL:https://piercegop.org/event/dinner-and-rally/
LOCATION:LeMay Car Museum Collections at Marymount\, 325 152nd St E\, Tacoma\, WA\, 98445
CATEGORIES:25th District,26th District,27th District,28th District,29th District,2nd & 29th District Republican Club Social,2nd District,31st District,East Pierce Republican Women Club,Fundraiser,Gig Harbor Republican Club,South Puget Sound Republican Women's Club,South Sound Ronald Regan Republican Club,Virginia Taylor Club
ATTACH;FMTTYPE=image/jpeg:https://piercegop.org/wp-content/uploads/2024/10/fea261e3-f772-418b-a0a4-2acb94b11049.jpg
ORGANIZER;CN="Pierce County Republican Party":MAILTO:PierceGOP@PierceGOP.org
END:VEVENT
BEGIN:VEVENT
DTSTART;TZID=America/Los_Angeles:20241105T190000
DTEND;TZID=America/Los_Angeles:20241105T220000
DTSTAMP:20260420T104706
CREATED:20241009T034354Z
LAST-MODIFIED:20241023T003035Z
UID:10000714-1730833200-1730844000@piercegop.org
SUMMARY:Election Night Watch Party!
DESCRIPTION:This is one of the most important elections in our lifetime! \nThis Election Year is a very transitional year. Democrats have gone TOO FAR and so many are waking up to how much Freedom we really have! \nOur Candidates and Volunteers have worked VERY HARD! Now is the time to join is with all of our friends as the Night unfolds.
URL:https://piercegop.org/event/election-night-watch-party/
LOCATION:Location: Tacoma Country & Golf Club\, Lakewood\, WA\, 13204 Country Club Dr SW\, Lakewood\, 98498\, United States
CATEGORIES:25th District,26th District,27th District,28th District,29th District,2nd District,31st District,East Pierce Republican Women Club,Fundraiser,South Puget Sound Republican Women's Club,South Sound Ronald Regan Republican Club,Training
ATTACH;FMTTYPE=image/jpeg:https://piercegop.org/wp-content/uploads/2024/10/2024electionwatchpartysm.jpg
END:VEVENT
BEGIN:VEVENT
DTSTART;TZID=America/Los_Angeles:20241107T173000
DTEND;TZID=America/Los_Angeles:20241107T203000
DTSTAMP:20260420T104706
CREATED:20240801T022949Z
LAST-MODIFIED:20240827T044646Z
UID:10000316-1731000600-1731011400@piercegop.org
SUMMARY:27th District PCO Meeting
DESCRIPTION:Please Join Us in the Board Room
URL:https://piercegop.org/event/27th-district-pco-meeting-2/2024-11-07/
LOCATION:Poodle Dog Resturant\, 1522 54th Ave. East\, Fife\, WA\, 98424\, United States
CATEGORIES:27th District
ATTACH;FMTTYPE=image/png:https://piercegop.org/wp-content/uploads/2024/07/27th-District.png
END:VEVENT
BEGIN:VEVENT
DTSTART;TZID=America/Los_Angeles:20241107T180000
DTEND;TZID=America/Los_Angeles:20241107T203000
DTSTAMP:20260420T104706
CREATED:20241003T201719Z
LAST-MODIFIED:20250401T234232Z
UID:10000651-1731002400-1731011400@piercegop.org
SUMMARY:25th-2/29th Republican Club
DESCRIPTION:We Meet every 1st Thursday of the month and feature various speakers and events. \nStay informed\, meet other conservatives in a relaxed atmosphere and be a part of the solution. \nThe event is potluck. Bring something if you can. Come no matter what and invite a friend!
URL:https://piercegop.org/event/25th-2-29th-republicans-clubs-monthly-meeting/2024-11-07/
LOCATION:Canyon Terrace Community Center\, 9314 Canyon Rd E\, Puyallup\, Washington\, 98371
CATEGORIES:25th District,2nd & 29th District Republican Club Social
ATTACH;FMTTYPE=image/jpeg:https://piercegop.org/wp-content/uploads/2025/02/25-2-29-Combined-Club-LOGO.jpg
ORGANIZER;CN="Brenda Milewski":MAILTO:brendam531@aol.com
END:VEVENT
BEGIN:VEVENT
DTSTART;TZID=America/Los_Angeles:20241111T183000
DTEND;TZID=America/Los_Angeles:20241111T200000
DTSTAMP:20260420T104706
CREATED:20240719T173055Z
LAST-MODIFIED:20251105T011528Z
UID:10000189-1731349800-1731355200@piercegop.org
SUMMARY:2nd LD PCO Meeting
DESCRIPTION:6:30 – Social \n7:00 – Meeting
URL:https://piercegop.org/event/2nd-district-pco-meeting/2024-11-11/
LOCATION:Allergies Lifestyle & Health\, 19609 Ellis Ln E\, Spanaway\, 98387\, United States
CATEGORIES:2nd District,PCO Meeting
ATTACH;FMTTYPE=image/jpeg:https://piercegop.org/wp-content/uploads/2024/07/PCO-Meeting.jpg
END:VEVENT
BEGIN:VEVENT
DTSTART;TZID=America/Los_Angeles:20241112T183000
DTEND;TZID=America/Los_Angeles:20241112T200000
DTSTAMP:20260420T104706
CREATED:20240720T223450Z
LAST-MODIFIED:20240827T184703Z
UID:10000310-1731436200-1731441600@piercegop.org
SUMMARY:26th District PCO Meeting
DESCRIPTION:
URL:https://piercegop.org/event/26th-district-pco-meeting/2024-11-12/
LOCATION:Harborview Fellowship\, 4819 Hunt Street NW\, Gig Harbor\, 98335\, United States
CATEGORIES:26th District,PCO Meeting
ATTACH;FMTTYPE=image/png:https://piercegop.org/wp-content/uploads/2024/08/Pierce-26th-District-Logo.png
ORGANIZER;CN="Pierce County Republican Party":MAILTO:PierceGOP@PierceGOP.org
END:VEVENT
BEGIN:VEVENT
DTSTART;TZID=America/Los_Angeles:20241113T183000
DTEND;TZID=America/Los_Angeles:20241113T200000
DTSTAMP:20260420T104706
CREATED:20241109T233657Z
LAST-MODIFIED:20241109T234224Z
UID:10000717-1731522600-1731528000@piercegop.org
SUMMARY:25th LD PCO Meeting
DESCRIPTION:Monthly PCO Meeting
URL:https://piercegop.org/event/25th-ld-pco-meeting-3/
LOCATION:Canyon Terrace Community Center\, 9314 Canyon Rd E\, Puyallup\, Washington\, 98371
CATEGORIES:25th District
ATTACH;FMTTYPE=image/jpeg:https://piercegop.org/wp-content/uploads/2024/11/25th-District-Logo-3.jpg
ORGANIZER;CN="Pierce County Republican Party":MAILTO:PierceGOP@PierceGOP.org
END:VEVENT
BEGIN:VEVENT
DTSTART;TZID=America/Los_Angeles:20241121T180000
DTEND;TZID=America/Los_Angeles:20241121T193000
DTSTAMP:20260420T104706
CREATED:20240930T211205Z
LAST-MODIFIED:20240930T211206Z
UID:10000586-1732212000-1732217400@piercegop.org
SUMMARY:28th District PCO Meeting
DESCRIPTION:
URL:https://piercegop.org/event/28th-ld-pco-meeting-3/
LOCATION:PCRP Headquarters\, 10209 Bridgeport Way SW Unit C-1\, Lakewood\, WA\, 98499\, United States
CATEGORIES:28th District,PCO Meeting
ATTACH;FMTTYPE=image/jpeg:https://piercegop.org/wp-content/uploads/2024/07/PCO-Meeting.jpg
ORGANIZER;CN="Pierce County Republican Party":MAILTO:PierceGOP@PierceGOP.org
END:VEVENT
BEGIN:VEVENT
DTSTART;TZID=America/Los_Angeles:20241123T083000
DTEND;TZID=America/Los_Angeles:20241123T110000
DTSTAMP:20260420T104706
CREATED:20240719T171955Z
LAST-MODIFIED:20250321T213205Z
UID:10000130-1732350600-1732359600@piercegop.org
SUMMARY:Gig Harbor Republican Club
DESCRIPTION:
URL:https://piercegop.org/event/gig-harbor-republican-club/2024-11-23/
LOCATION:Harbor Place at Cottesmore\, 1016 29th St. NW\, Gig Harbor\, WA\, 98335\, United States
CATEGORIES:26th District,Clubs,Gig Harbor Republican Club
ATTACH;FMTTYPE=image/png:https://piercegop.org/wp-content/uploads/2024/08/Gig-Harbor-Republicans-PCRP.png
ORGANIZER;CN="Gig Harbor Republican Club":MAILTO:gigharborrepublicans@gmail.com
END:VEVENT
BEGIN:VEVENT
DTSTART;TZID=America/Los_Angeles:20241205T180000
DTEND;TZID=America/Los_Angeles:20241205T203000
DTSTAMP:20260420T104706
CREATED:20241003T201719Z
LAST-MODIFIED:20250401T234232Z
UID:10000654-1733421600-1733430600@piercegop.org
SUMMARY:25th-2/29th Republican Club
DESCRIPTION:We Meet every 1st Thursday of the month and feature various speakers and events. \nStay informed\, meet other conservatives in a relaxed atmosphere and be a part of the solution. \nThe event is potluck. Bring something if you can. Come no matter what and invite a friend!
URL:https://piercegop.org/event/25th-2-29th-republicans-clubs-monthly-meeting/2024-12-05/
LOCATION:Canyon Terrace Community Center\, 9314 Canyon Rd E\, Puyallup\, Washington\, 98371
CATEGORIES:25th District,2nd & 29th District Republican Club Social
ATTACH;FMTTYPE=image/jpeg:https://piercegop.org/wp-content/uploads/2025/02/25-2-29-Combined-Club-LOGO.jpg
ORGANIZER;CN="Brenda Milewski":MAILTO:brendam531@aol.com
END:VEVENT
BEGIN:VEVENT
DTSTART;TZID=America/Los_Angeles:20241207T080000
DTEND;TZID=America/Los_Angeles:20241207T170000
DTSTAMP:20260420T104706
CREATED:20241116T205124Z
LAST-MODIFIED:20241116T205124Z
UID:10000828-1733558400-1733590800@piercegop.org
SUMMARY:PCRP RE-ORG
DESCRIPTION:Election of New Leadership
URL:https://piercegop.org/event/pcrp-re-org/
LOCATION:Experience Church\, 10012 122nd St E\, Puyallup\,\, 98373\, United States
ORGANIZER;CN="Pierce County Republican Party":MAILTO:PierceGOP@PierceGOP.org
END:VEVENT
BEGIN:VEVENT
DTSTART;TZID=America/Los_Angeles:20241209T183000
DTEND;TZID=America/Los_Angeles:20241209T200000
DTSTAMP:20260420T104706
CREATED:20240719T173055Z
LAST-MODIFIED:20251105T011528Z
UID:10000190-1733769000-1733774400@piercegop.org
SUMMARY:2nd LD PCO Meeting
DESCRIPTION:6:30 – Social \n7:00 – Meeting
URL:https://piercegop.org/event/2nd-district-pco-meeting/2024-12-09/
LOCATION:Allergies Lifestyle & Health\, 19609 Ellis Ln E\, Spanaway\, 98387\, United States
CATEGORIES:2nd District,PCO Meeting
ATTACH;FMTTYPE=image/jpeg:https://piercegop.org/wp-content/uploads/2024/07/PCO-Meeting.jpg
END:VEVENT
BEGIN:VEVENT
DTSTART;TZID=America/Los_Angeles:20241212T173000
DTEND;TZID=America/Los_Angeles:20241212T210000
DTSTAMP:20260420T104706
CREATED:20241122T184723Z
LAST-MODIFIED:20241122T184723Z
UID:10000829-1734024600-1734037200@piercegop.org
SUMMARY:December 2024 South Sound Ronald Reagan Republican Club Christmas Party
DESCRIPTION:Come celebrate our Lord Jesus’ birth with good company\, good food\, and a fantastic set of Elvis Christmas songs from local artist Danny Vernon! \nJust put on your ‘blue suede shoes’ and join us for a rockin’ good time! \n5:30PM: Doors open for social hour\n6:30PM: Dinner\n– Tossed Green Salad + Seasonal Fruit\n– Salmon with Alder Smoked Butter\n– Roast Beef with Burgundy Sauce\n– Red Roasted Potatoes\n– Seasonal Vegetables\n– Rolls + Butter\n– Dessert\n7:30PM-9:00PM: Danny Vernon’s Illusion of Elvis program
URL:https://piercegop.org/event/december-2024-south-sound-ronald-reagan-republican-club-christmas-party/
LOCATION:La Quinta\, 1425 E 27th St\, Tacoma\, 98421\, United States
CATEGORIES:South Sound Ronald Regan Republican Club
ATTACH;FMTTYPE=image/jpeg:https://piercegop.org/wp-content/uploads/2024/11/12-24ssrrrcevent.jpg
ORGANIZER;CN="South Sound Ronald Regan Republican Club":MAILTO:SSRRRC@RonaldReaganClub.com
END:VEVENT
BEGIN:VEVENT
DTSTART;TZID=America/Los_Angeles:20241227T183000
DTEND;TZID=America/Los_Angeles:20241227T200000
DTSTAMP:20260420T104706
CREATED:20241224T054550Z
LAST-MODIFIED:20241224T054550Z
UID:10000833-1735324200-1735329600@piercegop.org
SUMMARY:Legislative Training
DESCRIPTION:Legislative training to help YOU be effective in Olympia
URL:https://piercegop.org/event/legislative-training-2/
LOCATION:PCRP Headquarters\, 10209 Bridgeport Way SW Unit C-1\, Lakewood\, WA\, 98499\, United States
CATEGORIES:25th District,26th District,27th District,28th District,29th District,2nd District,31st District,Training
ATTACH;FMTTYPE=image/jpeg:https://piercegop.org/wp-content/uploads/2024/12/2023-Training-Dec-v2-1-scaled.jpg
ORGANIZER;CN="My Family My Choice":MAILTO:MYFamilyMYChoice@yahoo.com
END:VEVENT
BEGIN:VEVENT
DTSTART;TZID=America/Los_Angeles:20241228T083000
DTEND;TZID=America/Los_Angeles:20241228T110000
DTSTAMP:20260420T104706
CREATED:20240719T171955Z
LAST-MODIFIED:20250321T213205Z
UID:10000131-1735374600-1735383600@piercegop.org
SUMMARY:Gig Harbor Republican Club
DESCRIPTION:
URL:https://piercegop.org/event/gig-harbor-republican-club/2024-12-28/
LOCATION:Harbor Place at Cottesmore\, 1016 29th St. NW\, Gig Harbor\, WA\, 98335\, United States
CATEGORIES:26th District,Clubs,Gig Harbor Republican Club
ATTACH;FMTTYPE=image/png:https://piercegop.org/wp-content/uploads/2024/08/Gig-Harbor-Republicans-PCRP.png
ORGANIZER;CN="Gig Harbor Republican Club":MAILTO:gigharborrepublicans@gmail.com
END:VEVENT
BEGIN:VEVENT
DTSTART;TZID=America/Los_Angeles:20250102T180000
DTEND;TZID=America/Los_Angeles:20250102T203000
DTSTAMP:20260420T104706
CREATED:20241003T201719Z
LAST-MODIFIED:20250401T234232Z
UID:10000712-1735840800-1735849800@piercegop.org
SUMMARY:25th-2/29th Republican Club
DESCRIPTION:We Meet every 1st Thursday of the month and feature various speakers and events. \nStay informed\, meet other conservatives in a relaxed atmosphere and be a part of the solution. \nThe event is potluck. Bring something if you can. Come no matter what and invite a friend!
URL:https://piercegop.org/event/25th-2-29th-republicans-clubs-monthly-meeting/2025-01-02/
LOCATION:Canyon Terrace Community Center\, 9314 Canyon Rd E\, Puyallup\, Washington\, 98371
CATEGORIES:25th District,2nd & 29th District Republican Club Social
ATTACH;FMTTYPE=image/jpeg:https://piercegop.org/wp-content/uploads/2025/02/25-2-29-Combined-Club-LOGO.jpg
ORGANIZER;CN="Brenda Milewski":MAILTO:brendam531@aol.com
END:VEVENT
BEGIN:VEVENT
DTSTART;TZID=America/Los_Angeles:20250102T180000
DTEND;TZID=America/Los_Angeles:20250102T203000
DTSTAMP:20260420T104706
CREATED:20241003T203049Z
LAST-MODIFIED:20250401T233350Z
UID:10000655-1735840800-1735849800@piercegop.org
SUMMARY:25th-2/29th Republican Club
DESCRIPTION:We Meet every 1st Thursday of the month and feature various speakers and events. \nStay informed\, meet other conservatives in a relaxed atmosphere and be a part of the solution. \nThe event is potluck. Bring something if you can. Come no matter what and invite a friend!
URL:https://piercegop.org/event/25th-2-29th-republicans-clubs-monthly-meeting-2/
LOCATION:Canyon Terrace Community Center\, 9314 Canyon Rd E\, Puyallup\, Washington\, 98371
CATEGORIES:25th District,25th Republican Club,2nd & 29th District Republican Club Social
ATTACH;FMTTYPE=image/jpeg:https://piercegop.org/wp-content/uploads/2025/02/25-2-29-Combined-Club-LOGO.jpg
ORGANIZER;CN="Pierce County Republican Party":MAILTO:PierceGOP@PierceGOP.org
END:VEVENT
BEGIN:VEVENT
DTSTART;TZID=America/Los_Angeles:20250104T140000
DTEND;TZID=America/Los_Angeles:20250104T160000
DTSTAMP:20260420T104706
CREATED:20241224T053951Z
LAST-MODIFIED:20241224T053951Z
UID:10000832-1735999200-1736006400@piercegop.org
SUMMARY:Roberts Rules of Order
DESCRIPTION:How to be an effective participant in The Pierce County Republican Meetings!
URL:https://piercegop.org/event/roberts-rules-of-order/
LOCATION:PCRP Headquarters\, 10209 Bridgeport Way SW Unit C-1\, Lakewood\, WA\, 98499\, United States
CATEGORIES:25th District,26th District,27th District,28th District,29th District,2nd District,31st District,Informational,Training
ATTACH;FMTTYPE=image/png:https://piercegop.org/wp-content/uploads/2024/12/Roberts-Rules-of-Order-1.png
ORGANIZER;CN="Pierce County Republican Party":MAILTO:PierceGOP@PierceGOP.org
END:VEVENT
BEGIN:VEVENT
DTSTART;TZID=America/Los_Angeles:20250109T183000
DTEND;TZID=America/Los_Angeles:20250109T200000
DTSTAMP:20260420T104706
CREATED:20241208T171329Z
LAST-MODIFIED:20241224T054335Z
UID:10000830-1736447400-1736452800@piercegop.org
SUMMARY:Legislative Training
DESCRIPTION:Legislative training to help YOU be effective in Olympia
URL:https://piercegop.org/event/legislative-training/
LOCATION:Bonney Lake Sr Center\, 19304 Bonney Lake Blvd E\, Bonney Lake\, 98391\, United States
CATEGORIES:25th District,26th District,27th District,28th District,29th District,2nd District,31st District,Training
ATTACH;FMTTYPE=image/jpeg:https://piercegop.org/wp-content/uploads/2024/12/2023-Training-Dec-v2-1-scaled.jpg
ORGANIZER;CN="My Family My Choice":MAILTO:MYFamilyMYChoice@yahoo.com
END:VEVENT
END:VCALENDAR