BEGIN:VCALENDAR
VERSION:2.0
PRODID:-//Pierce County Republican Party - ECPv6.15.20//NONSGML v1.0//EN
CALSCALE:GREGORIAN
METHOD:PUBLISH
X-ORIGINAL-URL:https://piercegop.org
X-WR-CALDESC:Events for Pierce County Republican Party
REFRESH-INTERVAL;VALUE=DURATION:PT1H
X-Robots-Tag:noindex
X-PUBLISHED-TTL:PT1H
BEGIN:VTIMEZONE
TZID:America/Los_Angeles
BEGIN:DAYLIGHT
TZOFFSETFROM:-0800
TZOFFSETTO:-0700
TZNAME:PDT
DTSTART:20240310T100000
END:DAYLIGHT
BEGIN:STANDARD
TZOFFSETFROM:-0700
TZOFFSETTO:-0800
TZNAME:PST
DTSTART:20241103T090000
END:STANDARD
BEGIN:DAYLIGHT
TZOFFSETFROM:-0800
TZOFFSETTO:-0700
TZNAME:PDT
DTSTART:20250309T100000
END:DAYLIGHT
BEGIN:STANDARD
TZOFFSETFROM:-0700
TZOFFSETTO:-0800
TZNAME:PST
DTSTART:20251102T090000
END:STANDARD
BEGIN:DAYLIGHT
TZOFFSETFROM:-0800
TZOFFSETTO:-0700
TZNAME:PDT
DTSTART:20260308T100000
END:DAYLIGHT
BEGIN:STANDARD
TZOFFSETFROM:-0700
TZOFFSETTO:-0800
TZNAME:PST
DTSTART:20261101T090000
END:STANDARD
END:VTIMEZONE
BEGIN:VEVENT
DTSTART;TZID=America/Los_Angeles:20250714T183000
DTEND;TZID=America/Los_Angeles:20250714T200000
DTSTAMP:20260420T184607
CREATED:20240719T173055Z
LAST-MODIFIED:20251105T011528Z
UID:10000197-1752517800-1752523200@piercegop.org
SUMMARY:2nd LD PCO Meeting
DESCRIPTION:6:30 – Social \n7:00 – Meeting
URL:https://piercegop.org/event/2nd-district-pco-meeting/2025-07-14/
LOCATION:Allergies Lifestyle & Health\, 19609 Ellis Ln E\, Spanaway\, 98387\, United States
CATEGORIES:2nd District,PCO Meeting
ATTACH;FMTTYPE=image/jpeg:https://piercegop.org/wp-content/uploads/2024/07/PCO-Meeting.jpg
END:VEVENT
BEGIN:VEVENT
DTSTART;TZID=America/Los_Angeles:20250717T183000
DTEND;TZID=America/Los_Angeles:20250717T200000
DTSTAMP:20260420T184607
CREATED:20250303T164031Z
LAST-MODIFIED:20250321T180653Z
UID:10001029-1752777000-1752782400@piercegop.org
SUMMARY:29th LD PCO Meeting
DESCRIPTION:Join us for our meetings every third Thursday of each month from 6:30PM to 8:00PM at Mazatlan in Lakewood on South Tacoma Way! \nReach out and follow us on FaceBook:\nhttps://www.facebook.com/29thDistrictRepublicansofPierceCounty
URL:https://piercegop.org/event/29th-ld-pco-meeting/2025-07-17/
LOCATION:Mazatlan in Lakewood South Tacoma Way\, 10518 S Tacoma Way\, Lakewood\, 98499\, United States
CATEGORIES:29th District
ATTACH;FMTTYPE=image/png:https://piercegop.org/wp-content/uploads/2025/02/logo.png
END:VEVENT
BEGIN:VEVENT
DTSTART;TZID=America/Los_Angeles:20250717T183000
DTEND;TZID=America/Los_Angeles:20250717T200000
DTSTAMP:20260420T184607
CREATED:20250321T210552Z
LAST-MODIFIED:20250321T210552Z
UID:10001105-1752777000-1752782400@piercegop.org
SUMMARY:28th LD PCO Meeting
DESCRIPTION:Monthly meeting of the 28th Legislative District PCOs.
URL:https://piercegop.org/event/28th-ld-pco-meeting-4/2025-07-17/
LOCATION:PCRP Headquarters\, 10209 Bridgeport Way SW Unit C-1\, Lakewood\, WA\, 98499\, United States
CATEGORIES:28th District,PCO Meeting
ATTACH;FMTTYPE=image/jpeg:https://piercegop.org/wp-content/uploads/2023/02/28thpcomeeting23.jpg
ORGANIZER;CN="28th LD":MAILTO:28thldpiercegop@gmail.com
END:VEVENT
BEGIN:VEVENT
DTSTART;TZID=America/Los_Angeles:20250724T173000
DTEND;TZID=America/Los_Angeles:20250724T203000
DTSTAMP:20260420T184607
CREATED:20250711T231436Z
LAST-MODIFIED:20250711T231436Z
UID:10001224-1753378200-1753389000@piercegop.org
SUMMARY:July 2025 South Sound Ronald Reagan Republican Club Dinner Meeting
DESCRIPTION:Dr. Wen Chen is a Human Rights Activist with a unique perspective on China’s influence on America.\nHere are the topics she will cover at our meeting July 24\, 2025: \n1. U.S. National Security impacted by Chinese software (Tiktok\, Temu … ) and hardware (surveillance camera\, drone\, cargo crane …)\n2. How the CCP (Chinese Communist Party) spread propaganda via U.S. media\, entertainment industry\, and education system\n3. China’s transnational repression via overseas police stations and the CCP agents\, and manipulation of the U.S. election.\n4. Efforts to counteract the CCP infiltration
URL:https://piercegop.org/event/july-2025-south-sound-ronald-reagan-republican-club-dinner-meeting/
LOCATION:La Quinta\, 1425 E 27th St\, Tacoma\, 98421\, United States
CATEGORIES:South Sound Ronald Regan Republican Club
ATTACH;FMTTYPE=image/png:https://piercegop.org/wp-content/uploads/2025/07/julysocialmedia.png
ORGANIZER;CN="South Sound Ronald Regan Republican Club":MAILTO:SSRRRC@RonaldReaganClub.com
END:VEVENT
BEGIN:VEVENT
DTSTART;TZID=America/Los_Angeles:20250726T083000
DTEND;TZID=America/Los_Angeles:20250726T110000
DTSTAMP:20260420T184607
CREATED:20240719T171955Z
LAST-MODIFIED:20250321T213205Z
UID:10000138-1753518600-1753527600@piercegop.org
SUMMARY:Gig Harbor Republican Club
DESCRIPTION:
URL:https://piercegop.org/event/gig-harbor-republican-club/2025-07-26/
LOCATION:Harbor Place at Cottesmore\, 1016 29th St. NW\, Gig Harbor\, WA\, 98335\, United States
CATEGORIES:26th District,Clubs,Gig Harbor Republican Club
ATTACH;FMTTYPE=image/png:https://piercegop.org/wp-content/uploads/2024/08/Gig-Harbor-Republicans-PCRP.png
ORGANIZER;CN="Gig Harbor Republican Club":MAILTO:gigharborrepublicans@gmail.com
END:VEVENT
BEGIN:VEVENT
DTSTART;TZID=America/Los_Angeles:20250728T183000
DTEND;TZID=America/Los_Angeles:20250728T200000
DTSTAMP:20260420T184607
CREATED:20250711T231318Z
LAST-MODIFIED:20250711T231318Z
UID:10001223-1753727400-1753732800@piercegop.org
SUMMARY:Virginia Taylor 27th LD Club Meeting
DESCRIPTION:Our featured speaker is Tim Eyman\, Washington’s most targeted conservative — relentlessly pursued by Bob Ferguson for over a decade. Tim is the driving force behind initiatives like $30 car tabs\, the 1% cap on property tax increases\, and numerous others that have saved Washington taxpayers over $70.5 BILLION so far. Come hear what Tim is working on next as he continues fighting for taxpayers\, protecting parents rights\, and fiscal sanity in our state.
URL:https://piercegop.org/event/virginia-taylor-27th-ld-club-meeting/
LOCATION:University of Puget Sound; Wyatt Hall Rm 101\, 1500 N Warner St\, Tacoma\, WA\, 98416
CATEGORIES:Virginia Taylor Club
END:VEVENT
BEGIN:VEVENT
DTSTART;TZID=America/Los_Angeles:20250728T183000
DTEND;TZID=America/Los_Angeles:20250728T210000
DTSTAMP:20260420T184607
CREATED:20250403T041729Z
LAST-MODIFIED:20250403T042220Z
UID:10001133-1753727400-1753736400@piercegop.org
SUMMARY:Virginia Taylor 27th LD Club
DESCRIPTION:The Virginia Taylor 27th LD Republican Club is a social gathering of community members for information and collaboration\, \nWe meet at the University of Puget Sound in Wyatt Hall\, Room 101. Park in lot P4 located on Union Avenue and N 14th St
URL:https://piercegop.org/event/virginia-taylor-27th-ld-club/2025-07-28/
LOCATION:University of Puget Sound; Wyatt Hall Rm 101\, 1500 N Warner St\, Tacoma\, WA\, 98416
CATEGORIES:27th District,PCO Meeting,Virginia Taylor Club
ATTACH;FMTTYPE=image/png:https://piercegop.org/wp-content/uploads/2024/08/Virginia-Taylor-Club-PCRP.png
ORGANIZER;CN="Pierce County Republican Party":MAILTO:PierceGOP@PierceGOP.org
END:VEVENT
BEGIN:VEVENT
DTSTART;TZID=America/Los_Angeles:20250804T120000
DTEND;TZID=America/Los_Angeles:20250804T133000
DTSTAMP:20260420T184607
CREATED:20250321T205054Z
LAST-MODIFIED:20250321T214455Z
UID:10001096-1754308800-1754314200@piercegop.org
SUMMARY:East Pierce Republican Women's Club
DESCRIPTION:Monthly meeting of the East Pierce Republican Women
URL:https://piercegop.org/event/east-pierce-republican-women-meeting/2025-08-04/
LOCATION:The Ram\, 103 35th Ave SE\, Puyallup\, 98374
CATEGORIES:East Pierce Republican Women Club
ATTACH;FMTTYPE=image/jpeg:https://piercegop.org/wp-content/uploads/2024/08/EPRWC-Logo.jpg
ORGANIZER;CN="Colleen Wise":MAILTO:eprwc2016@gmail.com
END:VEVENT
BEGIN:VEVENT
DTSTART;TZID=America/Los_Angeles:20250807T173000
DTEND;TZID=America/Los_Angeles:20250807T203000
DTSTAMP:20260420T184607
CREATED:20250612T040520Z
LAST-MODIFIED:20250612T040521Z
UID:10001206-1754587800-1754598600@piercegop.org
SUMMARY:27th LD PCO Meeting
DESCRIPTION:What: This is the monthly business meeting for the Republican 27th Legislative District Committee. \nOpen to: PCOs\, PCs and currently active Volunteers \nGuests: This is a closed business meeting. PCOs wishing to bring a guest should advise them that they may be asked to step out if the meeting enters executive session. If you are not yet connected with the party and wish to join us\, please send an email to the organizer address for this event.
URL:https://piercegop.org/event/27th-district-monthly-pco-meeting-2/2025-08-07/
LOCATION:Poodle Dog Resturant\, 1522 54th Ave. East\, Fife\, WA\, 98424\, United States
CATEGORIES:27th District
ATTACH;FMTTYPE=image/png:https://piercegop.org/wp-content/uploads/2024/07/27th-District.png
ORGANIZER;CN="27th Legislative District Republicans":MAILTO:27thdistrict@piercegop.com
END:VEVENT
BEGIN:VEVENT
DTSTART;TZID=America/Los_Angeles:20250807T180000
DTEND;TZID=America/Los_Angeles:20250807T203000
DTSTAMP:20260420T184607
CREATED:20241003T201719Z
LAST-MODIFIED:20250401T234232Z
UID:10000662-1754589600-1754598600@piercegop.org
SUMMARY:25th-2/29th Republican Club
DESCRIPTION:We Meet every 1st Thursday of the month and feature various speakers and events. \nStay informed\, meet other conservatives in a relaxed atmosphere and be a part of the solution. \nThe event is potluck. Bring something if you can. Come no matter what and invite a friend!
URL:https://piercegop.org/event/25th-2-29th-republicans-clubs-monthly-meeting/2025-08-07/
LOCATION:Canyon Terrace Community Center\, 9314 Canyon Rd E\, Puyallup\, Washington\, 98371
CATEGORIES:25th District,2nd & 29th District Republican Club Social
ATTACH;FMTTYPE=image/jpeg:https://piercegop.org/wp-content/uploads/2025/02/25-2-29-Combined-Club-LOGO.jpg
ORGANIZER;CN="Brenda Milewski":MAILTO:brendam531@aol.com
END:VEVENT
BEGIN:VEVENT
DTSTART;TZID=America/Los_Angeles:20250811T183000
DTEND;TZID=America/Los_Angeles:20250811T200000
DTSTAMP:20260420T184607
CREATED:20240719T173055Z
LAST-MODIFIED:20251105T011528Z
UID:10000198-1754937000-1754942400@piercegop.org
SUMMARY:2nd LD PCO Meeting
DESCRIPTION:6:30 – Social \n7:00 – Meeting
URL:https://piercegop.org/event/2nd-district-pco-meeting/2025-08-11/
LOCATION:Allergies Lifestyle & Health\, 19609 Ellis Ln E\, Spanaway\, 98387\, United States
CATEGORIES:2nd District,PCO Meeting
ATTACH;FMTTYPE=image/jpeg:https://piercegop.org/wp-content/uploads/2024/07/PCO-Meeting.jpg
END:VEVENT
BEGIN:VEVENT
DTSTART;TZID=America/Los_Angeles:20250813T173000
DTEND;TZID=America/Los_Angeles:20250813T200000
DTSTAMP:20260420T184607
CREATED:20250719T002802Z
LAST-MODIFIED:20250719T002802Z
UID:10001230-1755106200-1755115200@piercegop.org
SUMMARY:Meet & Support Terry Wise
DESCRIPTION:The 25th LD will be hosting a Meet & Support Terry Wise event at Mark The Pond Guy’s Pad. We believe Terry must win the County Council District 5 position. At this event\, you will get to know Terry and learn how YOU can make a difference for ALL of Pierce County.
URL:https://piercegop.org/event/meet-support-terry-wise/
ATTACH;FMTTYPE=image/png:https://piercegop.org/wp-content/uploads/2025/07/Flyer-Terry-Wise-Meet-n-Greet-at-Mark-The-Pond-Guy-scaled.png
END:VEVENT
BEGIN:VEVENT
DTSTART;TZID=America/Los_Angeles:20250813T180000
DTEND;TZID=America/Los_Angeles:20250813T203000
DTSTAMP:20260420T184607
CREATED:20250811T040247Z
LAST-MODIFIED:20250811T040247Z
UID:10001236-1755108000-1755117000@piercegop.org
SUMMARY:Sheriff Keith Swank
DESCRIPTION:Staying safe in Washington State can be challenging due to laws passed in the Legislature that seem to reward criminal activity. Learn about what is happening in our community so we can be prepared\, alert\, stay safe and avoid being a victim. Come and hear from Sheriff Keith Swank about what is happening in our county. \nDetails:\nDate: August 13\, 2025\nTime: 6:00 PM Registration\n6:30 PM Program Begins\nDonation at the door. \nLocation: Tacoma Sportsmen’s Club\n16409 Canyon Rd E\, Puyallup\, WA 98375 (Behind Amazon Warehouse) \nRSVP is Required to attend. Register here: \nhttps://www.eventbrite.com/e/safety-preparedness-in-challenging-times-tickets-1462506088079
URL:https://piercegop.org/event/sheriff-keith-swank/
LOCATION:Tacoma Sportsmen’s Club\, 16409 Canyon Rd E\, Puyallup\, 98373\, United States
ATTACH;FMTTYPE=image/jpeg:https://piercegop.org/wp-content/uploads/2025/08/page01-scaled.jpg
ORGANIZER;CN="Pierce County Republican Party":MAILTO:PierceGOP@PierceGOP.org
END:VEVENT
BEGIN:VEVENT
DTSTART;TZID=America/Los_Angeles:20250813T183000
DTEND;TZID=America/Los_Angeles:20250813T200000
DTSTAMP:20260420T184607
CREATED:20250303T164352Z
LAST-MODIFIED:20250715T232352Z
UID:10001007-1755109800-1755115200@piercegop.org
SUMMARY:25th LD PCO Meeting
DESCRIPTION:Monthly 25th LDRC PCO Meeting
URL:https://piercegop.org/event/25th-pco-meeting/2025-08-13/
LOCATION:Canyon Terrace Community Center\, 9314 Canyon Rd E\, Puyallup\, Washington\, 98371
CATEGORIES:25th District
ATTACH;FMTTYPE=image/jpeg:https://piercegop.org/wp-content/uploads/2024/11/25th-District-Logo-3-1.jpg
END:VEVENT
BEGIN:VEVENT
DTSTART;TZID=America/Los_Angeles:20250814T170000
DTEND;TZID=America/Los_Angeles:20250814T193000
DTSTAMP:20260420T184607
CREATED:20250722T204806Z
LAST-MODIFIED:20250722T204806Z
UID:10001231-1755190800-1755199800@piercegop.org
SUMMARY:Military Readiness through Resilience
DESCRIPTION:The South Puget Sound Republican Women ‘s August Program will be very informative . We invite everyone to join us on Thursday\, August 14 at the TC&GC from 5 to 7:30pm. \nOur Military and Community is absolutely an important partnership\, which focuses on military lives in our neighborhoods and our communities. \nThis is a great opportunity to hear from our speaker Maria Tobin\, Program Director for the South Sound Military and Communities\, to learn more about this partnership. \nhttps://secure.anedot.com/south-puget-sound-republican-women/spsrw-augustevent
URL:https://piercegop.org/event/military-readiness-through-resilience/
LOCATION:Location: Tacoma Country & Golf Club\, Lakewood\, WA\, 13204 Country Club Dr SW\, Lakewood\, 98498\, United States
CATEGORIES:South Puget Sound Republican Women's Club
END:VEVENT
BEGIN:VEVENT
DTSTART;TZID=America/Los_Angeles:20250814T183000
DTEND;TZID=America/Los_Angeles:20250814T200000
DTSTAMP:20260420T184607
CREATED:20250804T195641Z
LAST-MODIFIED:20250804T195641Z
UID:10001233-1755196200-1755201600@piercegop.org
SUMMARY:31st LD Republican Meeting
DESCRIPTION:Monthly
URL:https://piercegop.org/event/31st-ld-republican-meeting-2/2025-08-14/
LOCATION:Bonney Lake Sr Center\, 19304 Bonney Lake Blvd E\, Bonney Lake\, 98391\, United States
CATEGORIES:31st District
ORGANIZER;CN="31st LD Republicans":MAILTO:dbryantfamily8@gmail.com
END:VEVENT
BEGIN:VEVENT
DTSTART;TZID=America/Los_Angeles:20250816T140000
DTEND;TZID=America/Los_Angeles:20250816T170000
DTSTAMP:20260420T184607
CREATED:20250612T035906Z
LAST-MODIFIED:20250804T200036Z
UID:10001204-1755352800-1755363600@piercegop.org
SUMMARY:August Annual Picnic 2025 South Sound Ronald Reagan Republican Club
DESCRIPTION:Come join us for our Annual Picnic! \nLet us come together to socialize\, play games\, eat delicious food from Gallucci’s and get to know candidates running in this year’s local and statewide election races.\nThis is your opportunity to ask them your questions before you cast your vote. \nClick “Get Tickets” to RSVP and pay online: \nFREE for Members\n$30 for Non-Members
URL:https://piercegop.org/event/august-annual-picnic-2025-south-sound-ronald-reagan-republican-club/
LOCATION:Campion Farm\, 2415 276th St E\, Spanaway\, United States
CATEGORIES:South Sound Ronald Regan Republican Club
ATTACH;FMTTYPE=image/jpeg:https://piercegop.org/wp-content/uploads/2025/06/2025-ssrrrc-picnic-1080socialmedia.jpg
ORGANIZER;CN="South Sound Ronald Regan Republican Club":MAILTO:SSRRRC@RonaldReaganClub.com
END:VEVENT
BEGIN:VEVENT
DTSTART;TZID=America/Los_Angeles:20250817T130000
DTEND;TZID=America/Los_Angeles:20250817T170000
DTSTAMP:20260420T184607
CREATED:20250816T020237Z
LAST-MODIFIED:20250816T020308Z
UID:10001238-1755435600-1755450000@piercegop.org
SUMMARY:Pierce County Republican Party BBQ Bash
DESCRIPTION:Join us for the PCRP Summer BBQ Bash! 🎉\nGrilled Burgers\, shaved ice\, dunk tank\, jail your friends\, raffle prizes\, kids’ games\, apple pie contest\, beer garden & car show — all in one afternoon of family fun!\n📅 Sunday\, Aug 17 | 1–5 PM\n📍 6715 176th St\, Puyallup \nClick the link below to buy your tickets! \nhttps://secure.anedot.com/pierce-county-republican-party/45ae7d71-75e9-46ba-a807-c347366871cb \n 
URL:https://piercegop.org/event/pierce-county-republican-party-bbq-bash/
LOCATION:Lil’ Patriot’s Academy\, 6715 176th street E\, Puyallup\, WA\, 98375\, United States
ATTACH;FMTTYPE=image/png:https://piercegop.org/wp-content/uploads/2025/08/Saturday-August-16th-11-3-PM-4-x-4-in-5-x-5-in-5-x-5-in-5-x-5-in-5-x-5-in-5-x-5-in.png
ORGANIZER;CN="Pierce County Republican Party":MAILTO:PierceGOP@PierceGOP.org
END:VEVENT
BEGIN:VEVENT
DTSTART;TZID=America/Los_Angeles:20250821T183000
DTEND;TZID=America/Los_Angeles:20250821T200000
DTSTAMP:20260420T184607
CREATED:20250303T164031Z
LAST-MODIFIED:20250321T180653Z
UID:10001030-1755801000-1755806400@piercegop.org
SUMMARY:29th LD PCO Meeting
DESCRIPTION:Join us for our meetings every third Thursday of each month from 6:30PM to 8:00PM at Mazatlan in Lakewood on South Tacoma Way! \nReach out and follow us on FaceBook:\nhttps://www.facebook.com/29thDistrictRepublicansofPierceCounty
URL:https://piercegop.org/event/29th-ld-pco-meeting/2025-08-21/
LOCATION:Mazatlan in Lakewood South Tacoma Way\, 10518 S Tacoma Way\, Lakewood\, 98499\, United States
CATEGORIES:29th District
ATTACH;FMTTYPE=image/png:https://piercegop.org/wp-content/uploads/2025/02/logo.png
END:VEVENT
BEGIN:VEVENT
DTSTART;TZID=America/Los_Angeles:20250821T183000
DTEND;TZID=America/Los_Angeles:20250821T200000
DTSTAMP:20260420T184607
CREATED:20250816T015817Z
LAST-MODIFIED:20250816T015937Z
UID:10001106-1755801000-1755806400@piercegop.org
SUMMARY:CANCELLED 28th LD PCO Meeting
DESCRIPTION:Due to many events in August\, PCRP BBQ/Picnic\, SSRRRC Picnic\, we are cancelling our August PCO meeting scheduled for 21 August at 6:30 pm – 8:30 pm at the PCRP HQ. Our normal PCO Meetings will pick-up on the 3rd Thursday of the month beginning 18 Sep at 6:30pm.
URL:https://piercegop.org/event/28th-ld-pco-meeting-5/
LOCATION:PCRP Headquarters\, 10209 Bridgeport Way SW Unit C-1\, Lakewood\, WA\, 98499\, United States
CATEGORIES:28th District,PCO Meeting
ATTACH;FMTTYPE=image/jpeg:https://piercegop.org/wp-content/uploads/2023/02/28thpcomeeting23.jpg
ORGANIZER;CN="28th LD":MAILTO:28thldpiercegop@gmail.com
END:VEVENT
BEGIN:VEVENT
DTSTART;TZID=America/Los_Angeles:20250823T083000
DTEND;TZID=America/Los_Angeles:20250823T110000
DTSTAMP:20260420T184607
CREATED:20240719T171955Z
LAST-MODIFIED:20250321T213205Z
UID:10000139-1755937800-1755946800@piercegop.org
SUMMARY:Gig Harbor Republican Club
DESCRIPTION:
URL:https://piercegop.org/event/gig-harbor-republican-club/2025-08-23/
LOCATION:Harbor Place at Cottesmore\, 1016 29th St. NW\, Gig Harbor\, WA\, 98335\, United States
CATEGORIES:26th District,Clubs,Gig Harbor Republican Club
ATTACH;FMTTYPE=image/png:https://piercegop.org/wp-content/uploads/2024/08/Gig-Harbor-Republicans-PCRP.png
ORGANIZER;CN="Gig Harbor Republican Club":MAILTO:gigharborrepublicans@gmail.com
END:VEVENT
BEGIN:VEVENT
DTSTART;TZID=America/Los_Angeles:20250825T180000
DTEND;TZID=America/Los_Angeles:20250825T203000
DTSTAMP:20260420T184607
CREATED:20250907T221010Z
LAST-MODIFIED:20250907T221010Z
UID:10001240-1756144800-1756153800@piercegop.org
SUMMARY:Virginia Taylor Republican Club
DESCRIPTION:Click to prepay.
URL:https://piercegop.org/event/virginia-taylor-republican-club/
LOCATION:University of Puget Sound; Wyatt Hall Rm 101\, 1500 N Warner St\, Tacoma\, WA\, 98416
CATEGORIES:Virginia Taylor Club
END:VEVENT
BEGIN:VEVENT
DTSTART;TZID=America/Los_Angeles:20250825T180000
DTEND;TZID=America/Los_Angeles:20250825T210000
DTSTAMP:20260420T184607
CREATED:20250819T232314Z
LAST-MODIFIED:20250820T003213Z
UID:10001239-1756144800-1756155600@piercegop.org
SUMMARY:Virginia Taylor 27th District Republican Club Meeting
DESCRIPTION:✨ You’re invited! ✨\nWant to know why school board races matter for our kids\, families & community? Sarah Garriott\, Moms For Liberty Pierce county Chapter Chair\, will share insights on why these local races matter more than ever. What’s at stake in Pierce County\, and how can citizens get involved to ensure our schools reflect the values and needs of the people they serve? \n📅 Mon\, Aug 25  doors open at 6 PM\n📍 Wyatt Hall 101 – University of Puget Sound\n1500 N Warner Street\n🎟 $15 ($10 members) \nPrepay at this link: \nhttps://secure.anedot.com/twenty-seventh-district-republican-club/911c4dcf-bc15-4bd9-b39a-d2d330024dcd
URL:https://piercegop.org/event/virginia-taylor-27th-district-republican-club-meeting/
LOCATION:University of Puget Sound; Wyatt Hall Rm 101\, 1500 N Warner St\, Tacoma\, WA\, 98416
CATEGORIES:Virginia Taylor Club
ATTACH;FMTTYPE=image/png:https://piercegop.org/wp-content/uploads/2025/08/BDC1AB0D-41A4-4DAF-B862-A7834F3CE907.png
END:VEVENT
BEGIN:VEVENT
DTSTART;TZID=America/Los_Angeles:20250904T173000
DTEND;TZID=America/Los_Angeles:20250904T203000
DTSTAMP:20260420T184607
CREATED:20250612T040520Z
LAST-MODIFIED:20250612T040521Z
UID:10001207-1757007000-1757017800@piercegop.org
SUMMARY:27th LD PCO Meeting
DESCRIPTION:What: This is the monthly business meeting for the Republican 27th Legislative District Committee. \nOpen to: PCOs\, PCs and currently active Volunteers \nGuests: This is a closed business meeting. PCOs wishing to bring a guest should advise them that they may be asked to step out if the meeting enters executive session. If you are not yet connected with the party and wish to join us\, please send an email to the organizer address for this event.
URL:https://piercegop.org/event/27th-district-monthly-pco-meeting-2/2025-09-04/
LOCATION:Poodle Dog Resturant\, 1522 54th Ave. East\, Fife\, WA\, 98424\, United States
CATEGORIES:27th District
ATTACH;FMTTYPE=image/png:https://piercegop.org/wp-content/uploads/2024/07/27th-District.png
ORGANIZER;CN="27th Legislative District Republicans":MAILTO:27thdistrict@piercegop.com
END:VEVENT
BEGIN:VEVENT
DTSTART;TZID=America/Los_Angeles:20250904T180000
DTEND;TZID=America/Los_Angeles:20250904T203000
DTSTAMP:20260420T184607
CREATED:20241003T201719Z
LAST-MODIFIED:20250401T234232Z
UID:10000663-1757008800-1757017800@piercegop.org
SUMMARY:25th-2/29th Republican Club
DESCRIPTION:We Meet every 1st Thursday of the month and feature various speakers and events. \nStay informed\, meet other conservatives in a relaxed atmosphere and be a part of the solution. \nThe event is potluck. Bring something if you can. Come no matter what and invite a friend!
URL:https://piercegop.org/event/25th-2-29th-republicans-clubs-monthly-meeting/2025-09-04/
LOCATION:Canyon Terrace Community Center\, 9314 Canyon Rd E\, Puyallup\, Washington\, 98371
CATEGORIES:25th District,2nd & 29th District Republican Club Social
ATTACH;FMTTYPE=image/jpeg:https://piercegop.org/wp-content/uploads/2025/02/25-2-29-Combined-Club-LOGO.jpg
ORGANIZER;CN="Brenda Milewski":MAILTO:brendam531@aol.com
END:VEVENT
BEGIN:VEVENT
DTSTART;TZID=America/Los_Angeles:20250908T120000
DTEND;TZID=America/Los_Angeles:20250908T120000
DTSTAMP:20260420T184607
CREATED:20250724T023430Z
LAST-MODIFIED:20250907T222004Z
UID:10001232-1757332800-1757332800@piercegop.org
SUMMARY:EPRWC September meeting
DESCRIPTION:NOTE DATE CHANGE: Our featured speakers will be Representative Cyndy Jacobsen\, candidates Sharon Hanek for Charter Review and Tim Payne for Port Commissioner.\nWe will have our fun USO Raffle and our great Item for Auction. \nCheck out our website at www.eprwc.org
URL:https://piercegop.org/event/eprwc-september-meeting/
LOCATION:The Ram\, 103 35th Ave SE\, Puyallup\, 98374
ATTACH;FMTTYPE=image/png:https://piercegop.org/wp-content/uploads/2024/08/East-Pierce-RWC-PCRP.png
ORGANIZER;CN="Pierce County Republican Party":MAILTO:PierceGOP@PierceGOP.org
END:VEVENT
BEGIN:VEVENT
DTSTART;TZID=America/Los_Angeles:20250908T183000
DTEND;TZID=America/Los_Angeles:20250908T200000
DTSTAMP:20260420T184607
CREATED:20240719T173055Z
LAST-MODIFIED:20251105T011528Z
UID:10000199-1757356200-1757361600@piercegop.org
SUMMARY:2nd LD PCO Meeting
DESCRIPTION:6:30 – Social \n7:00 – Meeting
URL:https://piercegop.org/event/2nd-district-pco-meeting/2025-09-08/
LOCATION:Allergies Lifestyle & Health\, 19609 Ellis Ln E\, Spanaway\, 98387\, United States
CATEGORIES:2nd District,PCO Meeting
ATTACH;FMTTYPE=image/jpeg:https://piercegop.org/wp-content/uploads/2024/07/PCO-Meeting.jpg
END:VEVENT
BEGIN:VEVENT
DTSTART;TZID=America/Los_Angeles:20250910T183000
DTEND;TZID=America/Los_Angeles:20250910T200000
DTSTAMP:20260420T184607
CREATED:20250303T164352Z
LAST-MODIFIED:20250715T232352Z
UID:10001008-1757529000-1757534400@piercegop.org
SUMMARY:25th LD PCO Meeting
DESCRIPTION:Monthly 25th LDRC PCO Meeting
URL:https://piercegop.org/event/25th-pco-meeting/2025-09-10/
LOCATION:Canyon Terrace Community Center\, 9314 Canyon Rd E\, Puyallup\, Washington\, 98371
CATEGORIES:25th District
ATTACH;FMTTYPE=image/jpeg:https://piercegop.org/wp-content/uploads/2024/11/25th-District-Logo-3-1.jpg
END:VEVENT
BEGIN:VEVENT
DTSTART;TZID=America/Los_Angeles:20250911T183000
DTEND;TZID=America/Los_Angeles:20250911T200000
DTSTAMP:20260420T184607
CREATED:20250804T195641Z
LAST-MODIFIED:20250804T195641Z
UID:10001234-1757615400-1757620800@piercegop.org
SUMMARY:31st LD Republican Meeting
DESCRIPTION:Monthly
URL:https://piercegop.org/event/31st-ld-republican-meeting-2/2025-09-11/
LOCATION:Bonney Lake Sr Center\, 19304 Bonney Lake Blvd E\, Bonney Lake\, 98391\, United States
CATEGORIES:31st District
ORGANIZER;CN="31st LD Republicans":MAILTO:dbryantfamily8@gmail.com
END:VEVENT
BEGIN:VEVENT
DTSTART;TZID=America/Los_Angeles:20250917T183000
DTEND;TZID=America/Los_Angeles:20250917T200000
DTSTAMP:20260420T184607
CREATED:20250925T213343Z
LAST-MODIFIED:20250925T213732Z
UID:10001307-1758133800-1758139200@piercegop.org
SUMMARY:29th LD PCO Meeting
DESCRIPTION:Join us for our meetings every third Wednesday of each month from 6:30PM to 8:00PM at Mazatlan in Lakewood on South Tacoma Way! \nContact us at 29thPCLD@gmail.com \nReach out and follow us on FaceBook:\nhttps://www.facebook.com/29thDistrictRepublicansofPierceCounty
URL:https://piercegop.org/event/29th-ld-pco-meeting-2/2025-09-17/
LOCATION:Mazatlan in Lakewood South Tacoma Way\, 10518 S Tacoma Way\, Lakewood\, 98499\, United States
CATEGORIES:29th District
ATTACH;FMTTYPE=image/png:https://piercegop.org/wp-content/uploads/2025/02/logo.png
END:VEVENT
END:VCALENDAR