BEGIN:VCALENDAR
VERSION:2.0
PRODID:-//Pierce County Republican Party - ECPv6.15.20//NONSGML v1.0//EN
CALSCALE:GREGORIAN
METHOD:PUBLISH
X-WR-CALNAME:Pierce County Republican Party
X-ORIGINAL-URL:https://piercegop.org
X-WR-CALDESC:Events for Pierce County Republican Party
REFRESH-INTERVAL;VALUE=DURATION:PT1H
X-Robots-Tag:noindex
X-PUBLISHED-TTL:PT1H
BEGIN:VTIMEZONE
TZID:America/Los_Angeles
BEGIN:DAYLIGHT
TZOFFSETFROM:-0800
TZOFFSETTO:-0700
TZNAME:PDT
DTSTART:20250309T100000
END:DAYLIGHT
BEGIN:STANDARD
TZOFFSETFROM:-0700
TZOFFSETTO:-0800
TZNAME:PST
DTSTART:20251102T090000
END:STANDARD
BEGIN:DAYLIGHT
TZOFFSETFROM:-0800
TZOFFSETTO:-0700
TZNAME:PDT
DTSTART:20260308T100000
END:DAYLIGHT
BEGIN:STANDARD
TZOFFSETFROM:-0700
TZOFFSETTO:-0800
TZNAME:PST
DTSTART:20261101T090000
END:STANDARD
BEGIN:DAYLIGHT
TZOFFSETFROM:-0800
TZOFFSETTO:-0700
TZNAME:PDT
DTSTART:20270314T100000
END:DAYLIGHT
BEGIN:STANDARD
TZOFFSETFROM:-0700
TZOFFSETTO:-0800
TZNAME:PST
DTSTART:20271107T090000
END:STANDARD
END:VTIMEZONE
BEGIN:VEVENT
DTSTART;TZID=America/Los_Angeles:20260507T170000
DTEND;TZID=America/Los_Angeles:20260507T201500
DTSTAMP:20260420T032607
CREATED:20260128T004942Z
LAST-MODIFIED:20260128T004943Z
UID:10001322-1778173200-1778184900@piercegop.org
SUMMARY:27th LD PCO Meeting
DESCRIPTION:What: This is the monthly business meeting for the Republican 27th Legislative District Committee. \nOpen to: PCOs\, PCs and currently active Volunteers \nGuests: This is a closed business meeting. PCOs wishing to bring a guest should advise them that they may be asked to step out if the meeting enters executive session. If you are not yet connected with the party and wish to join us\, please send an email to the organizer address for this event.
URL:https://piercegop.org/event/27th-district-monthly-pco-meeting-2-2/2026-05-07/
LOCATION:Poodle Dog Resturant\, 1522 54th Ave. East\, Fife\, WA\, 98424\, United States
CATEGORIES:27th District
ATTACH;FMTTYPE=image/png:https://piercegop.org/wp-content/uploads/2024/07/27th-District.png
ORGANIZER;CN="27th Legislative District Republicans":MAILTO:27thdistrict@piercegop.com
END:VEVENT
BEGIN:VEVENT
DTSTART;TZID=America/Los_Angeles:20260604T170000
DTEND;TZID=America/Los_Angeles:20260604T201500
DTSTAMP:20260420T032607
CREATED:20260128T004942Z
LAST-MODIFIED:20260128T004943Z
UID:10001323-1780592400-1780604100@piercegop.org
SUMMARY:27th LD PCO Meeting
DESCRIPTION:What: This is the monthly business meeting for the Republican 27th Legislative District Committee. \nOpen to: PCOs\, PCs and currently active Volunteers \nGuests: This is a closed business meeting. PCOs wishing to bring a guest should advise them that they may be asked to step out if the meeting enters executive session. If you are not yet connected with the party and wish to join us\, please send an email to the organizer address for this event.
URL:https://piercegop.org/event/27th-district-monthly-pco-meeting-2-2/2026-06-04/
LOCATION:Poodle Dog Resturant\, 1522 54th Ave. East\, Fife\, WA\, 98424\, United States
CATEGORIES:27th District
ATTACH;FMTTYPE=image/png:https://piercegop.org/wp-content/uploads/2024/07/27th-District.png
ORGANIZER;CN="27th Legislative District Republicans":MAILTO:27thdistrict@piercegop.com
END:VEVENT
BEGIN:VEVENT
DTSTART;TZID=America/Los_Angeles:20260702T170000
DTEND;TZID=America/Los_Angeles:20260702T201500
DTSTAMP:20260420T032607
CREATED:20260128T004942Z
LAST-MODIFIED:20260128T004943Z
UID:10001324-1783011600-1783023300@piercegop.org
SUMMARY:27th LD PCO Meeting
DESCRIPTION:What: This is the monthly business meeting for the Republican 27th Legislative District Committee. \nOpen to: PCOs\, PCs and currently active Volunteers \nGuests: This is a closed business meeting. PCOs wishing to bring a guest should advise them that they may be asked to step out if the meeting enters executive session. If you are not yet connected with the party and wish to join us\, please send an email to the organizer address for this event.
URL:https://piercegop.org/event/27th-district-monthly-pco-meeting-2-2/2026-07-02/
LOCATION:Poodle Dog Resturant\, 1522 54th Ave. East\, Fife\, WA\, 98424\, United States
CATEGORIES:27th District
ATTACH;FMTTYPE=image/png:https://piercegop.org/wp-content/uploads/2024/07/27th-District.png
ORGANIZER;CN="27th Legislative District Republicans":MAILTO:27thdistrict@piercegop.com
END:VEVENT
BEGIN:VEVENT
DTSTART;TZID=America/Los_Angeles:20260806T170000
DTEND;TZID=America/Los_Angeles:20260806T201500
DTSTAMP:20260420T032607
CREATED:20260128T004942Z
LAST-MODIFIED:20260128T004943Z
UID:10001325-1786035600-1786047300@piercegop.org
SUMMARY:27th LD PCO Meeting
DESCRIPTION:What: This is the monthly business meeting for the Republican 27th Legislative District Committee. \nOpen to: PCOs\, PCs and currently active Volunteers \nGuests: This is a closed business meeting. PCOs wishing to bring a guest should advise them that they may be asked to step out if the meeting enters executive session. If you are not yet connected with the party and wish to join us\, please send an email to the organizer address for this event.
URL:https://piercegop.org/event/27th-district-monthly-pco-meeting-2-2/2026-08-06/
LOCATION:Poodle Dog Resturant\, 1522 54th Ave. East\, Fife\, WA\, 98424\, United States
CATEGORIES:27th District
ATTACH;FMTTYPE=image/png:https://piercegop.org/wp-content/uploads/2024/07/27th-District.png
ORGANIZER;CN="27th Legislative District Republicans":MAILTO:27thdistrict@piercegop.com
END:VEVENT
BEGIN:VEVENT
DTSTART;TZID=America/Los_Angeles:20260903T170000
DTEND;TZID=America/Los_Angeles:20260903T201500
DTSTAMP:20260420T032607
CREATED:20260128T004942Z
LAST-MODIFIED:20260128T004943Z
UID:10001326-1788454800-1788466500@piercegop.org
SUMMARY:27th LD PCO Meeting
DESCRIPTION:What: This is the monthly business meeting for the Republican 27th Legislative District Committee. \nOpen to: PCOs\, PCs and currently active Volunteers \nGuests: This is a closed business meeting. PCOs wishing to bring a guest should advise them that they may be asked to step out if the meeting enters executive session. If you are not yet connected with the party and wish to join us\, please send an email to the organizer address for this event.
URL:https://piercegop.org/event/27th-district-monthly-pco-meeting-2-2/2026-09-03/
LOCATION:Poodle Dog Resturant\, 1522 54th Ave. East\, Fife\, WA\, 98424\, United States
CATEGORIES:27th District
ATTACH;FMTTYPE=image/png:https://piercegop.org/wp-content/uploads/2024/07/27th-District.png
ORGANIZER;CN="27th Legislative District Republicans":MAILTO:27thdistrict@piercegop.com
END:VEVENT
BEGIN:VEVENT
DTSTART;TZID=America/Los_Angeles:20261001T170000
DTEND;TZID=America/Los_Angeles:20261001T201500
DTSTAMP:20260420T032607
CREATED:20260128T004942Z
LAST-MODIFIED:20260128T004943Z
UID:10001327-1790874000-1790885700@piercegop.org
SUMMARY:27th LD PCO Meeting
DESCRIPTION:What: This is the monthly business meeting for the Republican 27th Legislative District Committee. \nOpen to: PCOs\, PCs and currently active Volunteers \nGuests: This is a closed business meeting. PCOs wishing to bring a guest should advise them that they may be asked to step out if the meeting enters executive session. If you are not yet connected with the party and wish to join us\, please send an email to the organizer address for this event.
URL:https://piercegop.org/event/27th-district-monthly-pco-meeting-2-2/2026-10-01/
LOCATION:Poodle Dog Resturant\, 1522 54th Ave. East\, Fife\, WA\, 98424\, United States
CATEGORIES:27th District
ATTACH;FMTTYPE=image/png:https://piercegop.org/wp-content/uploads/2024/07/27th-District.png
ORGANIZER;CN="27th Legislative District Republicans":MAILTO:27thdistrict@piercegop.com
END:VEVENT
BEGIN:VEVENT
DTSTART;TZID=America/Los_Angeles:20261105T170000
DTEND;TZID=America/Los_Angeles:20261105T201500
DTSTAMP:20260420T032607
CREATED:20260128T004942Z
LAST-MODIFIED:20260128T004943Z
UID:10001328-1793898000-1793909700@piercegop.org
SUMMARY:27th LD PCO Meeting
DESCRIPTION:What: This is the monthly business meeting for the Republican 27th Legislative District Committee. \nOpen to: PCOs\, PCs and currently active Volunteers \nGuests: This is a closed business meeting. PCOs wishing to bring a guest should advise them that they may be asked to step out if the meeting enters executive session. If you are not yet connected with the party and wish to join us\, please send an email to the organizer address for this event.
URL:https://piercegop.org/event/27th-district-monthly-pco-meeting-2-2/2026-11-05/
LOCATION:Poodle Dog Resturant\, 1522 54th Ave. East\, Fife\, WA\, 98424\, United States
CATEGORIES:27th District
ATTACH;FMTTYPE=image/png:https://piercegop.org/wp-content/uploads/2024/07/27th-District.png
ORGANIZER;CN="27th Legislative District Republicans":MAILTO:27thdistrict@piercegop.com
END:VEVENT
END:VCALENDAR